BEGIN:VCALENDAR
VERSION:2.0
PRODID:-//Copper Canyon Press - ECPv6.15.16//NONSGML v1.0//EN
CALSCALE:GREGORIAN
METHOD:PUBLISH
X-ORIGINAL-URL:https://www.coppercanyonpress.org
X-WR-CALDESC:Events for Copper Canyon Press
REFRESH-INTERVAL;VALUE=DURATION:PT1H
X-Robots-Tag:noindex
X-PUBLISHED-TTL:PT1H
BEGIN:VTIMEZONE
TZID:America/New_York
BEGIN:DAYLIGHT
TZOFFSETFROM:-0500
TZOFFSETTO:-0400
TZNAME:EDT
DTSTART:20210314T070000
END:DAYLIGHT
BEGIN:STANDARD
TZOFFSETFROM:-0400
TZOFFSETTO:-0500
TZNAME:EST
DTSTART:20211107T060000
END:STANDARD
BEGIN:DAYLIGHT
TZOFFSETFROM:-0500
TZOFFSETTO:-0400
TZNAME:EDT
DTSTART:20220313T070000
END:DAYLIGHT
BEGIN:STANDARD
TZOFFSETFROM:-0400
TZOFFSETTO:-0500
TZNAME:EST
DTSTART:20221106T060000
END:STANDARD
BEGIN:DAYLIGHT
TZOFFSETFROM:-0500
TZOFFSETTO:-0400
TZNAME:EDT
DTSTART:20230312T070000
END:DAYLIGHT
BEGIN:STANDARD
TZOFFSETFROM:-0400
TZOFFSETTO:-0500
TZNAME:EST
DTSTART:20231105T060000
END:STANDARD
END:VTIMEZONE
BEGIN:VEVENT
DTSTART;TZID=America/New_York:20221020T190000
DTEND;TZID=America/New_York:20221020T190000
DTSTAMP:20260424T141923
CREATED:20221018T150728Z
LAST-MODIFIED:20221018T150728Z
UID:8273-1666292400-1666292400@www.coppercanyonpress.org
SUMMARY:Dana Levin\, Alberto Ríos and Ishion Hutchinson for an Evening of Poetry at Georgia Tech
DESCRIPTION:Join Dana Levin\, Alberto Ríos\, and Ishion Hutchinson for the 21st Annual Bourne Poetry Reading on October 20th\, 2022 at 7 PM ET. \nFrom the organizers: As always\, this reading is FREE and open to the public. and will take place virtually via Zoom. \nTo attend the reading on 20 October 2022\, follow the instructions below. The reading will begin at 7 pm Eastern Time\, but our (virtual) doors open at 6:45 pm Eastern Time. \nJoining the reading is easy – just choose the platform that works best for you\, and follow the instructions below: \nhttps://gatech.zoom.us/j/99268967767 \nFor more information\, contact Travis Denton via email at travis.denton@lmc.gatech.edu .
URL:https://www.coppercanyonpress.org/event/dana-levin-alberto-rios-and-ishion-hutchinson-for-an-evening-of-poetry-at-georgia-tech/
CATEGORIES:Online
END:VEVENT
END:VCALENDAR