BEGIN:VCALENDAR
VERSION:2.0
PRODID:-//Copper Canyon Press - ECPv6.15.16//NONSGML v1.0//EN
CALSCALE:GREGORIAN
METHOD:PUBLISH
X-WR-CALNAME:Copper Canyon Press
X-ORIGINAL-URL:https://www.coppercanyonpress.org
X-WR-CALDESC:Events for Copper Canyon Press
REFRESH-INTERVAL;VALUE=DURATION:PT1H
X-Robots-Tag:noindex
X-PUBLISHED-TTL:PT1H
BEGIN:VTIMEZONE
TZID:America/Los_Angeles
BEGIN:DAYLIGHT
TZOFFSETFROM:-0800
TZOFFSETTO:-0700
TZNAME:PDT
DTSTART:20210314T100000
END:DAYLIGHT
BEGIN:STANDARD
TZOFFSETFROM:-0700
TZOFFSETTO:-0800
TZNAME:PST
DTSTART:20211107T090000
END:STANDARD
BEGIN:DAYLIGHT
TZOFFSETFROM:-0800
TZOFFSETTO:-0700
TZNAME:PDT
DTSTART:20220313T100000
END:DAYLIGHT
BEGIN:STANDARD
TZOFFSETFROM:-0700
TZOFFSETTO:-0800
TZNAME:PST
DTSTART:20221106T090000
END:STANDARD
BEGIN:DAYLIGHT
TZOFFSETFROM:-0800
TZOFFSETTO:-0700
TZNAME:PDT
DTSTART:20230312T100000
END:DAYLIGHT
BEGIN:STANDARD
TZOFFSETFROM:-0700
TZOFFSETTO:-0800
TZNAME:PST
DTSTART:20231105T090000
END:STANDARD
END:VTIMEZONE
BEGIN:VTIMEZONE
TZID:America/New_York
BEGIN:DAYLIGHT
TZOFFSETFROM:-0500
TZOFFSETTO:-0400
TZNAME:EDT
DTSTART:20210314T070000
END:DAYLIGHT
BEGIN:STANDARD
TZOFFSETFROM:-0400
TZOFFSETTO:-0500
TZNAME:EST
DTSTART:20211107T060000
END:STANDARD
BEGIN:DAYLIGHT
TZOFFSETFROM:-0500
TZOFFSETTO:-0400
TZNAME:EDT
DTSTART:20220313T070000
END:DAYLIGHT
BEGIN:STANDARD
TZOFFSETFROM:-0400
TZOFFSETTO:-0500
TZNAME:EST
DTSTART:20221106T060000
END:STANDARD
BEGIN:DAYLIGHT
TZOFFSETFROM:-0500
TZOFFSETTO:-0400
TZNAME:EDT
DTSTART:20230312T070000
END:DAYLIGHT
BEGIN:STANDARD
TZOFFSETFROM:-0400
TZOFFSETTO:-0500
TZNAME:EST
DTSTART:20231105T060000
END:STANDARD
END:VTIMEZONE
BEGIN:VEVENT
DTSTART;TZID=America/Los_Angeles:20221110T190000
DTEND;TZID=America/Los_Angeles:20221110T190000
DTSTAMP:20260424T044824
CREATED:20221018T151219Z
LAST-MODIFIED:20221018T151219Z
UID:8275-1668106800-1668106800@www.coppercanyonpress.org
SUMMARY:Carolyn Forché\, Ocean Vuong\, and Marilyn Chin at the 21st Annual Bourne Poetry Reading
DESCRIPTION:Join Ocean Vuong\, Carolyn Forche\, and Marilyn Chin for an evening of poetry from Georgia Tech at 7 PM ET on November 10th.  \nFrom the Organizers: \nThe reading is FREE and open to the public\, and will take place virtually via Zoom. Livestream links and other information are on tabs below. \nFor more information\, contact Travis Denton via email at travis.denton@lmc.gatech.edu .
URL:https://www.coppercanyonpress.org/event/carolyn-forche-ocean-vuong-and-marilyn-chin-at-the-21st-annual-bourne-poetry-reading/
CATEGORIES:Online
END:VEVENT
BEGIN:VEVENT
DTSTART;TZID=America/New_York:20221110T190000
DTEND;TZID=America/New_York:20221110T210000
DTSTAMP:20260424T044824
CREATED:20221017T152652Z
LAST-MODIFIED:20221017T152652Z
UID:8263-1668106800-1668114000@www.coppercanyonpress.org
SUMMARY:John Freeman Reading with Samiya Bashir at Lillian Vernon Creative Writers House\, NYU
DESCRIPTION:John Freeman will read with Samiya Bashir at 7 PM EST on Thursday\, November 10th. \nFrom the organizers: \nPoetry Reading: Samiya Bashir and John Freeman \nReadings by Samiya Bashir and John Freeman\, with a reception and book signing to follow. Please see below for more information about the authors. \nOpen to the public\nAll attendees are required to RSVP in advance; please click here \n***\nCOVID-19 Protocols (please read carefully)\nPer current NYU guidelines\, masks are optional. All NYU attendees will be required to show an NYU Violet Go pass at the door. Members of the public are required to adhere to the following: \nAge: Must be 5 years of age or older.\nIdentification: Must show a valid government-issued photo ID (children under 18 can provide non-government identification).\nVaccination: Must provide proof of being fully vaccinated against COVID-19 and boosted (if eligible\, based on CDC criteria) with an FDA-authorized or WHO-listed vaccine. Documentation must include: \n\nName\nBirthdate\nDates of doses\nVaccine manufacturer\nDocumentation must be in English\n\nNote: If the documentation proof you provide does not meet these requirements\, you will not be admitted. \nHealth and Safety Protocols: All attendees must comply with all COVID-19 health and safety protocols\, University policies\, codes of conduct\, and building-specific protocols. \n*** \nThe Lillian Vernon Creative Writers House is wheelchair accessible with at least two weeks advance notice; for this or any other accommodations\, please call the Creative Writing Program at 212.998.8816 or email creative.writing@nyu.edu.  \n  \nSamiya Bashir is a poet\, writer\, librettist\, performer\, and multi-media poetry maker whose work\, both solo and collaborative\, has been widely published\, performed\, installed\, printed\, screened\, experienced\, and Oxford comma’d from Berlin to Düsseldorf\, Amsterdam to Accra\, Florence to Rome and across the United States. Bashir is the author of three poetry collections\, most recently Field Theories\, winner of the 2018 Oregon Book Award’s Stafford/Hall Award for Poetry. Her honors include the Rome Prize in Literature\, the Pushcart Prize\, Oregon’s Arts & Culture Council Individual Artist Fellowship in Literature\, and two Michigan’s Hopwood Poetry Awards among numerous other awards\, grants\, fellowships\, and residencies. In addition to her books\, Bashir has served as editor to national magazines and anthologies of literature and artwork. In 2002 she was co-founder of Fire & Ink\, an advocacy organization and writer’s festival for LGBT writers of African descent with whom she worked through 2015. An Associate Professor at Reed College in Portland\, Oregon\, Bashir works to create\, employ\, and teach—within and without traditional academic setting—a restorative poetics which can acknowledge the despair often bred by isolation and turn it toward a poetics of light and its potential for witness\, for healing\, and for change. Bashir lives in Harlem. \nJohn Freeman founded the literary annual Freeman’s\, the latest theme of which is animals. He’s also an executive editor at Alfred A. Knopf. The author and editor of eleven books\, he lives in New York City and hosts the California Book Club\, a monthly discussion of a great work of literature from the Golden State for Alta magazine. His new book is Wind\, Trees\, a collection of poems. His work has been translated into more than twenty languages. 
URL:https://www.coppercanyonpress.org/event/john-freeman-reading-with-samiya-bashir-at-lillian-vernon-creative-writers-house-nyu/
LOCATION:Lilliann Vernon Creative Writers House\, 58 West 10th St.\, New York\,\, NY\, 10011
CATEGORIES:In Person
END:VEVENT
END:VCALENDAR