BEGIN:VCALENDAR
VERSION:2.0
PRODID:-//Copper Canyon Press - ECPv6.15.16//NONSGML v1.0//EN
CALSCALE:GREGORIAN
METHOD:PUBLISH
X-ORIGINAL-URL:https://www.coppercanyonpress.org
X-WR-CALDESC:Events for Copper Canyon Press
REFRESH-INTERVAL;VALUE=DURATION:PT1H
X-Robots-Tag:noindex
X-PUBLISHED-TTL:PT1H
BEGIN:VTIMEZONE
TZID:America/New_York
BEGIN:DAYLIGHT
TZOFFSETFROM:-0500
TZOFFSETTO:-0400
TZNAME:EDT
DTSTART:20210314T070000
END:DAYLIGHT
BEGIN:STANDARD
TZOFFSETFROM:-0400
TZOFFSETTO:-0500
TZNAME:EST
DTSTART:20211107T060000
END:STANDARD
BEGIN:DAYLIGHT
TZOFFSETFROM:-0500
TZOFFSETTO:-0400
TZNAME:EDT
DTSTART:20220313T070000
END:DAYLIGHT
BEGIN:STANDARD
TZOFFSETFROM:-0400
TZOFFSETTO:-0500
TZNAME:EST
DTSTART:20221106T060000
END:STANDARD
BEGIN:DAYLIGHT
TZOFFSETFROM:-0500
TZOFFSETTO:-0400
TZNAME:EDT
DTSTART:20230312T070000
END:DAYLIGHT
BEGIN:STANDARD
TZOFFSETFROM:-0400
TZOFFSETTO:-0500
TZNAME:EST
DTSTART:20231105T060000
END:STANDARD
END:VTIMEZONE
BEGIN:VEVENT
DTSTART;TZID=America/New_York:20221114T193000
DTEND;TZID=America/New_York:20221114T203000
DTSTAMP:20260423T213232
CREATED:20221017T153933Z
LAST-MODIFIED:20221017T154055Z
UID:8265-1668454200-1668457800@www.coppercanyonpress.org
SUMMARY:John Freeman and Deborah Landau
DESCRIPTION:Copper Canyon Press authors John Freeman and Deborah Landau will present from their new books at Greenlight Bookstore in Brooklyn at 7:30 PM ET on Monday\, Novemeber 14th. \nFrom the organizers: John Freeman—poet\, editor\, and founder of the literary annual Freeman’s—joins us along with prizewinning poet Deborah Landau for an evening of all things Copper Canyon Press. Freeman presents his newest book Wind\, Trees: a meditation on power and loss\, change and adaptation\, offering a stark moral critique of pandemic self-preservation—as “justifications grew / with greed like vines / up the side of a tree / taking everything.” Landau will preview her next collection\, Skeletons\, forthcoming from Copper Canyon in 2023. Join us for an evening contemplating the liberties and limitations of the poetic line from two of its contemporary masters.  \nRegisterfor this inperson event here.
URL:https://www.coppercanyonpress.org/event/john-freeman-and-deborah-landau/
LOCATION:Greenlight Bookstore\, 632 Flatbush Ave\, Brooklyn\, NY\, 11225
CATEGORIES:In Person
END:VEVENT
END:VCALENDAR