BEGIN:VCALENDAR
VERSION:2.0
PRODID:-//Copper Canyon Press - ECPv6.15.16//NONSGML v1.0//EN
CALSCALE:GREGORIAN
METHOD:PUBLISH
X-WR-CALNAME:Copper Canyon Press
X-ORIGINAL-URL:https://www.coppercanyonpress.org
X-WR-CALDESC:Events for Copper Canyon Press
REFRESH-INTERVAL;VALUE=DURATION:PT1H
X-Robots-Tag:noindex
X-PUBLISHED-TTL:PT1H
BEGIN:VTIMEZONE
TZID:America/New_York
BEGIN:DAYLIGHT
TZOFFSETFROM:-0500
TZOFFSETTO:-0400
TZNAME:EDT
DTSTART:20210314T070000
END:DAYLIGHT
BEGIN:STANDARD
TZOFFSETFROM:-0400
TZOFFSETTO:-0500
TZNAME:EST
DTSTART:20211107T060000
END:STANDARD
BEGIN:DAYLIGHT
TZOFFSETFROM:-0500
TZOFFSETTO:-0400
TZNAME:EDT
DTSTART:20220313T070000
END:DAYLIGHT
BEGIN:STANDARD
TZOFFSETFROM:-0400
TZOFFSETTO:-0500
TZNAME:EST
DTSTART:20221106T060000
END:STANDARD
BEGIN:DAYLIGHT
TZOFFSETFROM:-0500
TZOFFSETTO:-0400
TZNAME:EDT
DTSTART:20230312T070000
END:DAYLIGHT
BEGIN:STANDARD
TZOFFSETFROM:-0400
TZOFFSETTO:-0500
TZNAME:EST
DTSTART:20231105T060000
END:STANDARD
END:VTIMEZONE
BEGIN:VEVENT
DTSTART;TZID=America/New_York:20221119T120000
DTEND;TZID=America/New_York:20221119T170000
DTSTAMP:20260424T044823
CREATED:20221017T155728Z
LAST-MODIFIED:20221017T155818Z
UID:8268-1668859200-1668877200@www.coppercanyonpress.org
SUMMARY:John Freeman\, Victoria Chang\, Peter Balakian\, and Victoria Redel on “Redemption\, Refuge\, and Release”
DESCRIPTION:Join John Freeman\, Victoria Chang\, Peter Balakian\, and Jennifer Redel for a panel discussion of “Redemption\, Refuge\, and Release\,” at the Miami Book Fair on Saturday November 19th at 12 PM ET.  \nFrom the Organizers:\nWhether meditating on the sensuality of fruits and vegetables\, the COVID-19 pandemic\, the trauma and memory of the Armenian genocide\, James Baldwin in France\, or Arshile Gorky in New York City\, Peter Balakian‘s layered\, elliptical language\, wired phrases\, and shifting tempos in No Sign engage both life’s harshness and beauty and define his inventive and distinctive style. In The Trees Witness Everything\, Victoria Chang turns to compact Japanese syllabic forms called “wakas\,” powerfully innovating on tradition while continuing her pursuit of one of life’s hardest questions: how to let go. What can the trees teach us about inhabiting space together? John Freeman studies the devastating failings of humanity and the redemptive possibilities of love in Wind\, Trees. And drawing from a long family history of flight and refuge to rewrite Eden\, the poems in Victoria Redel‘s Paradise interweave religion and myth\, personal lore and nation-building\, borders actual and imagined\, asking: What if what we fell from was never\, actually\, grace?
URL:https://www.coppercanyonpress.org/event/john-freeman-victoria-chang-peter-balakian-and-victoria-redel-on-redemption-refuge-and-release/
LOCATION:Miami Dade College\, Room 6100 (Building 6\, 1st Floor) 300 NE Second Ave.\, Miami\, FL\, 33132
CATEGORIES:In Person
END:VEVENT
END:VCALENDAR