BEGIN:VCALENDAR
VERSION:2.0
PRODID:-//Copper Canyon Press - ECPv6.15.16//NONSGML v1.0//EN
CALSCALE:GREGORIAN
METHOD:PUBLISH
X-WR-CALNAME:Copper Canyon Press
X-ORIGINAL-URL:https://www.coppercanyonpress.org
X-WR-CALDESC:Events for Copper Canyon Press
REFRESH-INTERVAL;VALUE=DURATION:PT1H
X-Robots-Tag:noindex
X-PUBLISHED-TTL:PT1H
BEGIN:VTIMEZONE
TZID:America/Chicago
BEGIN:DAYLIGHT
TZOFFSETFROM:-0600
TZOFFSETTO:-0500
TZNAME:CDT
DTSTART:20220313T080000
END:DAYLIGHT
BEGIN:STANDARD
TZOFFSETFROM:-0500
TZOFFSETTO:-0600
TZNAME:CST
DTSTART:20221106T070000
END:STANDARD
BEGIN:DAYLIGHT
TZOFFSETFROM:-0600
TZOFFSETTO:-0500
TZNAME:CDT
DTSTART:20230312T080000
END:DAYLIGHT
BEGIN:STANDARD
TZOFFSETFROM:-0500
TZOFFSETTO:-0600
TZNAME:CST
DTSTART:20231105T070000
END:STANDARD
BEGIN:DAYLIGHT
TZOFFSETFROM:-0600
TZOFFSETTO:-0500
TZNAME:CDT
DTSTART:20240310T080000
END:DAYLIGHT
BEGIN:STANDARD
TZOFFSETFROM:-0500
TZOFFSETTO:-0600
TZNAME:CST
DTSTART:20241103T070000
END:STANDARD
END:VTIMEZONE
BEGIN:VEVENT
DTSTART;TZID=America/Chicago:20230306T070000
DTEND;TZID=America/Chicago:20230306T200000
DTSTAMP:20260422T001341
CREATED:20230224T172904Z
LAST-MODIFIED:20230224T173054Z
UID:8697-1678086000-1678132800@www.coppercanyonpress.org
SUMMARY:John Freeman Reading & Conversation with Su Hwang & Michael Kleber-Diggs
DESCRIPTION:From the Organizers: \n“Please join us on Monday\, March 6th at 7:00pm for a free\, in-person\, masked event at Moon Palace Books to welcome poet\, essayist\, editor\, and literary critic John Freeman\, who will be reading from his recent third poetry collection\, WIND\, TREES\, published with Copper Canyon Press in October 2022. \nHe will be joined by Twin Cities-based poets Su Hwang and Michael Kleber-Diggs for a reading and conversation about poetry and literary activism. There will also be time for audience Q&A with John Freeman. \nFormerly the Executive Editor of Literary Hub\, John Freeman co-edited with former U.S. Poet Laureate Tracy K. Smith the anthology THERE’S A REVOLUTION OUTSIDE\, MY LOVE\, which included essays by Su Hwang and Michael Kleber-Diggs\, following the murder of George Floyd.” \n**This is an in-person event. Masks are required in store. Social Distancing is encouraged.**
URL:https://www.coppercanyonpress.org/event/john-freeman-reading-conversation-with-su-hwang-michael-kleber-diggs/
LOCATION:Moon Palace Books\, 3032 Minnehaha Ave.\, Minneapolis\, MN\, 55406\, United States
CATEGORIES:In Person
END:VEVENT
END:VCALENDAR