BEGIN:VCALENDAR
VERSION:2.0
PRODID:-//Copper Canyon Press - ECPv6.15.16//NONSGML v1.0//EN
CALSCALE:GREGORIAN
METHOD:PUBLISH
X-ORIGINAL-URL:https://www.coppercanyonpress.org
X-WR-CALDESC:Events for Copper Canyon Press
REFRESH-INTERVAL;VALUE=DURATION:PT1H
X-Robots-Tag:noindex
X-PUBLISHED-TTL:PT1H
BEGIN:VTIMEZONE
TZID:America/Chicago
BEGIN:DAYLIGHT
TZOFFSETFROM:-0600
TZOFFSETTO:-0500
TZNAME:CDT
DTSTART:20220313T080000
END:DAYLIGHT
BEGIN:STANDARD
TZOFFSETFROM:-0500
TZOFFSETTO:-0600
TZNAME:CST
DTSTART:20221106T070000
END:STANDARD
BEGIN:DAYLIGHT
TZOFFSETFROM:-0600
TZOFFSETTO:-0500
TZNAME:CDT
DTSTART:20230312T080000
END:DAYLIGHT
BEGIN:STANDARD
TZOFFSETFROM:-0500
TZOFFSETTO:-0600
TZNAME:CST
DTSTART:20231105T070000
END:STANDARD
BEGIN:DAYLIGHT
TZOFFSETFROM:-0600
TZOFFSETTO:-0500
TZNAME:CDT
DTSTART:20240310T080000
END:DAYLIGHT
BEGIN:STANDARD
TZOFFSETFROM:-0500
TZOFFSETTO:-0600
TZNAME:CST
DTSTART:20241103T070000
END:STANDARD
END:VTIMEZONE
BEGIN:VEVENT
DTSTART;TZID=America/Chicago:20230308T190000
DTEND;TZID=America/Chicago:20230308T200000
DTSTAMP:20260422T015239
CREATED:20230228T052243Z
LAST-MODIFIED:20230228T052242Z
UID:8704-1678302000-1678305600@www.coppercanyonpress.org
SUMMARY:Orion Magazine Presents: A Reading with John Freeman
DESCRIPTION:From the organizers: \n“Orion Magazine contributing writer\, John Freeman\, author\, poet\, executive editor at Alfred A. Knopf\, and founder of the literary journal Freeman’s will be making a stop in Cleveland on his tour of independent books stores. \nJoin us at the Nature Center at Shaker Lakes on Wednesday\, March 8th at 7 pm for a refreshing and invigorating conversation between John Freeman and Literary Cleveland’s executive director\, Matt Weinkam. Books will be available at the event courtesy of Mac’s Backs-Books on Coventry or stop by the store to pick up a copy of Freeman’s poetry collection\, Wind\, Trees (Copper Canyon 2022)\, Tales of Two Planets\, a collection of essays focusing on inequality and the climate crisis\, and the recent Freeman’s anthology\, Animals. Mac’s Backs will be donating a portion of profits to the Nature Center.  This event is sponsored by Orion Magazine in partnership with the Nature Center. This is a free public program and donations to the Nature Center are welcome. Registration is required.” \nRegister here: https://shakerlakes.doubleknot.com/event/john-freeman-in-conversation-with-matt-weinkam/2964999
URL:https://www.coppercanyonpress.org/event/orion-magazine-presents-a-reading-with-john-freeman/
LOCATION:Nature Center at Shaker Lakes\, 2600 South Park Blvd.\, Cleveland\, OH\, 44120\, United States
CATEGORIES:In Person
END:VEVENT
END:VCALENDAR