BEGIN:VCALENDAR
VERSION:2.0
PRODID:-//Copper Canyon Press - ECPv6.15.16//NONSGML v1.0//EN
CALSCALE:GREGORIAN
METHOD:PUBLISH
X-WR-CALNAME:Copper Canyon Press
X-ORIGINAL-URL:https://www.coppercanyonpress.org
X-WR-CALDESC:Events for Copper Canyon Press
REFRESH-INTERVAL;VALUE=DURATION:PT1H
X-Robots-Tag:noindex
X-PUBLISHED-TTL:PT1H
BEGIN:VTIMEZONE
TZID:Europe/London
BEGIN:DAYLIGHT
TZOFFSETFROM:+0000
TZOFFSETTO:+0100
TZNAME:BST
DTSTART:20220327T010000
END:DAYLIGHT
BEGIN:STANDARD
TZOFFSETFROM:+0100
TZOFFSETTO:+0000
TZNAME:GMT
DTSTART:20221030T010000
END:STANDARD
BEGIN:DAYLIGHT
TZOFFSETFROM:+0000
TZOFFSETTO:+0100
TZNAME:BST
DTSTART:20230326T010000
END:DAYLIGHT
BEGIN:STANDARD
TZOFFSETFROM:+0100
TZOFFSETTO:+0000
TZNAME:GMT
DTSTART:20231029T010000
END:STANDARD
BEGIN:DAYLIGHT
TZOFFSETFROM:+0000
TZOFFSETTO:+0100
TZNAME:BST
DTSTART:20240331T010000
END:DAYLIGHT
BEGIN:STANDARD
TZOFFSETFROM:+0100
TZOFFSETTO:+0000
TZNAME:GMT
DTSTART:20241027T010000
END:STANDARD
END:VTIMEZONE
BEGIN:VEVENT
DTSTART;TZID=Europe/London:20230331T190000
DTEND;TZID=Europe/London:20230331T200000
DTSTAMP:20260421T224657
CREATED:20230324T175108Z
LAST-MODIFIED:20230324T175108Z
UID:8780-1680289200-1680292800@www.coppercanyonpress.org
SUMMARY:Lovecrumbs Readings presents A Night of Poetry featuring Randall Mann
DESCRIPTION:From the organizers: \n“On Friday March 31st\, we’re back for another chilled night of poetry\, wine\, and cake at Lovecrumbs Café in Edinburgh. Featuring readings from: Randall Mann\, Rosa Campbell\, Helena Fornells Nadal\, Caleb Nichols\, and Nasim Rebecca Asl. \nDoors open at 6.30pm (ish). Readings starting around 7.00pm (ish).” \n  \n  \n 
URL:https://www.coppercanyonpress.org/event/lovecrumbs-readings-presents-a-night-of-poetry-featuring-randall-mann/
LOCATION:Lovecrumbs Café\, 155 West Port\, Edinburgh\, EH3 9DP\, United Kingdom
CATEGORIES:In Person
END:VEVENT
END:VCALENDAR