BEGIN:VCALENDAR
VERSION:2.0
PRODID:-//Copper Canyon Press - ECPv6.15.16//NONSGML v1.0//EN
CALSCALE:GREGORIAN
METHOD:PUBLISH
X-ORIGINAL-URL:https://www.coppercanyonpress.org
X-WR-CALDESC:Events for Copper Canyon Press
REFRESH-INTERVAL;VALUE=DURATION:PT1H
X-Robots-Tag:noindex
X-PUBLISHED-TTL:PT1H
BEGIN:VTIMEZONE
TZID:America/Los_Angeles
BEGIN:DAYLIGHT
TZOFFSETFROM:-0800
TZOFFSETTO:-0700
TZNAME:PDT
DTSTART:20220313T100000
END:DAYLIGHT
BEGIN:STANDARD
TZOFFSETFROM:-0700
TZOFFSETTO:-0800
TZNAME:PST
DTSTART:20221106T090000
END:STANDARD
BEGIN:DAYLIGHT
TZOFFSETFROM:-0800
TZOFFSETTO:-0700
TZNAME:PDT
DTSTART:20230312T100000
END:DAYLIGHT
BEGIN:STANDARD
TZOFFSETFROM:-0700
TZOFFSETTO:-0800
TZNAME:PST
DTSTART:20231105T090000
END:STANDARD
BEGIN:DAYLIGHT
TZOFFSETFROM:-0800
TZOFFSETTO:-0700
TZNAME:PDT
DTSTART:20240310T100000
END:DAYLIGHT
BEGIN:STANDARD
TZOFFSETFROM:-0700
TZOFFSETTO:-0800
TZNAME:PST
DTSTART:20241103T090000
END:STANDARD
END:VTIMEZONE
BEGIN:VEVENT
DTSTART;TZID=America/Los_Angeles:20230506T130000
DTEND;TZID=America/Los_Angeles:20230506T140000
DTSTAMP:20260422T015241
CREATED:20230503T165945Z
LAST-MODIFIED:20230503T165945Z
UID:9077-1683378000-1683381600@www.coppercanyonpress.org
SUMMARY:Poetry and the Archives of History with Paisley Rekdal
DESCRIPTION:From The Bay Area Book Festival:  \n“In this session\, we’ll hear from those who instead look at archives and envision poetry. In West: A Translation\, poet Paisley Rekdal vividly documents how the heroic narrative of the transcontinental railroad is intertwined with the history of Chinese exclusion. We’ll also hear from poet Anthony Cody whose collection Borderland Apocrypha\, longlisted for PEN America’s Jean Stein Book Award\, blends centers on the ongoing legacy of trauma along the US–Mexico border after the end of the Mexican–American War.   \nLeading this conversation through past and present is poet Tess Taylor\, whose own Last West: Roadsongs for Dorothea Lange collages Lange’s photographs and journals with Taylor’s poetry.” \nThis event will take place Saturday May 6th from 1:00–2:00pm PDT and is free to the public.  \n 
URL:https://www.coppercanyonpress.org/event/poetry-and-the-archives-of-history-with-paisley-rekdal/
LOCATION:Marsh Cabaret Bar\, 2120 Allston Way\, Berkeley\, CA\, 94704\, United States
CATEGORIES:In Person
END:VEVENT
END:VCALENDAR