BEGIN:VCALENDAR
VERSION:2.0
PRODID:-//Copper Canyon Press - ECPv6.15.16//NONSGML v1.0//EN
CALSCALE:GREGORIAN
METHOD:PUBLISH
X-WR-CALNAME:Copper Canyon Press
X-ORIGINAL-URL:https://www.coppercanyonpress.org
X-WR-CALDESC:Events for Copper Canyon Press
REFRESH-INTERVAL;VALUE=DURATION:PT1H
X-Robots-Tag:noindex
X-PUBLISHED-TTL:PT1H
BEGIN:VTIMEZONE
TZID:America/New_York
BEGIN:DAYLIGHT
TZOFFSETFROM:-0500
TZOFFSETTO:-0400
TZNAME:EDT
DTSTART:20220313T070000
END:DAYLIGHT
BEGIN:STANDARD
TZOFFSETFROM:-0400
TZOFFSETTO:-0500
TZNAME:EST
DTSTART:20221106T060000
END:STANDARD
BEGIN:DAYLIGHT
TZOFFSETFROM:-0500
TZOFFSETTO:-0400
TZNAME:EDT
DTSTART:20230312T070000
END:DAYLIGHT
BEGIN:STANDARD
TZOFFSETFROM:-0400
TZOFFSETTO:-0500
TZNAME:EST
DTSTART:20231105T060000
END:STANDARD
BEGIN:DAYLIGHT
TZOFFSETFROM:-0500
TZOFFSETTO:-0400
TZNAME:EDT
DTSTART:20240310T070000
END:DAYLIGHT
BEGIN:STANDARD
TZOFFSETFROM:-0400
TZOFFSETTO:-0500
TZNAME:EST
DTSTART:20241103T060000
END:STANDARD
END:VTIMEZONE
BEGIN:VEVENT
DTSTART;TZID=America/New_York:20230523T110000
DTEND;TZID=America/New_York:20230523T123000
DTSTAMP:20260422T001340
CREATED:20230307T231743Z
LAST-MODIFIED:20230307T231743Z
UID:8739-1684839600-1684845000@www.coppercanyonpress.org
SUMMARY:Natalie Diaz and Adam Falk at Phi Beta Kappa Literary Exercises
DESCRIPTION:From the organizers: \n“THE POET AND ORATOR at the 2023 Phi Beta Kappa Literary Exercises—the traditional\, academic opening event of Harvard’s Commencement-week celebrations—will be Natalie Diaz and Adam Falk\, Ph.D. ’91. They are scheduled to appear on Tuesday morning\, May 23\, in Sanders Theatre. \nThe Literary Exercises (this will be the 231st iteration) celebrate undergraduate academic excellence\, recognize outstanding students’ nominees for formative teaching\, and typically nod toward the arts (the poet) and the wider society (the orator). They thus bridge the academic labors leading up to graduation\, and the celebratory hoopla to follow two days later\, in Tercentenary Theatre.”
URL:https://www.coppercanyonpress.org/event/natalie-diaz-and-adam-falk-at-phi-beta-kappa-literary-exercises/
LOCATION:Sanders Theatre\, 45 Quincy Street\, Cambridge\, MA\, 02138\, United States
CATEGORIES:In Person
END:VEVENT
END:VCALENDAR