BEGIN:VCALENDAR
VERSION:2.0
PRODID:-//Copper Canyon Press - ECPv6.15.16//NONSGML v1.0//EN
CALSCALE:GREGORIAN
METHOD:PUBLISH
X-ORIGINAL-URL:https://www.coppercanyonpress.org
X-WR-CALDESC:Events for Copper Canyon Press
REFRESH-INTERVAL;VALUE=DURATION:PT1H
X-Robots-Tag:noindex
X-PUBLISHED-TTL:PT1H
BEGIN:VTIMEZONE
TZID:America/Los_Angeles
BEGIN:DAYLIGHT
TZOFFSETFROM:-0800
TZOFFSETTO:-0700
TZNAME:PDT
DTSTART:20220313T100000
END:DAYLIGHT
BEGIN:STANDARD
TZOFFSETFROM:-0700
TZOFFSETTO:-0800
TZNAME:PST
DTSTART:20221106T090000
END:STANDARD
BEGIN:DAYLIGHT
TZOFFSETFROM:-0800
TZOFFSETTO:-0700
TZNAME:PDT
DTSTART:20230312T100000
END:DAYLIGHT
BEGIN:STANDARD
TZOFFSETFROM:-0700
TZOFFSETTO:-0800
TZNAME:PST
DTSTART:20231105T090000
END:STANDARD
BEGIN:DAYLIGHT
TZOFFSETFROM:-0800
TZOFFSETTO:-0700
TZNAME:PDT
DTSTART:20240310T100000
END:DAYLIGHT
BEGIN:STANDARD
TZOFFSETFROM:-0700
TZOFFSETTO:-0800
TZNAME:PST
DTSTART:20241103T090000
END:STANDARD
END:VTIMEZONE
BEGIN:VEVENT
DTSTART;VALUE=DATE:20230619
DTEND;VALUE=DATE:20230626
DTSTAMP:20260422T145111
CREATED:20230218T043035Z
LAST-MODIFIED:20230218T043035Z
UID:8668-1687132800-1687737599@www.coppercanyonpress.org
SUMMARY:Community of Writers Poetry Program taught by Victoria Chang\, Kazim Ali\, Forrest Gander\, Carmen Giménez\, Brenda Hillman\, and Evie Shockley
DESCRIPTION:From the organizers: \n“The Poetry Program at the Community of Writers is founded on the belief that when poets gather in a community to write new poems\, each poet may well break through old habits and write something stronger and truer than before. To help this happen we work together to create an atmosphere in which everyone might feel free to try anything. In the mornings we meet in workshops to read to each other the work of the previous twenty-four hours; each participant also has an opportunity to work with each staff poet. In the late afternoons we gather for a conversation about some aspect of craft. On several afternoons staff poets hold brief individual conferences. Director: Brenda Hillman. \nTuition for the Poetry Program is $1450 and includes six evening meals. Financial aid is available; requests for our limited financial aid can be made in the Application Form. Admissions are based on submitted manuscripts. Please Note: Tuition does not include housing costs. See Housing and Meals. See Fees & Deadlines\, below. \nNote: We make no admissions decisions before all the submissions have been read and evaluated. The Application Form link is at the bottom of the page. \nDeadline for receipt of application/submission is March 28\, 2023.”  \nApply here: https://communityofwriters.org/workshops/poetry-application/
URL:https://www.coppercanyonpress.org/event/community-of-writers-poetry-program-taught-by-victoria-chang-kazim-ali-forrest-gander-carmen-gimenez-brenda-hillman-and-evie-shockley/
LOCATION:Palisades Tahoe\, CA\, 96146\, United States
CATEGORIES:In Person
END:VEVENT
END:VCALENDAR