BEGIN:VCALENDAR
VERSION:2.0
PRODID:-//Copper Canyon Press - ECPv6.15.16//NONSGML v1.0//EN
CALSCALE:GREGORIAN
METHOD:PUBLISH
X-WR-CALNAME:Copper Canyon Press
X-ORIGINAL-URL:https://www.coppercanyonpress.org
X-WR-CALDESC:Events for Copper Canyon Press
REFRESH-INTERVAL;VALUE=DURATION:PT1H
X-Robots-Tag:noindex
X-PUBLISHED-TTL:PT1H
BEGIN:VTIMEZONE
TZID:America/Los_Angeles
BEGIN:DAYLIGHT
TZOFFSETFROM:-0800
TZOFFSETTO:-0700
TZNAME:PDT
DTSTART:20220313T100000
END:DAYLIGHT
BEGIN:STANDARD
TZOFFSETFROM:-0700
TZOFFSETTO:-0800
TZNAME:PST
DTSTART:20221106T090000
END:STANDARD
BEGIN:DAYLIGHT
TZOFFSETFROM:-0800
TZOFFSETTO:-0700
TZNAME:PDT
DTSTART:20230312T100000
END:DAYLIGHT
BEGIN:STANDARD
TZOFFSETFROM:-0700
TZOFFSETTO:-0800
TZNAME:PST
DTSTART:20231105T090000
END:STANDARD
BEGIN:DAYLIGHT
TZOFFSETFROM:-0800
TZOFFSETTO:-0700
TZNAME:PDT
DTSTART:20240310T100000
END:DAYLIGHT
BEGIN:STANDARD
TZOFFSETFROM:-0700
TZOFFSETTO:-0800
TZNAME:PST
DTSTART:20241103T090000
END:STANDARD
END:VTIMEZONE
BEGIN:VTIMEZONE
TZID:America/New_York
BEGIN:DAYLIGHT
TZOFFSETFROM:-0500
TZOFFSETTO:-0400
TZNAME:EDT
DTSTART:20220313T070000
END:DAYLIGHT
BEGIN:STANDARD
TZOFFSETFROM:-0400
TZOFFSETTO:-0500
TZNAME:EST
DTSTART:20221106T060000
END:STANDARD
BEGIN:DAYLIGHT
TZOFFSETFROM:-0500
TZOFFSETTO:-0400
TZNAME:EDT
DTSTART:20230312T070000
END:DAYLIGHT
BEGIN:STANDARD
TZOFFSETFROM:-0400
TZOFFSETTO:-0500
TZNAME:EST
DTSTART:20231105T060000
END:STANDARD
BEGIN:DAYLIGHT
TZOFFSETFROM:-0500
TZOFFSETTO:-0400
TZNAME:EDT
DTSTART:20240310T070000
END:DAYLIGHT
BEGIN:STANDARD
TZOFFSETFROM:-0400
TZOFFSETTO:-0500
TZNAME:EST
DTSTART:20241103T060000
END:STANDARD
END:VTIMEZONE
BEGIN:VEVENT
DTSTART;TZID=America/Los_Angeles:20230831T160000
DTEND;TZID=America/Los_Angeles:20230928T180000
DTSTAMP:20260419T181510
CREATED:20230428T141846Z
LAST-MODIFIED:20230428T141950Z
UID:9061-1693497600-1695924000@www.coppercanyonpress.org
SUMMARY:The Community of Writers Presents A Short Course: C.D. Wright — An American Original
DESCRIPTION:From the organizers: \n“The Community of Writers is honored to present a five-week intensive series on the life and work of poet C.D. Wright taught by Pulitzer Prize-winning poet Forrest Gander and Griffin Poetry Prize-winning poet Brenda Hillman. Gander and  Hillman will guide participants through an overview of Wright’s extraordinary writing. The course will be designed for those who know Wright’s work already\, as well as for those encountering her poetry for the first time. \nClasses will take place every Thursday from August 31st – September 28th at 4:00 – 6:00pm PDT. For those who are interested\, intimate Zoom discussion groups (Virtual Houses) will meet after each session and on subsequent Saturdays at 10:00am.” \nTo register\, visit: https://communityofwriters.org/register-for-the-short-course-on-c-d-wright/ \n \n  \n  \n 
URL:https://www.coppercanyonpress.org/event/the-community-of-writers-presents-a-short-course-c-d-wright-an-american-original/
CATEGORIES:Online
END:VEVENT
BEGIN:VEVENT
DTSTART;TZID=America/New_York:20230928T180000
DTEND;TZID=America/New_York:20230928T193000
DTSTAMP:20260419T181510
CREATED:20230928T202837Z
LAST-MODIFIED:20230928T202837Z
UID:9457-1695924000-1695929400@www.coppercanyonpress.org
SUMMARY:UMass English MFA Presents Lisa Olstein\, Visiting Writers Series
DESCRIPTION:UMass English MFA for Poets & Writers Presents Lisa Olstein\, Visiting Writers Series on Thursday September 28th 6:00pm – 7:30pm Eastern Time \nFrom the organizers: \n“Celebrating 60 Years of the UMass English MFA for Poets & Writers \nVisiting Writers Series no. 1 // Fall 2023 \nJoin us for the first installment of the Visiting Writers Series (VWS) with UMass MFA alum\, LISA OLSTEIN. \nFree & open to the public. Reading with Q&A to follow.” \nFor more information: https://www.umass.edu/englishmfa/event/visiting-writers-series-lisa-olstein \n 
URL:https://www.coppercanyonpress.org/event/umass-english-mfa-presents-lisa-olstein-visiting-writers-series/
LOCATION:Old Chapel\, 144 Hicks Way\, Amherst\, MA\, 01002\, United States
CATEGORIES:In Person
END:VEVENT
END:VCALENDAR