BEGIN:VCALENDAR
VERSION:2.0
PRODID:-//Copper Canyon Press - ECPv6.15.16//NONSGML v1.0//EN
CALSCALE:GREGORIAN
METHOD:PUBLISH
X-ORIGINAL-URL:https://www.coppercanyonpress.org
X-WR-CALDESC:Events for Copper Canyon Press
REFRESH-INTERVAL;VALUE=DURATION:PT1H
X-Robots-Tag:noindex
X-PUBLISHED-TTL:PT1H
BEGIN:VTIMEZONE
TZID:America/Los_Angeles
BEGIN:DAYLIGHT
TZOFFSETFROM:-0800
TZOFFSETTO:-0700
TZNAME:PDT
DTSTART:20220313T100000
END:DAYLIGHT
BEGIN:STANDARD
TZOFFSETFROM:-0700
TZOFFSETTO:-0800
TZNAME:PST
DTSTART:20221106T090000
END:STANDARD
BEGIN:DAYLIGHT
TZOFFSETFROM:-0800
TZOFFSETTO:-0700
TZNAME:PDT
DTSTART:20230312T100000
END:DAYLIGHT
BEGIN:STANDARD
TZOFFSETFROM:-0700
TZOFFSETTO:-0800
TZNAME:PST
DTSTART:20231105T090000
END:STANDARD
BEGIN:DAYLIGHT
TZOFFSETFROM:-0800
TZOFFSETTO:-0700
TZNAME:PDT
DTSTART:20240310T100000
END:DAYLIGHT
BEGIN:STANDARD
TZOFFSETFROM:-0700
TZOFFSETTO:-0800
TZNAME:PST
DTSTART:20241103T090000
END:STANDARD
END:VTIMEZONE
BEGIN:VEVENT
DTSTART;TZID=America/Los_Angeles:20230930T140000
DTEND;TZID=America/Los_Angeles:20230930T153000
DTSTAMP:20260419T181559
CREATED:20230928T174037Z
LAST-MODIFIED:20230928T174037Z
UID:9447-1696082400-1696087800@www.coppercanyonpress.org
SUMMARY:Open Books Presents Christopher Soto & Claudia Castro Luna\, Latinx Poetry Writing Workshop
DESCRIPTION:Open Books Presents Christopher Soto & Claudia Castro Luna\, Latinx Poetry Writing Workshop on Saturday September 30th at 2pm – 3:30pm Pacific Time \nFrom the Organizers: \n“This poetry workshop is free\, but space is limited! To RSVP\, email instructor Christopher Soto directly at cs3625@nyu.edu and send 1-3 poems. Class will begin at 2pm and will run for 1.5 hours in the Open Books Parlor.  \nIf you have any additional questions about the workshop\, please contact Christopher Soto at cs3625@nyu.edu!” \nFor more information visit: https://open-books-a-poem-emporium.myshopify.com/pages/9-30-2-3-30pm-latinx-poetry-writing-workshop-with-christopher-soto-claudia-castro-luna
URL:https://www.coppercanyonpress.org/event/open-books-presents-christopher-soto-claudia-castro-luna-latinx-poetry-writing-workshop/
LOCATION:Open Books: A Poem Emporium\, 108 Cherry Street\, Seattle\, WA\, 98104\, United States
CATEGORIES:In Person
END:VEVENT
END:VCALENDAR