BEGIN:VCALENDAR
VERSION:2.0
PRODID:-//Copper Canyon Press - ECPv6.15.16//NONSGML v1.0//EN
CALSCALE:GREGORIAN
METHOD:PUBLISH
X-WR-CALNAME:Copper Canyon Press
X-ORIGINAL-URL:https://www.coppercanyonpress.org
X-WR-CALDESC:Events for Copper Canyon Press
REFRESH-INTERVAL;VALUE=DURATION:PT1H
X-Robots-Tag:noindex
X-PUBLISHED-TTL:PT1H
BEGIN:VTIMEZONE
TZID:America/New_York
BEGIN:DAYLIGHT
TZOFFSETFROM:-0500
TZOFFSETTO:-0400
TZNAME:EDT
DTSTART:20220313T070000
END:DAYLIGHT
BEGIN:STANDARD
TZOFFSETFROM:-0400
TZOFFSETTO:-0500
TZNAME:EST
DTSTART:20221106T060000
END:STANDARD
BEGIN:DAYLIGHT
TZOFFSETFROM:-0500
TZOFFSETTO:-0400
TZNAME:EDT
DTSTART:20230312T070000
END:DAYLIGHT
BEGIN:STANDARD
TZOFFSETFROM:-0400
TZOFFSETTO:-0500
TZNAME:EST
DTSTART:20231105T060000
END:STANDARD
BEGIN:DAYLIGHT
TZOFFSETFROM:-0500
TZOFFSETTO:-0400
TZNAME:EDT
DTSTART:20240310T070000
END:DAYLIGHT
BEGIN:STANDARD
TZOFFSETFROM:-0400
TZOFFSETTO:-0500
TZNAME:EST
DTSTART:20241103T060000
END:STANDARD
END:VTIMEZONE
BEGIN:VEVENT
DTSTART;TZID=America/New_York:20231002T200000
DTEND;TZID=America/New_York:20231002T210000
DTSTAMP:20260419T215941
CREATED:20230928T182951Z
LAST-MODIFIED:20230928T202947Z
UID:9452-1696276800-1696280400@www.coppercanyonpress.org
SUMMARY:Cambridge Center Presents Cate Marvin and Marcus Wicker\, Blacksmith House Poetry Series
DESCRIPTION:Cambridge Center for Adult Education Presents Cate Marvin and Marcus Wicker\, Blacksmith House Poetry Series on Monday October 2nd 8:00pm-9:00pm Eastern Time \nFrom the organizers:\n“Cate Marvin\, whose most recent collection is Event Horizon\, reads with Marcus Wicker\, author of Silencer. \nFounded in 1973\, the award-winning Blacksmith House Poetry Series brings established and emerging writers of poetry and fiction to Harvard Square. All readings take place in person at 56 Brattle Street on Mondays at 8pm. Admission is $5 and tickets are available at the door.” \nFor more information visit: https://ccae.org/happenings/events/blacksmith-house-poetry-series-cate-marvin-and-dana-levin
URL:https://www.coppercanyonpress.org/event/cambridge-center-presents-cate-marvin-and-marcus-wicker-blacksmith-house-poetry-series/
LOCATION:Cambridge Center for Adult Education\, 56 Brattle St\, Cambridge\, MA\, 02138\, United States
CATEGORIES:In Person
END:VEVENT
END:VCALENDAR