BEGIN:VCALENDAR
VERSION:2.0
PRODID:-//Copper Canyon Press - ECPv6.15.16//NONSGML v1.0//EN
CALSCALE:GREGORIAN
METHOD:PUBLISH
X-ORIGINAL-URL:https://www.coppercanyonpress.org
X-WR-CALDESC:Events for Copper Canyon Press
REFRESH-INTERVAL;VALUE=DURATION:PT1H
X-Robots-Tag:noindex
X-PUBLISHED-TTL:PT1H
BEGIN:VTIMEZONE
TZID:America/Phoenix
BEGIN:STANDARD
TZOFFSETFROM:-0700
TZOFFSETTO:-0700
TZNAME:MST
DTSTART:20220101T000000
END:STANDARD
END:VTIMEZONE
BEGIN:VEVENT
DTSTART;VALUE=DATE:20231012
DTEND;VALUE=DATE:20231015
DTSTAMP:20260419T192501
CREATED:20230813T180107Z
LAST-MODIFIED:20230813T180330Z
UID:9336-1697068800-1697327999@www.coppercanyonpress.org
SUMMARY:Desert Nights\, Rising Stars Writers Conference with Victoria Chang\, Patricia Spears Jones\, and Fady Joudah
DESCRIPTION:From the organizers: \nDesert Nights\, Rising Stars\, DNRS\, Writers Conference is a gathering of hearts and minds. \nThis three-day writing conference put on by the Virginia G. Piper Center for Creative Writing focuses on the art and craft of writing and also offers practical advice for editing\, getting published and navigating the literary marketplace. The conference offers over 60 presenters — all noted published writers and over 70 sessions\, a mixture of workshops\, panels and readings. \nConference early bird rate is $225. Deep discounts are offered for Arizona educators\, seniors\, military and people with disabilities. ASU students can attend for a discounted rate of only $35.00.   \nOur 2023 keynote speaker is internationally renowned poet\, Joy Harjo\, who served three terms at the Twenty-third Poet Laureate of the United States. \n~ \nCopper Canyon Poets Victoria Chang\, Patricia Spears Jones\, and Fady Joudah will be presenting. Register at the website to attend.
URL:https://www.coppercanyonpress.org/event/event-w-victoria-chang-patricia-spears-jones-and-fady-joudah/
LOCATION:Old Main at Arizona State University\, 400 E Tyler Mall\, Tempe\, AZ\, 85281\, United States
END:VEVENT
END:VCALENDAR