BEGIN:VCALENDAR
VERSION:2.0
PRODID:-//Copper Canyon Press - ECPv6.15.16//NONSGML v1.0//EN
CALSCALE:GREGORIAN
METHOD:PUBLISH
X-WR-CALNAME:Copper Canyon Press
X-ORIGINAL-URL:https://www.coppercanyonpress.org
X-WR-CALDESC:Events for Copper Canyon Press
REFRESH-INTERVAL;VALUE=DURATION:PT1H
X-Robots-Tag:noindex
X-PUBLISHED-TTL:PT1H
BEGIN:VTIMEZONE
TZID:America/Los_Angeles
BEGIN:DAYLIGHT
TZOFFSETFROM:-0800
TZOFFSETTO:-0700
TZNAME:PDT
DTSTART:20220313T100000
END:DAYLIGHT
BEGIN:STANDARD
TZOFFSETFROM:-0700
TZOFFSETTO:-0800
TZNAME:PST
DTSTART:20221106T090000
END:STANDARD
BEGIN:DAYLIGHT
TZOFFSETFROM:-0800
TZOFFSETTO:-0700
TZNAME:PDT
DTSTART:20230312T100000
END:DAYLIGHT
BEGIN:STANDARD
TZOFFSETFROM:-0700
TZOFFSETTO:-0800
TZNAME:PST
DTSTART:20231105T090000
END:STANDARD
BEGIN:DAYLIGHT
TZOFFSETFROM:-0800
TZOFFSETTO:-0700
TZNAME:PDT
DTSTART:20240310T100000
END:DAYLIGHT
BEGIN:STANDARD
TZOFFSETFROM:-0700
TZOFFSETTO:-0800
TZNAME:PST
DTSTART:20241103T090000
END:STANDARD
END:VTIMEZONE
BEGIN:VEVENT
DTSTART;TZID=America/Los_Angeles:20231119T110000
DTEND;TZID=America/Los_Angeles:20231119T110000
DTSTAMP:20260419T142817
CREATED:20231115T232200Z
LAST-MODIFIED:20231115T232200Z
UID:9652-1700391600-1700391600@www.coppercanyonpress.org
SUMMARY:Verse Virtual November Poetry Reading\, featuring Dean Rader and Brian Teare
DESCRIPTION:Verse Virtual November Poetry Reading\, featuring Dean Rader and Brian Teare on Sunday November 19th at 11am PT \nFor more information from the organizers: \nhttps://www.facebook.com/events/1374916263442205/ \nRegister for the event here: \nhttps://us02web.zoom.us/meeting/register/tZIsf-iprjMrGdzlpDRCg2Gzdd0g8dDQl-2L
URL:https://www.coppercanyonpress.org/event/verse-virtual-november-poetry-reading-featuring-dean-rader-and-brian-teare/
CATEGORIES:Online
END:VEVENT
END:VCALENDAR