BEGIN:VCALENDAR
VERSION:2.0
PRODID:-//Copper Canyon Press - ECPv6.15.16//NONSGML v1.0//EN
CALSCALE:GREGORIAN
METHOD:PUBLISH
X-ORIGINAL-URL:https://www.coppercanyonpress.org
X-WR-CALDESC:Events for Copper Canyon Press
REFRESH-INTERVAL;VALUE=DURATION:PT1H
X-Robots-Tag:noindex
X-PUBLISHED-TTL:PT1H
BEGIN:VTIMEZONE
TZID:America/New_York
BEGIN:DAYLIGHT
TZOFFSETFROM:-0500
TZOFFSETTO:-0400
TZNAME:EDT
DTSTART:20230312T070000
END:DAYLIGHT
BEGIN:STANDARD
TZOFFSETFROM:-0400
TZOFFSETTO:-0500
TZNAME:EST
DTSTART:20231105T060000
END:STANDARD
BEGIN:DAYLIGHT
TZOFFSETFROM:-0500
TZOFFSETTO:-0400
TZNAME:EDT
DTSTART:20240310T070000
END:DAYLIGHT
BEGIN:STANDARD
TZOFFSETFROM:-0400
TZOFFSETTO:-0500
TZNAME:EST
DTSTART:20241103T060000
END:STANDARD
BEGIN:DAYLIGHT
TZOFFSETFROM:-0500
TZOFFSETTO:-0400
TZNAME:EDT
DTSTART:20250309T070000
END:DAYLIGHT
BEGIN:STANDARD
TZOFFSETFROM:-0400
TZOFFSETTO:-0500
TZNAME:EST
DTSTART:20251102T060000
END:STANDARD
END:VTIMEZONE
BEGIN:VEVENT
DTSTART;TZID=America/New_York:20240220T213000
DTEND;TZID=America/New_York:20240220T223000
DTSTAMP:20260419T112509
CREATED:20240207T192916Z
LAST-MODIFIED:20240207T192916Z
UID:9912-1708464600-1708468200@www.coppercanyonpress.org
SUMMARY:Green Linden Press: Essential Queer Voices of U.S. Poetry featuring Randall Mann\, Eduardo C. Corral\, etc.
DESCRIPTION:In this third reading for Essential Queer Voices of U.S. Poetry\, an anthology edited by Christopher Nelson and introduced by Jack Halberstam\, the writers Randall Mann\, Brian Blanchfield\, Dorothy Chan\, Eduardo C. Corral\, and Brian Teare will show how “poetry can reveal our shared humanity.” \nRegister here: https://us06web.zoom.us/meeting/register/tZcsd-CgqT0sHNWJ0IEiNR3QAJ7VtyizoKM1#/registration
URL:https://www.coppercanyonpress.org/event/green-linden-press-essential-queer-voices-of-u-s-poetry-featuring-randall-mann-eduardo-c-corral-etc/
CATEGORIES:Online
END:VEVENT
END:VCALENDAR