BEGIN:VCALENDAR
VERSION:2.0
PRODID:-//Copper Canyon Press - ECPv6.15.16//NONSGML v1.0//EN
CALSCALE:GREGORIAN
METHOD:PUBLISH
X-ORIGINAL-URL:https://www.coppercanyonpress.org
X-WR-CALDESC:Events for Copper Canyon Press
REFRESH-INTERVAL;VALUE=DURATION:PT1H
X-Robots-Tag:noindex
X-PUBLISHED-TTL:PT1H
BEGIN:VTIMEZONE
TZID:America/Los_Angeles
BEGIN:DAYLIGHT
TZOFFSETFROM:-0800
TZOFFSETTO:-0700
TZNAME:PDT
DTSTART:20230312T100000
END:DAYLIGHT
BEGIN:STANDARD
TZOFFSETFROM:-0700
TZOFFSETTO:-0800
TZNAME:PST
DTSTART:20231105T090000
END:STANDARD
BEGIN:DAYLIGHT
TZOFFSETFROM:-0800
TZOFFSETTO:-0700
TZNAME:PDT
DTSTART:20240310T100000
END:DAYLIGHT
BEGIN:STANDARD
TZOFFSETFROM:-0700
TZOFFSETTO:-0800
TZNAME:PST
DTSTART:20241103T090000
END:STANDARD
BEGIN:DAYLIGHT
TZOFFSETFROM:-0800
TZOFFSETTO:-0700
TZNAME:PDT
DTSTART:20250309T100000
END:DAYLIGHT
BEGIN:STANDARD
TZOFFSETFROM:-0700
TZOFFSETTO:-0800
TZNAME:PST
DTSTART:20251102T090000
END:STANDARD
END:VTIMEZONE
BEGIN:VEVENT
DTSTART;TZID=America/Los_Angeles:20240522T110000
DTEND;TZID=America/Los_Angeles:20240522T110000
DTSTAMP:20260421T090936
CREATED:20231218T210457Z
LAST-MODIFIED:20231218T210457Z
UID:9761-1716375600-1716375600@www.coppercanyonpress.org
SUMMARY:Stanford Creative Writing Program Presents a Colloquium with Arthur Sze\, the Mohr Visiting Poet
DESCRIPTION:Stanford Creative Writing Program Presents a Colloquium with Arthur Sze\, the Mohr Visiting Poet on Wednesday May 22nd at 11am PT \nFrom the organizers: \n“Sze is this year’s Mohr Visiting Poet. Each year\, the Creative Writing Program welcomes distinguished writers to teach a Stanford writing seminar to undergraduates. These seminars are made possible with the generous support of Lawrence and Nancy Mohr. \nThe Creative Writing Program is pleased to announce the next event with the Mohr Visiting Poet: A Colloquium with Arthur Sze.” \nFor more information and to register go to: https://creativewriting.stanford.edu/events/colloquium-arthur-sze-mohr-visiting-poet
URL:https://www.coppercanyonpress.org/event/stanford-creative-writing-program-presents-a-colloquium-with-arthur-sze-the-mohr-visiting-poet/
LOCATION:Margaret Jacks Hall\, 450 Jane Stanford Way\, Building 460\, Stanford\, CA\, 94305\, United States
CATEGORIES:In Person
END:VEVENT
END:VCALENDAR