BEGIN:VCALENDAR
VERSION:2.0
PRODID:-//Copper Canyon Press - ECPv6.15.16//NONSGML v1.0//EN
CALSCALE:GREGORIAN
METHOD:PUBLISH
X-WR-CALNAME:Copper Canyon Press
X-ORIGINAL-URL:https://www.coppercanyonpress.org
X-WR-CALDESC:Events for Copper Canyon Press
REFRESH-INTERVAL;VALUE=DURATION:PT1H
X-Robots-Tag:noindex
X-PUBLISHED-TTL:PT1H
BEGIN:VTIMEZONE
TZID:America/New_York
BEGIN:DAYLIGHT
TZOFFSETFROM:-0500
TZOFFSETTO:-0400
TZNAME:EDT
DTSTART:20210314T070000
END:DAYLIGHT
BEGIN:STANDARD
TZOFFSETFROM:-0400
TZOFFSETTO:-0500
TZNAME:EST
DTSTART:20211107T060000
END:STANDARD
BEGIN:DAYLIGHT
TZOFFSETFROM:-0500
TZOFFSETTO:-0400
TZNAME:EDT
DTSTART:20220313T070000
END:DAYLIGHT
BEGIN:STANDARD
TZOFFSETFROM:-0400
TZOFFSETTO:-0500
TZNAME:EST
DTSTART:20221106T060000
END:STANDARD
BEGIN:DAYLIGHT
TZOFFSETFROM:-0500
TZOFFSETTO:-0400
TZNAME:EDT
DTSTART:20230312T070000
END:DAYLIGHT
BEGIN:STANDARD
TZOFFSETFROM:-0400
TZOFFSETTO:-0500
TZNAME:EST
DTSTART:20231105T060000
END:STANDARD
END:VTIMEZONE
BEGIN:VTIMEZONE
TZID:America/Los_Angeles
BEGIN:DAYLIGHT
TZOFFSETFROM:-0800
TZOFFSETTO:-0700
TZNAME:PDT
DTSTART:20210314T100000
END:DAYLIGHT
BEGIN:STANDARD
TZOFFSETFROM:-0700
TZOFFSETTO:-0800
TZNAME:PST
DTSTART:20211107T090000
END:STANDARD
BEGIN:DAYLIGHT
TZOFFSETFROM:-0800
TZOFFSETTO:-0700
TZNAME:PDT
DTSTART:20220313T100000
END:DAYLIGHT
BEGIN:STANDARD
TZOFFSETFROM:-0700
TZOFFSETTO:-0800
TZNAME:PST
DTSTART:20221106T090000
END:STANDARD
BEGIN:DAYLIGHT
TZOFFSETFROM:-0800
TZOFFSETTO:-0700
TZNAME:PDT
DTSTART:20230312T100000
END:DAYLIGHT
BEGIN:STANDARD
TZOFFSETFROM:-0700
TZOFFSETTO:-0800
TZNAME:PST
DTSTART:20231105T090000
END:STANDARD
END:VTIMEZONE
BEGIN:VTIMEZONE
TZID:America/Chicago
BEGIN:DAYLIGHT
TZOFFSETFROM:-0600
TZOFFSETTO:-0500
TZNAME:CDT
DTSTART:20210314T080000
END:DAYLIGHT
BEGIN:STANDARD
TZOFFSETFROM:-0500
TZOFFSETTO:-0600
TZNAME:CST
DTSTART:20211107T070000
END:STANDARD
BEGIN:DAYLIGHT
TZOFFSETFROM:-0600
TZOFFSETTO:-0500
TZNAME:CDT
DTSTART:20220313T080000
END:DAYLIGHT
BEGIN:STANDARD
TZOFFSETFROM:-0500
TZOFFSETTO:-0600
TZNAME:CST
DTSTART:20221106T070000
END:STANDARD
BEGIN:DAYLIGHT
TZOFFSETFROM:-0600
TZOFFSETTO:-0500
TZNAME:CDT
DTSTART:20230312T080000
END:DAYLIGHT
BEGIN:STANDARD
TZOFFSETFROM:-0500
TZOFFSETTO:-0600
TZNAME:CST
DTSTART:20231105T070000
END:STANDARD
END:VTIMEZONE
BEGIN:VEVENT
DTSTART;TZID=America/New_York:20220602T190000
DTEND;TZID=America/New_York:20220602T200000
DTSTAMP:20260425T081139
CREATED:20220509T181450Z
LAST-MODIFIED:20220509T181524Z
UID:7915-1654196400-1654200000@www.coppercanyonpress.org
SUMMARY:Book Launch for Cate Marvin's Event Horizon
DESCRIPTION:Book Launch for Cate Marvin‘s Event Horizon \nMaine Writers & Publishers Alliance is sponsoring a Launch Party for Cate Marvin’s fourth book\, Event Horizon\, on June 2nd at Space Gallery in Portland\, Maine.
URL:https://www.coppercanyonpress.org/event/book-launch-for-cate-marvins-event-horizon/
LOCATION:Space Gallery\, Portland\, Maine\, United States
CATEGORIES:In Person
END:VEVENT
BEGIN:VEVENT
DTSTART;TZID=America/Los_Angeles:20220607T170000
DTEND;TZID=America/Los_Angeles:20220607T180000
DTSTAMP:20260425T081139
CREATED:20220419T160249Z
LAST-MODIFIED:20220419T160249Z
UID:7859-1654621200-1654624800@www.coppercanyonpress.org
SUMMARY:Dana Levin Book Launch Reading with Logos Collective
DESCRIPTION:Dana Levin Book Launch Reading with Logos Collective \nDana joins Sumita Chakraborty for a liturgically-inflected reading with a goal of evoking transcendence through poetry\, ritual\, and conversation. \nMore info here: http://www.danalevinpoet.com/events
URL:https://www.coppercanyonpress.org/event/dana-levin-book-launch-reading-with-logos-collective/
CATEGORIES:Online
END:VEVENT
BEGIN:VEVENT
DTSTART;TZID=America/New_York:20220607T180000
DTEND;TZID=America/New_York:20220607T200000
DTSTAMP:20260425T081139
CREATED:20220527T020836Z
LAST-MODIFIED:20220527T020836Z
UID:7963-1654624800-1654632000@www.coppercanyonpress.org
SUMMARY:House of SpeakEasy presents Seriously Entertaining with Sarah Ruhl
DESCRIPTION:House of SpeakEasy presents Seriously Entertaining with Sarah Ruhl \nFrom the organizer: \nOn June 7\, Pulitzer-Prize and Tony Award-nominated playwright and writer Sarah Ruhl\, author and essayist Zakiya Dalila Harris\, writer and creative director Jen Winston\, and debut novelist David Santos Donaldson will share engaging and entertaining stories tied to the evening’s theme “Being and Becoming.” \nMore info: https://publictheater.org/productions/joes-pub/2022/h/house-of-speakeasy-winterspring-22/ \n 
URL:https://www.coppercanyonpress.org/event/house-of-speakeasy-presents-seriously-entertaining-with-sarah-ruhl/
CATEGORIES:In Person
END:VEVENT
BEGIN:VEVENT
DTSTART;TZID=America/Los_Angeles:20220610T170000
DTEND;TZID=America/Los_Angeles:20220610T180000
DTSTAMP:20260425T081139
CREATED:20220214T181736Z
LAST-MODIFIED:20220214T181736Z
UID:7668-1654880400-1654884000@www.coppercanyonpress.org
SUMMARY:Ojai Music Festival presents The Echoing of Tenses with Arthur Sze
DESCRIPTION:Ojai Music Festival presents The Echoing of Tenses with Arthur Sze \nFrom the organizers: \nA new song cycle\, the echoing of tenses\, commissioned from Anthony Cheung\, sets poetry by Asian-American writers interconnected by the larger theme of memory\, made complicated by the circumstances and tensions of cultural and personal identity\, family\, migration\, loss\, and reflection. The various poems by Arthur Sze\, Monica Youn\, Jenny Xie\, Ocean Vuong\, and others\, will be sung\, spoken\, and interwoven throughout. The work features Paul Appleby\, Miranda Cuckson\, and Conor Hanick\, and a score that mixes live performance with pre-recorded sound design\, in collaboration with David Bird. \nThis is an in-person event. \nMore info here: https://www.ojaifestival.org/2022-festival-schedule/
URL:https://www.coppercanyonpress.org/event/ojai-music-festival-presents-the-echoing-of-tenses-with-arthur-sze/
LOCATION:Libbey Bowl
CATEGORIES:In Person
END:VEVENT
BEGIN:VEVENT
DTSTART;TZID=America/New_York:20220615T190000
DTEND;TZID=America/New_York:20220618T233000
DTSTAMP:20260425T081139
CREATED:20220509T174935Z
LAST-MODIFIED:20220617T180850Z
UID:7910-1655319600-1655595000@www.coppercanyonpress.org
SUMMARY:Scrag Mountain Music presents The Poetry of David Budbill Set to Music
DESCRIPTION:Scrag Mountain Music and The Literary Estate of David Budbill presents The Poetry of David Budbill Set to Music. More information about this multi-day event can be found here: http://www.scragmountainmusic.org/sutras.html \nFrom the organizers: \nScrag Mountain Music and The Literary Estate of David Budbill presents “Sutras for a Suffering World: The Poetry of David Budbill Set to Music” for a multi-day event. \nRegister here: https://www.facebook.com/events/405026871368320/?acontext=%7B%22ref%22%3A%2252%22%2C%22action_history%22%3A%22[%7B%5C%22surface%5C%22%3A%5C%22share_link%5C%22%2C%5C%22mechanism%5C%22%3A%5C%22share_link%5C%22%2C%5C%22extra_data%5C%22%3A%7B%5C%22invite_link_id%5C%22%3A716578879535427%7D%7D]%22%7D
URL:https://www.coppercanyonpress.org/event/scrag-mountain-music-presents-the-poetry-of-david-budbill-set-to-music/
CATEGORIES:In Person,Online
END:VEVENT
BEGIN:VEVENT
DTSTART;TZID=America/Los_Angeles:20220623T173000
DTEND;TZID=America/Los_Angeles:20220623T183000
DTSTAMP:20260425T081139
CREATED:20220623T160003Z
LAST-MODIFIED:20220623T160002Z
UID:8006-1656005400-1656009000@www.coppercanyonpress.org
SUMMARY:Unsolicited Press presents Launching JOY with Francis Daulerio\, in Conversation with Kelli Russell Agodon
DESCRIPTION:Unsolicited Press presents Launching JOY with Francis Daulerio\, in Conversation with Kelli Russell Agodon \nFrom the organizers: “Unsolicited Press is inviting you to a reading and conversation with Francis Daulerio and Kelli Russell Agodon. \nThis virtual event is to celebrate the launch of JOY by Francis Daulerio. Joy is the new full-length collection of poetry by Francis Daulerio\, author of If & When We Wake\, Please Plant This Book\, and With a Difference. \nJoin READING:\nhttps://us06web.zoom.us/j/85388321279?pwd=RDFLa3RQMFhyelpnOW1PZ3hsQzBrQT09 \nMeeting ID: 853 8832 1279\nPasscode: 269018″
URL:https://www.coppercanyonpress.org/event/unsolicited-press-presents-launching-joy-with-francis-daulerio-in-conversation-with-kelli-russell-agodon/
CATEGORIES:Online
END:VEVENT
BEGIN:VEVENT
DTSTART;TZID=America/Chicago:20220626T190000
DTEND;TZID=America/Chicago:20220626T210000
DTSTAMP:20260425T081139
CREATED:20220621T173746Z
LAST-MODIFIED:20220621T173746Z
UID:8001-1656270000-1656277200@www.coppercanyonpress.org
SUMMARY:Women & Children First presents An Evening with Sarah Ruhl
DESCRIPTION:Women & Children First presents An Evening with Sarah Ruhl \n  \nFrom the organizer: “Join us for an in-person reading\, audience Q&A\, and book-signing with Sarah Ruhl in honor of her two recent releases\, Love Poems in Quarantine and Smile: The Story of a Face. \nPlease note: all in-person events held at Women & Children First require masks and proof of vaccination.”
URL:https://www.coppercanyonpress.org/event/women-children-first-presents-an-evening-with-sarah-ruhl/
LOCATION:Women & Children First\, 5233 N. Clark St.\, Chicago\, IL\, 60640\, United States
CATEGORIES:In Person
END:VEVENT
BEGIN:VEVENT
DTSTART;TZID=America/Chicago:20220629T183000
DTEND;TZID=America/Chicago:20220629T193000
DTSTAMP:20260425T081139
CREATED:20220621T173036Z
LAST-MODIFIED:20220621T173036Z
UID:7998-1656527400-1656531000@www.coppercanyonpress.org
SUMMARY:Bookends & Beginnings presents A Conversation with Sarah Ruhl and Chris Abani
DESCRIPTION:Bookends & Beginnings presents A Conversation with Sarah Ruhl and Chris Abani! \n  \nFrom the organizers: “Join us in the Bookends & Beginnings Courtyard for a conversation between Sarah Ruhl and Chris Abani about their new books of poetry\, Love Poems in Quarantine and Smoking the Bible. We will have copies of both books for sale in the bookstore or you can pre-order your book and we’ll have it signed and ready to pick up at the event. If you want a personalized dedication\, enter your desired inscription in the “Notes” field when you place the order.”
URL:https://www.coppercanyonpress.org/event/bookends-beginnings-presents-a-conversation-with-sarah-ruhl-and-chris-abani/
LOCATION:Bookends & Beginnings\, 1712 Sherman Avenue\, Alley #1\, Evanston\, IL\, 60201\, United States
CATEGORIES:In Person
END:VEVENT
END:VCALENDAR