BEGIN:VCALENDAR
VERSION:2.0
PRODID:-//Copper Canyon Press - ECPv6.15.16//NONSGML v1.0//EN
CALSCALE:GREGORIAN
METHOD:PUBLISH
X-ORIGINAL-URL:https://www.coppercanyonpress.org
X-WR-CALDESC:Events for Copper Canyon Press
REFRESH-INTERVAL;VALUE=DURATION:PT1H
X-Robots-Tag:noindex
X-PUBLISHED-TTL:PT1H
BEGIN:VTIMEZONE
TZID:America/Los_Angeles
BEGIN:DAYLIGHT
TZOFFSETFROM:-0800
TZOFFSETTO:-0700
TZNAME:PDT
DTSTART:20210314T100000
END:DAYLIGHT
BEGIN:STANDARD
TZOFFSETFROM:-0700
TZOFFSETTO:-0800
TZNAME:PST
DTSTART:20211107T090000
END:STANDARD
BEGIN:DAYLIGHT
TZOFFSETFROM:-0800
TZOFFSETTO:-0700
TZNAME:PDT
DTSTART:20220313T100000
END:DAYLIGHT
BEGIN:STANDARD
TZOFFSETFROM:-0700
TZOFFSETTO:-0800
TZNAME:PST
DTSTART:20221106T090000
END:STANDARD
BEGIN:DAYLIGHT
TZOFFSETFROM:-0800
TZOFFSETTO:-0700
TZNAME:PDT
DTSTART:20230312T100000
END:DAYLIGHT
BEGIN:STANDARD
TZOFFSETFROM:-0700
TZOFFSETTO:-0800
TZNAME:PST
DTSTART:20231105T090000
END:STANDARD
END:VTIMEZONE
BEGIN:VTIMEZONE
TZID:America/Chicago
BEGIN:DAYLIGHT
TZOFFSETFROM:-0600
TZOFFSETTO:-0500
TZNAME:CDT
DTSTART:20210314T080000
END:DAYLIGHT
BEGIN:STANDARD
TZOFFSETFROM:-0500
TZOFFSETTO:-0600
TZNAME:CST
DTSTART:20211107T070000
END:STANDARD
BEGIN:DAYLIGHT
TZOFFSETFROM:-0600
TZOFFSETTO:-0500
TZNAME:CDT
DTSTART:20220313T080000
END:DAYLIGHT
BEGIN:STANDARD
TZOFFSETFROM:-0500
TZOFFSETTO:-0600
TZNAME:CST
DTSTART:20221106T070000
END:STANDARD
BEGIN:DAYLIGHT
TZOFFSETFROM:-0600
TZOFFSETTO:-0500
TZNAME:CDT
DTSTART:20230312T080000
END:DAYLIGHT
BEGIN:STANDARD
TZOFFSETFROM:-0500
TZOFFSETTO:-0600
TZNAME:CST
DTSTART:20231105T070000
END:STANDARD
END:VTIMEZONE
BEGIN:VTIMEZONE
TZID:America/New_York
BEGIN:DAYLIGHT
TZOFFSETFROM:-0500
TZOFFSETTO:-0400
TZNAME:EDT
DTSTART:20210314T070000
END:DAYLIGHT
BEGIN:STANDARD
TZOFFSETFROM:-0400
TZOFFSETTO:-0500
TZNAME:EST
DTSTART:20211107T060000
END:STANDARD
BEGIN:DAYLIGHT
TZOFFSETFROM:-0500
TZOFFSETTO:-0400
TZNAME:EDT
DTSTART:20220313T070000
END:DAYLIGHT
BEGIN:STANDARD
TZOFFSETFROM:-0400
TZOFFSETTO:-0500
TZNAME:EST
DTSTART:20221106T060000
END:STANDARD
BEGIN:DAYLIGHT
TZOFFSETFROM:-0500
TZOFFSETTO:-0400
TZNAME:EDT
DTSTART:20230312T070000
END:DAYLIGHT
BEGIN:STANDARD
TZOFFSETFROM:-0400
TZOFFSETTO:-0500
TZNAME:EST
DTSTART:20231105T060000
END:STANDARD
END:VTIMEZONE
BEGIN:VTIMEZONE
TZID:Pacific/Honolulu
BEGIN:STANDARD
TZOFFSETFROM:-1000
TZOFFSETTO:-1000
TZNAME:HST
DTSTART:20210101T000000
END:STANDARD
END:VTIMEZONE
BEGIN:VEVENT
DTSTART;TZID=America/Los_Angeles:20220808T190000
DTEND;TZID=America/Los_Angeles:20220808T200000
DTSTAMP:20260425T034053
CREATED:20220811T165201Z
LAST-MODIFIED:20220811T165201Z
UID:8111-1659985200-1659988800@www.coppercanyonpress.org
SUMMARY:San Francisco Main Library presents Victoria Chang on Exploring Grief
DESCRIPTION:San Francisco Main Library presents Victoria Chang on Exploring Grief \nFrom the organizers: \n“Writers Victoria Chang and Kristin Keane discuss Chang’s most recent\, powerful\, form-bending collection of work exploring longing\, grief and memory\, three books released in three years: Obit (2020)\, Dear Memory: Letters on Writing\, Silence and Grief (2021)\, and The Trees Witness Everything (2022). \nThis program is sponsored by Friends of the San Francisco Public Library. \nFor accommodations (such as ASL interpretation or captioning)\, call (415) 557-4557 or contact accessibility@sfpl.org. Requesting at least 72 hours in advance will help ensure availability.”
URL:https://www.coppercanyonpress.org/event/san-francisco-main-library-presents-victoria-chang-on-exploring-grief/
END:VEVENT
BEGIN:VEVENT
DTSTART;TZID=America/Chicago:20220822T193000
DTEND;TZID=America/Chicago:20220822T213000
DTSTAMP:20260425T034053
CREATED:20220818T185331Z
LAST-MODIFIED:20220818T185330Z
UID:8122-1661196600-1661203800@www.coppercanyonpress.org
SUMMARY:Soul Bone Lit Fest presents Poetry Reading with Jennifer L. Knox & Nynke Passi
DESCRIPTION:Soul Bone Lit Fest presents Poetry Reading with Jennifer L. Knox & Nynke Passi \nFrom the organizers: \n“We kick off the festival with a poetry reading featuring Jennifer L. Knox and Nynke Passi\, MIU’s MFA in Creative Writing program director. \n\nAbout this event \n\n\n\nJennifer L. Knox is the author of Crushing It (Copper Canyon\, 2020)\, as well as the collections Days of Shame and Failure (2015)\, The Mystery of the Hidden Driveway (2010)\, Drunk by Noon (2007)\, and A Gringo Like Me (2007)\, all published by Bloof Books. Her poems have appeared four times in the Best American Poetry series. Her work has appeared in publications such as the New York Times\, the New Yorker\, American Poetry Review\, and McSweeney’s. \nNynke Salverda Passi is the director of this MFA program and co-chair of the English dept. She was born and raised in the Netherlands. Her work has been published in CALYX\, Gulf Coast\, Poetry Breakfast\, Life & Legends\, and more. Her poetry has been anthologized in Pandemic Puzzle Pieces and River of Earth & Sky (Blue Light Press)\, Carrying the Branch (Glass Lyre Press)\, and Oxygen: Parables of the Pandemic (River Paw Press). Together with Rustin Larson and Christine Schrum\, she edited the poetry collection Leaves by Night\, Flowers by Day.”
URL:https://www.coppercanyonpress.org/event/soul-bone-lit-fest-presents-poetry-reading-with-jennifer-l-knox-nynke-passi/
CATEGORIES:Online
END:VEVENT
BEGIN:VEVENT
DTSTART;TZID=America/Chicago:20220826T100000
DTEND;TZID=America/Chicago:20220826T120000
DTSTAMP:20260425T034053
CREATED:20220818T185628Z
LAST-MODIFIED:20220818T185627Z
UID:8123-1661508000-1661515200@www.coppercanyonpress.org
SUMMARY:Soul Bone Lit Fest presents Two Sylvias Press with Press Co-Founder Kelli Russell Agodon
DESCRIPTION:Soul Bone Lit Fest presents Two Sylvias Press with Press Co-Founder Kelli Russell Agodon. \nFrom the organizers: \n“Kelli Russell Agodon\, co-founder of Two Sylvias (one of our favorite presses)\, will be your host in this session. \n\n\n\n\nAbout Two Sylvias: ‘Created with the belief that great writing is good for the world\, Two Sylvias Press mixes modern technology\, classic style\, and literary intellect with an eco-friendly heart. We draw our inspiration from the poetic literary talent of Sylvia Plath and the editorial business sense of Sylvia Beach. Located in the Seattle area\, Two Sylvias is an independent press which publishes the best-selling The Daily Poet and has created The Poet Tarot\, featured in O\, The Oprah Magazine. Two Sylvias Press also released the first eBook anthology of women’s poetry in 2011: Fire On Her Tongue. Publishing poetry\, memoir\, essays\, anthologies\, and creativity tools for writers and artists\, we offer a Chapbook Prize in the spring. The Wilder Series Poetry Book Prize is open to women over 50 years of age and is held annually in the fall. Two Sylvias Press also offers online poetry retreats for writers who would like to generate new work with daily poetry prompts and creative inspiration.'”
URL:https://www.coppercanyonpress.org/event/soul-bone-lit-fest-presents-two-sylvias-press-with-press-co-founder-kelli-russell-agodon/
CATEGORIES:Online
END:VEVENT
BEGIN:VEVENT
DTSTART;TZID=America/New_York:20220827T140000
DTEND;TZID=America/New_York:20220827T150000
DTSTAMP:20260425T034053
CREATED:20220617T144325Z
LAST-MODIFIED:20220617T144325Z
UID:7994-1661608800-1661612400@www.coppercanyonpress.org
SUMMARY:New Dominion Bookshop presents Selected Books of the Beloved with Gregory Orr
DESCRIPTION:New Dominion Bookshop presents Selected Books of the Beloved with Gregory Orr \nFrom the organizers:  \nJoin us as we celebrate the release of Gregory Orr’s new poetry collection\, Selected Books of the Beloved. This in-person event will be free and open to the public. We recommend arriving early for the best seating. \nMore information will appear here: https://ndbookshop.com/events/gregory-orr-selected-books-of-the-beloved/
URL:https://www.coppercanyonpress.org/event/new-dominion-bookshop-presents-selected-books-of-the-beloved-with-gregory-orr/
CATEGORIES:Online
END:VEVENT
BEGIN:VEVENT
DTSTART;TZID=America/New_York:20220827T190000
DTEND;TZID=America/New_York:20220827T220000
DTSTAMP:20260425T034053
CREATED:20220517T142319Z
LAST-MODIFIED:20220517T142319Z
UID:7935-1661626800-1661637600@www.coppercanyonpress.org
SUMMARY:Silo City Reading Series featuring Jericho Brown
DESCRIPTION:Silo City Reading Series featuring Jericho Brown \nFrom the organizer: \nJoin us for the season finale of the 2022 SILO CITY READING SERIES featuring poetry from Jericho Brown and JBLC Poetry Fellow TBA\, a musical performance by Florist\, and an installation by Johann Diedrick.
URL:https://www.coppercanyonpress.org/event/silo-city-reading-series-featuring-jericho-brown/
LOCATION:Silo City\, 85 Silo City Row\, Buffalo\, NY\, 14203\, United States
CATEGORIES:In Person
END:VEVENT
BEGIN:VEVENT
DTSTART;TZID=Pacific/Honolulu:20220831T140000
DTEND;TZID=Pacific/Honolulu:20220831T150000
DTSTAMP:20260425T034053
CREATED:20220818T190932Z
LAST-MODIFIED:20220818T190931Z
UID:8125-1661954400-1661958000@www.coppercanyonpress.org
SUMMARY:The Merwin Conservancy presents Arthur Sze & Carol Moldaw in The Green Room
DESCRIPTION:The Merwin Conservancy presents Arthur Sze & Carol Moldaw in The Green Room \nFrom the organizers: \n“After a hiatus of more than two years\, The Merwin Conservancyʻs beloved arts and ecology series The Green Room returned to in-person gatherings on Maui with two very special guests\, our poets-in-residence Carol Moldaw and Arthur Sze. \n\n\nThese two extraordinary poets have spent a month in residence in the former home of W.S. and Paula Merwin\, and earlier this month Carol and Arthur shared the stage for a very special reading at the Hui Noʻeau Visual Arts Center on Maui.  \nThis intimate event was captured on video and will be broadcast on Crowdcast on Wednesday\, August 31st\, at 2:00pm Hawaiʻi / 5:00pm Pacific / 6:00pm Mountain / 8:00pm Eastern. \nThe event is free\, and donations are welcome at the virtual “door” to support this beloved arts and ecology salon series\, now in its ninth year. \n**** \nABOUT CAROL MOLDAW: \nCarol Moldaw’s eighth book\, Go Figure\, will be published by Four Way Books in 2024. Her most recent books are Beauty Refracted (Four Way Books\, 2018)\, So Late\, So Soon: New and Selected Poems and The Widening\, a short novel. She is the author of four other books of poetry\, The Lightning Field\, which won the 2002 FIELD Poetry Prize\, Through the Window\, Chalkmarks on Stone\, and Taken from the River. Through the Window was translated into Turkish and published in a bilingual edition in Istanbul as Penceredon/Through the Window; her work also has been translated into Chinese\, Portuguese\, and Italian. Moldaw is the recipient of a Lannan Foundation Marfa Writer’s Residency\, an NEA Creative Writing Fellowship\, and a Pushcart Prize\, and her work is published widely in journals\, including AGNI\, Antioch Review\, Boston Review\, Chicago Review\, Conjunctions\, Denver Quarterly\, FIELD\, Georgia Review\, Harvard Review\, The New Republic\, The New York Review of Books\, The New Yorker\, The Paris Review\, Parnassus\, Threepenny Review\, Virginia Quarterly\, and Yale Review. It has also been anthologized in many venues\, including Western Wind: An Introduction to Poetry\, and Under 35: A New Generation of American Poets. As noted in The New Yorker\, Moldaw’s work “repeatedly achieves lyric junctures of shivering beauty.” About The Lightning Field\, Frieda Gardner wrote in The Women’s Review of Books: “She courts revelation . . . in a voice variously curious\, passionate\, surprised\, meditative\, and sensual. On the surface of her work are rich sound and variation of rhythm and line. A few steps deeper in lie wells of feeling and complexities of thought.” From 2005-2008 Moldaw was on the faculty of Stonecoast\, the University of Southern Maine’s low-residency M.F.A. program\, and she has been a recurrent Visiting Writer at the Vermont Studio Center\, taught at the College of Santa Fe and in the MFA program at Naropa University. In the spring of 2011\, she served as the Louis D. Rubin\, Jr.\, Writer-in-Residence at Hollins University; currently she teaches privately in Santa Fe\, New Mexico\, where she lives with her husband. \nABOUT ARTHUR SZE: \nArthur Sze is a poet\, translator\, and editor. He is the author of eleven books of poetry\, including The Glass Constellation: New and Collected Poems (Copper Canyon Press\, 2021)\, Sight Lines (2019)\, for which he received the National Book Award for Poetry; Compass Rose (2014)\, a Pulitzer Prize finalist; The Ginkgo Light (2009)\, selected for the PEN Southwest Book Award and the Mountains & Plains Independent Booksellers Association Book Award; Quipu (2005); The Redshifting Web: Poems 1970–1998 (1998)\, selected for the Balcones Poetry Prize and the Asian American Literary Award; and Archipelago (1995)\, selected for an American Book Award. He has also published one book of Chinese poetry translations\, The Silk Dragon (2001)\, selected for the Western States Book Award\, and edited Chinese Writers on Writing (2010). A recipient of the Shelley Memorial Award from the Poetry Society of America\, the eighth annual ‘T’ Space Poetry Award\, the Jackson Poetry Prize from Poets & Writers\, a Lannan Literary Award\, a Guggenheim Fellowship\, a Lila Wallace-Reader’s Digest Writers’ Award\, two National Endowment for the Arts Creative Writing Fellowships\, a Howard Foundation Fellowship\, as well as five grants from the Witter Bynner Foundation for Poetry\, Sze was the first poet laureate of Santa Fe\, New Mexico. From 2012 to 2017\, he was a chancellor of the Academy of American Poets and\, in 2017\, he was elected a fellow of the American Academy of Arts and Sciences. His poems have been published in the American Poetry Review\, Boston Review\, Harper’s\, Kenyon Review\, The Nation\, The New Republic\, The New Yorker\, The Paris Review\, Poetry and in the Best American Poetry and Pushcart Prize anthologies. His work has been translated into fourteen languages\, including Chinese\, Dutch\, German\, Korean\, Portuguese\, and Spanish. He is a professor emeritus at the Institute of American Indian Arts.“
URL:https://www.coppercanyonpress.org/event/the-merwin-conservancy-presents-arthur-sze-carol-moldaw-in-the-green-room/
CATEGORIES:Online
END:VEVENT
BEGIN:VEVENT
DTSTART;TZID=America/Chicago:20220831T193000
DTEND;TZID=America/Chicago:20220831T213000
DTSTAMP:20260425T034053
CREATED:20220818T190329Z
LAST-MODIFIED:20220818T190329Z
UID:8124-1661974200-1661981400@www.coppercanyonpress.org
SUMMARY:Soul Bone Lit Fest presents Featured Reading with Ellen Bass & Mark Spragg
DESCRIPTION:Soul Bone Lit Fest presents Featured Reading with Ellen Bass & Mark Spragg \nFrom the organizers: \n“Tonight our long-time mentor and frequent guest Mark Spragg is returning together with a close friend of his\, Ellen Bass\, a poet we deeply admire. We are so happy to have the two of them read together from their poetry and lyrical prose. \nEllen Bass’s most recent collection\, Indigo\, was published by Copper Canyon Press in 2020. Her other poetry books include Like a Beggar\, The Human Line\, and Mules of Love. Her poems appear  frequently in The New Yorker\, American Poetry Review\, and many other journals. Among her awards are Fellowships from the Guggenheim Foundation\, The NEA\, and The California Arts Council\, The Lambda Literary Award\, and three Pushcart Prizes. She co-edited the first major anthology of women’s poetry\, No More Masks!\, and her nonfiction books include the groundbreaking The Courage to Heal: A Guide for Women Survivors of Child Sexual Abuse and Free Your Mind: The Book for Gay\, Lesbian and Bisexual Youth. A Chancellor of the Academy of American Poets\, She teaches in the MFA writing program at Pacific University. \nMark Spragg is the author of Where Rivers Change Direction\, a memoir that won the Mountains & Plains Independent Booksellers award\, and the novels The Fruit of Stone and An Unfinished Life\, which was chosen by the Rocky Mountain News as the Best Book of 2004. All three were top-ten Book Sense selections and have been translated into fifteen languages. He lives with his wife\, Virginia\, in Wyoming. Mark also has an extensive history as a screenwriter\, writing the scripts for movies such as An Unfinished Life and Everything that Rises.“
URL:https://www.coppercanyonpress.org/event/soul-bone-lit-fest-presents-featured-reading-with-ellen-bass-mark-spragg/
CATEGORIES:Online
END:VEVENT
END:VCALENDAR