BEGIN:VCALENDAR
VERSION:2.0
PRODID:-//Copper Canyon Press - ECPv6.15.16//NONSGML v1.0//EN
CALSCALE:GREGORIAN
METHOD:PUBLISH
X-WR-CALNAME:Copper Canyon Press
X-ORIGINAL-URL:https://www.coppercanyonpress.org
X-WR-CALDESC:Events for Copper Canyon Press
REFRESH-INTERVAL;VALUE=DURATION:PT1H
X-Robots-Tag:noindex
X-PUBLISHED-TTL:PT1H
BEGIN:VTIMEZONE
TZID:America/Los_Angeles
BEGIN:DAYLIGHT
TZOFFSETFROM:-0800
TZOFFSETTO:-0700
TZNAME:PDT
DTSTART:20210314T100000
END:DAYLIGHT
BEGIN:STANDARD
TZOFFSETFROM:-0700
TZOFFSETTO:-0800
TZNAME:PST
DTSTART:20211107T090000
END:STANDARD
BEGIN:DAYLIGHT
TZOFFSETFROM:-0800
TZOFFSETTO:-0700
TZNAME:PDT
DTSTART:20220313T100000
END:DAYLIGHT
BEGIN:STANDARD
TZOFFSETFROM:-0700
TZOFFSETTO:-0800
TZNAME:PST
DTSTART:20221106T090000
END:STANDARD
BEGIN:DAYLIGHT
TZOFFSETFROM:-0800
TZOFFSETTO:-0700
TZNAME:PDT
DTSTART:20230312T100000
END:DAYLIGHT
BEGIN:STANDARD
TZOFFSETFROM:-0700
TZOFFSETTO:-0800
TZNAME:PST
DTSTART:20231105T090000
END:STANDARD
END:VTIMEZONE
BEGIN:VTIMEZONE
TZID:America/New_York
BEGIN:DAYLIGHT
TZOFFSETFROM:-0500
TZOFFSETTO:-0400
TZNAME:EDT
DTSTART:20210314T070000
END:DAYLIGHT
BEGIN:STANDARD
TZOFFSETFROM:-0400
TZOFFSETTO:-0500
TZNAME:EST
DTSTART:20211107T060000
END:STANDARD
BEGIN:DAYLIGHT
TZOFFSETFROM:-0500
TZOFFSETTO:-0400
TZNAME:EDT
DTSTART:20220313T070000
END:DAYLIGHT
BEGIN:STANDARD
TZOFFSETFROM:-0400
TZOFFSETTO:-0500
TZNAME:EST
DTSTART:20221106T060000
END:STANDARD
BEGIN:DAYLIGHT
TZOFFSETFROM:-0500
TZOFFSETTO:-0400
TZNAME:EDT
DTSTART:20230312T070000
END:DAYLIGHT
BEGIN:STANDARD
TZOFFSETFROM:-0400
TZOFFSETTO:-0500
TZNAME:EST
DTSTART:20231105T060000
END:STANDARD
END:VTIMEZONE
BEGIN:VEVENT
DTSTART;TZID=America/Los_Angeles:20220908T120000
DTEND;TZID=America/Los_Angeles:20220908T130000
DTSTAMP:20260423T201145
CREATED:20220726T151032Z
LAST-MODIFIED:20220726T151032Z
UID:8060-1662638400-1662642000@www.coppercanyonpress.org
SUMMARY:UC Berkeley Lunch Poems presents Alex Dmitrov
DESCRIPTION:UC Berkeley Lunch Poems presents Alex Dmitrov \nFrom the organizers: “Alex Dimitrov is the author of three books of poetry — Love and Other Poems\, Together and by Ourselves\, and Begging for It — and the chapbook American Boys. His poems have been published in The New Yorker\, The New York Times\, The Paris Review\, and Poetry. He has taught writing at Princeton University\, Columbia University\, and New York University\, among other institutions. Previously\, he was the Senior Content Editor at the Academy of American Poets\, where he edited the popular series Poem-a-Day and American Poets magazine.”
URL:https://www.coppercanyonpress.org/event/uc-berkeley-lunch-poems-presents-alex-dmitrov/
END:VEVENT
BEGIN:VEVENT
DTSTART;TZID=America/Los_Angeles:20220910T110000
DTEND;TZID=America/Los_Angeles:20220910T120000
DTSTAMP:20260423T201145
CREATED:20220808T191311Z
LAST-MODIFIED:20220808T191352Z
UID:8106-1662807600-1662811200@www.coppercanyonpress.org
SUMMARY:Nevada Humanities Literary Crawl presents Aimee Nezhukumatathil
DESCRIPTION:Nevada Humanities Literary Crawl presents Aimee Nezhukumatathil. \nFrom the organizers: \n“Keynote Event: Aimee Nezhukumatathil\, Author of World of Wonders: In Praise of Fireflies\, Whale Sharks\, and Other Astonishments. \nWe are thrilled to welcome authors\, artists\, and community members back to the streets of Reno for a Nevada Humanities Literary Crawl reunion like no other. Join us for a festival of books\, ideas\, and the humanities as we bring people together to celebrate the rich literary talent throughout this region. This year’s Nevada Humanities Literary Crawl features dozens of readings of fiction\, non-fiction\, and poetry on and around California Avenue\, workshops\, panel discussions\, art\, family-friendly activities\, and a few surprises! Access to all events is free\, and all ages are welcome to participate.”
URL:https://www.coppercanyonpress.org/event/nevada-humanities-literary-crawl-presents-aimee-nezhukumatathil/
LOCATION:Nevada Museum of Art\, 160 W Liberty St\, Reno\, NV\, 89501\, United States
CATEGORIES:In Person
END:VEVENT
BEGIN:VEVENT
DTSTART;TZID=America/New_York:20220911T160000
DTEND;TZID=America/New_York:20220911T173000
DTSTAMP:20260423T201145
CREATED:20220905T154055Z
LAST-MODIFIED:20220905T154106Z
UID:8152-1662912000-1662917400@www.coppercanyonpress.org
SUMMARY:Poets Corner presents Black Coffee: A Conversation with Ellen Bass
DESCRIPTION:Sunday\, September 11\, 2022  at 4:00 PM to 5:30 PM ET \nFrom the organizers: \n“In conversation with The Poets Corner founder Meg Weston\, Ellen Bass will talk about the craft of poetry\, her creative process\, influences\, and recurring themes that appear in her poems and intrigue her in the poems of others. She’ll read from her various collections\, including the most recent\, Indigo. Join us on ZOOM for a lively conversation with one of America’s leading poets\, starting at 4:00 p.m. Eastern Time.” \nRegister here: https://www.thepoetscorner.org/events/black-coffee-a-conversation-with-ellen-bass
URL:https://www.coppercanyonpress.org/event/poets-corner-presents-black-coffee-a-conversation-with-ellen-bass/
CATEGORIES:Online
END:VEVENT
BEGIN:VEVENT
DTSTART;TZID=America/New_York:20220922T183000
DTEND;TZID=America/New_York:20220922T183000
DTSTAMP:20260423T201145
CREATED:20220909T182034Z
LAST-MODIFIED:20220909T182117Z
UID:8160-1663871400-1663871400@www.coppercanyonpress.org
SUMMARY:Hudson Valley Writers Center presents 2022 Gala honoring Arthur Sze and Lauren Acampora
DESCRIPTION:Hudson Valley Writers Center presents 2022 Gala\, Thursday\, September 22 at 6:30 PM ET\, honoring Arthur Sze and Lauren Acampora \nFrom the organizers: \n“The Hudson Valley Writers Center is thrilled to present the 2022 Gala honoring poet Arthur Sze and novelist Lauren Acampora!   \nJoin the festivities in person (Thursday\, September 22\, 6:30 PM)\nEnjoy live readings by this year’s acclaimed honorees in our historic Philipse Manor Station overlooking the Hudson River! In person tickets ($150) include:\n\nCocktails\, light dinner by Abigail Kirsch at Tappan Hill\, and desserts from Susan Lawrence Catering\nThe chance to bid on live auction items including unique experiences\,  events\, restaurant and personal care gift certificates\, and consultations with your favorite teachers.\nThe chance to win MULTIPLE in person RAFFLE PRIZES including a free HVWC workshop\, signed hardback copies of Arthur Sze’s Glass Constellation\, Lauren Acampora’s Hundred Waters\, and more!\n\nOur gala will be held indoors and also outdoors under a tent. We encourage all attendees to be up to date on their vaccinations and boosters\, but are not planning to check status at this time. While not eating or drinking\, we encourage attendees to wear a mask indoors. If you are not feeling well on the day of the gala\, we encourage you to attend the reading via Zoom. Our in person gala will host a maximum of 100 people and seating will not be distanced. Doors and windows will remain open as weather permits. We will adhere to the latest public health guidelines which may result in changing policies. Thank you for your assistance in keeping our community safe.” \nRegister here: https://www.writerscenter.org/calendar/2022gala/
URL:https://www.coppercanyonpress.org/event/hudson-valley-writers-center-presents-2022-gala-honoring-arthur-sze-and-lauren-acampora/
LOCATION:Philipse Manor Station\, 300 Riverside Drive\, Sleepy Hollow\, NY\, 10591\, United States
CATEGORIES:In Person
END:VEVENT
BEGIN:VEVENT
DTSTART;TZID=America/Los_Angeles:20220928T190000
DTEND;TZID=America/Los_Angeles:20220928T200000
DTSTAMP:20260423T201145
CREATED:20220822T230936Z
LAST-MODIFIED:20220822T230935Z
UID:8126-1664391600-1664395200@www.coppercanyonpress.org
SUMMARY:AT SKYLIGHT BOOKS: TANEUM BAMBRICK presents INTIMACIES\, RECEIVED with DOROTHY CHAN
DESCRIPTION:AT SKYLIGHT BOOKS: TANEUM BAMBRICK presents INTIMACIES\, RECEIVED with DOROTHY CHAN \nFrom the organizers: \n“In this astonishing second collection by Taneum Bambrick\, violence hides in the glint of the carving knife—every intimacy a shadow\, every memory a maze to navigate. Set primarily in rural Southern Spain\, Intimacies\, Received moves through streets and fields\, households and years\, following a survivor of sexual assault as she painstakingly reassembles a narrative of self. A brilliant storyteller\, Bambrick builds through palimpsest—layering vivid imagery to recall embodiment and dissociation\, illness and isolation\, queer female sexuality amidst acts of misogyny—utilizing varied forms including ekphrasis\, persona\, and a lyric essay. Ultimately\, Intimacies\, Received signals agency\, as trauma is held to the light and finally named. \nTaneum Bambrick is the author of Intimacies\, Received (Copper Canyon Press\, Sept 2022) and Vantage\, winner of the APR/Honickman First Book Award (American Poetry Review 2019). A 2020 Stegner Fellow at Stanford University\, she is currently a Dornsife Fellow in the PhD program at the University of Southern California. Her work appears in New Yorker\, The Nation\, Academy of American Poets\, PEN and elsewhere.  \nDorothy Chan (she/they) is the author of most recently\, BABE\, a book forthcoming with Diode Editions this Winter 2021\, in addition to Revenge of the Asian Woman (Diode Editions\, 2019)\, Attack of the Fifty-Foot Centerfold (Spork Press\, 2018)\, and Chinatown Sonnets (New Delta Review\, 2017). They were a 2020 and 2014 Ruth Lilly and Dorothy Sargent Rosenberg Poetry Fellowship finalist\, a 2020 finalist for the Lambda Literary Award in Bisexual Poetry for Revenge of the Asian Woman\, and a 2019 recipient of the Philip Freund Prize in Creative Writing from Cornell University. Their work has appeared in POETRY\, The American Poetry Review\, Academy of American Poets\, and elsewhere. Chan is an Assistant Professor of English at the University of Wisconsin-Eau Claire\, Editor Emeritus of Hobart\, Book Reviews Co-Editor of Pleiades\, and Co-Founder and Editor in Chief of Honey Literary Inc.\, a 501(c)(3) literary arts organization. Visit their website at dorothypoetry.com Chan received a PhD from Florida State University in 2019\, an MFA from Arizona State University in 2015\, and a BA from Cornell University in 2012.”
URL:https://www.coppercanyonpress.org/event/at-skylight-books-taneum-bambrick-presents-intimacies-received-with-dorothy-chan/
LOCATION:Skylight Books\, CA
CATEGORIES:In Person
END:VEVENT
BEGIN:VEVENT
DTSTART;TZID=America/New_York:20220928T193000
DTEND;TZID=America/New_York:20220928T193000
DTSTAMP:20260423T201145
CREATED:20220922T190021Z
LAST-MODIFIED:20220922T190144Z
UID:8193-1664393400-1664393400@www.coppercanyonpress.org
SUMMARY:Left Bank Ciders presents The Northern Spy Reading Series with Dana Levin
DESCRIPTION:Left Bank Ciders presents The Northern Spy Reading Series\, 7:30 PM ET\, with Dana Levin \nFrom the organizers: \n“Wednesday September 28th! 7:30 at Left Bank Ciders\, Dana Levin + HR Webster” \nFor more information visit: https://www.facebook.com/profile.php?id=100070143199289 \n  \n 
URL:https://www.coppercanyonpress.org/event/left-bank-ciders-presents-the-northern-spy-reading-series-with-dana-levin/
LOCATION:Left Bank Ciders\, 150 Water Street\, Catskills\, NY\, 12414\, United States
CATEGORIES:In Person
END:VEVENT
END:VCALENDAR