BEGIN:VCALENDAR
VERSION:2.0
PRODID:-//Copper Canyon Press - ECPv6.15.16//NONSGML v1.0//EN
CALSCALE:GREGORIAN
METHOD:PUBLISH
X-WR-CALNAME:Copper Canyon Press
X-ORIGINAL-URL:https://www.coppercanyonpress.org
X-WR-CALDESC:Events for Copper Canyon Press
REFRESH-INTERVAL;VALUE=DURATION:PT1H
X-Robots-Tag:noindex
X-PUBLISHED-TTL:PT1H
BEGIN:VTIMEZONE
TZID:America/Los_Angeles
BEGIN:DAYLIGHT
TZOFFSETFROM:-0800
TZOFFSETTO:-0700
TZNAME:PDT
DTSTART:20220313T100000
END:DAYLIGHT
BEGIN:STANDARD
TZOFFSETFROM:-0700
TZOFFSETTO:-0800
TZNAME:PST
DTSTART:20221106T090000
END:STANDARD
BEGIN:DAYLIGHT
TZOFFSETFROM:-0800
TZOFFSETTO:-0700
TZNAME:PDT
DTSTART:20230312T100000
END:DAYLIGHT
BEGIN:STANDARD
TZOFFSETFROM:-0700
TZOFFSETTO:-0800
TZNAME:PST
DTSTART:20231105T090000
END:STANDARD
BEGIN:DAYLIGHT
TZOFFSETFROM:-0800
TZOFFSETTO:-0700
TZNAME:PDT
DTSTART:20240310T100000
END:DAYLIGHT
BEGIN:STANDARD
TZOFFSETFROM:-0700
TZOFFSETTO:-0800
TZNAME:PST
DTSTART:20241103T090000
END:STANDARD
END:VTIMEZONE
BEGIN:VTIMEZONE
TZID:America/New_York
BEGIN:DAYLIGHT
TZOFFSETFROM:-0500
TZOFFSETTO:-0400
TZNAME:EDT
DTSTART:20220313T070000
END:DAYLIGHT
BEGIN:STANDARD
TZOFFSETFROM:-0400
TZOFFSETTO:-0500
TZNAME:EST
DTSTART:20221106T060000
END:STANDARD
BEGIN:DAYLIGHT
TZOFFSETFROM:-0500
TZOFFSETTO:-0400
TZNAME:EDT
DTSTART:20230312T070000
END:DAYLIGHT
BEGIN:STANDARD
TZOFFSETFROM:-0400
TZOFFSETTO:-0500
TZNAME:EST
DTSTART:20231105T060000
END:STANDARD
BEGIN:DAYLIGHT
TZOFFSETFROM:-0500
TZOFFSETTO:-0400
TZNAME:EDT
DTSTART:20240310T070000
END:DAYLIGHT
BEGIN:STANDARD
TZOFFSETFROM:-0400
TZOFFSETTO:-0500
TZNAME:EST
DTSTART:20241103T060000
END:STANDARD
END:VTIMEZONE
BEGIN:VTIMEZONE
TZID:America/Chicago
BEGIN:DAYLIGHT
TZOFFSETFROM:-0600
TZOFFSETTO:-0500
TZNAME:CDT
DTSTART:20220313T080000
END:DAYLIGHT
BEGIN:STANDARD
TZOFFSETFROM:-0500
TZOFFSETTO:-0600
TZNAME:CST
DTSTART:20221106T070000
END:STANDARD
BEGIN:DAYLIGHT
TZOFFSETFROM:-0600
TZOFFSETTO:-0500
TZNAME:CDT
DTSTART:20230312T080000
END:DAYLIGHT
BEGIN:STANDARD
TZOFFSETFROM:-0500
TZOFFSETTO:-0600
TZNAME:CST
DTSTART:20231105T070000
END:STANDARD
BEGIN:DAYLIGHT
TZOFFSETFROM:-0600
TZOFFSETTO:-0500
TZNAME:CDT
DTSTART:20240310T080000
END:DAYLIGHT
BEGIN:STANDARD
TZOFFSETFROM:-0500
TZOFFSETTO:-0600
TZNAME:CST
DTSTART:20241103T070000
END:STANDARD
END:VTIMEZONE
BEGIN:VEVENT
DTSTART;TZID=America/Los_Angeles:20230122T160000
DTEND;TZID=America/Los_Angeles:20230219T180000
DTSTAMP:20260422T001335
CREATED:20221220T164739Z
LAST-MODIFIED:20221220T164805Z
UID:8433-1674403200-1676829600@www.coppercanyonpress.org
SUMMARY:Comet of Stillness: Taught By Victoria Chang and Matthew Zapruder
DESCRIPTION:Victoria Chang and Matthew Zapruder will be teaching a class called Comet of Stillness: A five-week short course on the Poetry of W.S. Merwin. The course will meet on Sundays from January 22 – February 19\, 2023. \nEarly Bird Tuition (before January 12\, 2023): $270. \nStandard Tuition (After January 12\, 2023): $300. \nFinancial Aid is available \nFrom the organizers: \nW.S. Merwin’s poetry was visionary\, ecological\, anti-war\, and humanist\, and exhibits a clarity and strangeness that continues to exert a profound influence on contemporary American poetry. The goal of these five sessions is to dive deeply into this extraordinary poet and his body of work. Across five sessions\, poets Victoria Chang and Matthew Zapruder will facilitate close-readings of key poems\, and will situate the poems\, and the poet\, in their historical contexts. The course will explore Merwin’s formal innovations\, his thematic concerns\, and his development as a poet from his earliest work to his final poems. Chang and Zapruder will introduce\, and talk with\, key figures from his literary life\, including Merwin’s long-time editor at Copper Canyon Press\, Michael Wiegers. \n \nIn addition to course meetings\, Chang and Zapruder will provide additional reading materials. Each session will begin with an hour of discussion\, including background and close readings\, followed by a ten-minute break. The session will then reconvene for a second hour in which Chang and Zapruder will discuss thoughts from the chat\, answer questions\, and offer further insights. Each session will end with an optional poetry writing prompt based on Merwin’s poetry. \n \nDates/Times:  Sundays\, January 22 – February 19\, 2023  4:00-6:00 PM (Pacific) on Zoom \n \nEarly Bird Tuition (before January 12\, 2023): $270. \nStandard Tuition (After January 12\, 2023):  $300. \nFinancial aid is available. Please contact us if needed. \n  \nWhat to Expect: \nFive\, two-hour weekly sessions online with assigned reading of poems and supplemental material.\nIn the first sixty or seventy minutes of each session\, Victoria Chang and Mathew Zapruder will explore and supply background on the previously assigned poems.\nIn the second hour\, we will reconvene in our large group for conversation and questions.\nParticipant questions and comments may be addressed using Vimeo’s chat feature during the second hour\, though questions can be posted in the chat throughout the session.\nOptional small (8-10 person) discussion groups will be available to those with the energy and interest after the formal session is over.\nOptional writing prompts based on Merwin’s poems will be provided.\nEach participant will be given a seat on a dedicated SLACK channel\, where writing prompt responses and extracurricular discussion can occur.\nThis course will be presented live online on the Vimeo platform.\nThese sessions will be recorded\, and will be available for later viewing by registered participants for 30 days following the final session.\nTEXT:\nFor this course\, our text will be The Essential W.S. Merwin; handouts for each session will be posted online. \nParticipants who don’t own the text are asked to purchase and explore it\, if possible\, before January 22. \nThe Essential W.S. Merwin (Copper Canyon Press) \nTHE SHORT COURSE PLAN: \nSession 1 (Jan. 22): Introduction and early forms \nSession 2 (Jan. 29): The Lice: war and the environment \nSession 3 (Feb 5): Middle Period: intellect\, resistance\, and formal innovation \nSession 4 (Feb. 12): The Vixen: time and ghosts \nSession 5 (Feb 19): Late poems and Merwin’s poetic legacy \nOnline\, and year-round\, The Writers’ Annex is composed of short courses\, seminars\, workshops\, and more. Our vision is to bring the creative insight and experience of our staff poets and prose writers to our community in all seasons\, not just in the summertime\, and not just here in our Valley. Our online offerings will address such topics as eco-poetics\, translation\, and generative sessions. Some will be one or two days\, some will be weekend intensives\, and some will meet weekly for a month or two. In addition\, we hope these offerings will help offset the tremendous expenses we incur each summer bringing excellent writers of poetry and prose to the Valley regardless of their ability to pay. \n 
URL:https://www.coppercanyonpress.org/event/comet-of-stillness-taught-by-victoria-chang-and-matthew-zapruder/
CATEGORIES:Online
END:VEVENT
BEGIN:VEVENT
DTSTART;TZID=America/New_York:20230208T190000
DTEND;TZID=America/New_York:20230208T200000
DTSTAMP:20260422T001335
CREATED:20230213T204210Z
LAST-MODIFIED:20230213T204210Z
UID:8654-1675882800-1675886400@www.coppercanyonpress.org
SUMMARY:The Paris Review and the Morgan Library & Museum Present: A Reading and Conversation with Victoria Chang\, C. S. Giscombe\, Timmy Straw\, and Srikanth Reddy
DESCRIPTION:From the organizers: \n“Since 1953\, The Paris Review has shaped the canon of contemporary poetry\, publishing exciting new voices alongside household names. Contributors Victoria Chang\, C. S. Giscombe\, and Timmy Straw will be joined at the Morgan Library & Museum by the Review’s new poetry editor\, Srikanth Reddy\, to discuss their poems in the magazine’s new Winter issue\, no. 242\, as well as some of their favorite poems in the Review’s seventy-year-old archive—the first fifty years of which are housed at the Morgan. \nBy entering the museum\, you agree to our updated Visitor Guidelines and Policies. Masks are required for attending all public programs.” \nRegister here: https://www.themorgan.org/programs/new-poetry-and-paris-review-victoria-chang-cs-giscombe-timmy-straw-and-srikanth-reddy \nGeneral admission tickets cost $20. Morgan members and subscribers to The Paris Review pay $15. Students with a valid school ID get in FREE. 
URL:https://www.coppercanyonpress.org/event/the-paris-review-and-the-morgan-library-museum-present-a-reading-and-conversation-with-victoria-chang-c-s-giscombe-timmy-straw-and-srikanth-reddy/
LOCATION:The Morgan’s Gilder Lehrman Hall\, 225 Madison Avenue at 36th Street\, New York\, NY\, 10016\, United States
END:VEVENT
BEGIN:VEVENT
DTSTART;TZID=America/New_York:20230216T173000
DTEND;TZID=America/New_York:20230216T183000
DTSTAMP:20260422T001335
CREATED:20230228T062956Z
LAST-MODIFIED:20230228T062956Z
UID:8673-1676568600-1676572200@www.coppercanyonpress.org
SUMMARY:Zell Visiting Writers Series: Poet Alberto Ríos Reading and Q&A
DESCRIPTION:From the organizers: \n“The Zell Visiting Writers Series presents Alberto Ríos\, Arizona’s inaugural poet laureate and a recent chancellor of the Academy of American Poets\, is the author of twelve books and chapbooks of poetry\, including The Theater of Night—winner of the 2007 PEN/Beyond Margins Award—three collections of short stories\, and a memoir about growing up on the border\, Capirotada. \nAll events will be held in a hybrid format (i.e.\, both in person and over Zoom). Zoom attendees may login to all Zell Visiting Writers Series events via the usual link (with no pre-registration needed): https://tinyurl.com/ZellWriters  All events will include live\, automatic captioning for Zoom attendees. \nZVWS events are free and open to the public. For additional information\, questions\, or accommodations needs\, please contact Program Coordinator Michaela Kotziers at kotziers@umich.edu.”
URL:https://www.coppercanyonpress.org/event/zell-visiting-writers-series-poet-alberto-rios-reading-and-qa/
LOCATION:Helmut Stern Auditorium\, 25 S. State St.\, Ann Arbor\, MI\, 48109\, United States
CATEGORIES:In Person
END:VEVENT
BEGIN:VEVENT
DTSTART;TZID=America/Chicago:20230216T180000
DTEND;TZID=America/Chicago:20230216T180000
DTSTAMP:20260422T001335
CREATED:20230201T195714Z
LAST-MODIFIED:20230201T195714Z
UID:8572-1676570400-1676570400@www.coppercanyonpress.org
SUMMARY:Harry Ransom Center presents Victoria Chang: Author Reading and Book Signing
DESCRIPTION:Harry Ransom Center presents Victoria Chang: Author Reading and Book Signing\, 6 PM CST \nFrom the organizers: \nPoet\, writer\, and editor Victoria Chang celebrates her most recent book of poetry\, The Trees Witness Everything\, published by Copper Canyon Press and Corsair Books in the U.K. in 2022\, with this reading and a book signing at the Ransom Center. The book was named one of the Best Books of 2022 by The New Yorker and The Guardian. In the book\, Chang reinvigorates language by way of concentration\, using constraint to illuminate and free the wild interior. Largely composed in various Japanese syllabic forms called “wakas\,” each poem is shaped by pattern and count. \nThis highly original work innovates inside the lineage of great poets including W.S. Merwin\, whose poem titles are repurposed as frames and mirrors for the text\, stitching past and present in complex dialogue. Chang depicts the smooth\, melancholic isolation of the mind while reaching outward to name—with reverence\, economy\, and whimsy—the ache of wanting\, the hawk and its shadow\, our human urge to hide the minute beneath the light. \nMore information will appear here: https://www.eventbrite.com/e/victoria-chang-author-reading-and-book-signing-tickets-510908449927?fbclid=IwAR30oDL9yim6y6qFQ7IGanjVQq_4wPGQ7QztFazKljf7FBA2V66QYf4aIRY
URL:https://www.coppercanyonpress.org/event/harry-ransom-center-presents-victoria-chang-author-reading-and-book-signing/
LOCATION:Harry Ransom Center\, 300 West 21st Street\, Austin\, TX\, 78712\, United States
CATEGORIES:In Person
END:VEVENT
BEGIN:VEVENT
DTSTART;TZID=America/New_York:20230218T160000
DTEND;TZID=America/New_York:20230218T170000
DTSTAMP:20260422T001335
CREATED:20230215T044128Z
LAST-MODIFIED:20230215T044128Z
UID:8658-1676736000-1676739600@www.coppercanyonpress.org
SUMMARY:New Dominion Bookshop presents a Reading with Fernando Valverde and Wajahat Ali
DESCRIPTION:From the organizers: \n“Join us for a reading with poet Fernando Valverde (America) and writer Wajahat Ali (Go Back to Where You Came From). This in-person event will be free and open to the public. We recommend arriving early for the best seating.”
URL:https://www.coppercanyonpress.org/event/new-dominion-bookshop-presents-a-reading-with-fernando-valverde-and-wajahat-ali/
LOCATION:New Dominion Bookshop\, 404 East Main St\, Charlottesville\, VA\, 22902\, United States
CATEGORIES:In Person
END:VEVENT
BEGIN:VEVENT
DTSTART;TZID=America/Los_Angeles:20230218T183000
DTEND;TZID=America/Los_Angeles:20230218T193000
DTSTAMP:20260422T001335
CREATED:20230218T051718Z
LAST-MODIFIED:20230218T051717Z
UID:8670-1676745000-1676748600@www.coppercanyonpress.org
SUMMARY:Michael Wiegers Hosts Reading and Q&A with Shangyang Fang
DESCRIPTION:On February 18th at 6:30pm\, Michael Wiegers\, Executive Editor of Copper Canyon Press\, will host a reading and Q&A with Shangyang Fang at The Royal Block Hotel. Fang will read from his collection “Burying the Mountain.” \nThis event is FREE and open to the public. 
URL:https://www.coppercanyonpress.org/event/michael-wiegers-hosts-reading-and-qa-with-shangyang-fang/
LOCATION:The Royal Block\, 222 Main Street\, Waitsburg\, WA\, 99361\, United States
CATEGORIES:In Person
END:VEVENT
END:VCALENDAR