BEGIN:VCALENDAR
VERSION:2.0
PRODID:-//Copper Canyon Press - ECPv6.15.16//NONSGML v1.0//EN
CALSCALE:GREGORIAN
METHOD:PUBLISH
X-ORIGINAL-URL:https://www.coppercanyonpress.org
X-WR-CALDESC:Events for Copper Canyon Press
REFRESH-INTERVAL;VALUE=DURATION:PT1H
X-Robots-Tag:noindex
X-PUBLISHED-TTL:PT1H
BEGIN:VTIMEZONE
TZID:America/New_York
BEGIN:DAYLIGHT
TZOFFSETFROM:-0500
TZOFFSETTO:-0400
TZNAME:EDT
DTSTART:20220313T070000
END:DAYLIGHT
BEGIN:STANDARD
TZOFFSETFROM:-0400
TZOFFSETTO:-0500
TZNAME:EST
DTSTART:20221106T060000
END:STANDARD
BEGIN:DAYLIGHT
TZOFFSETFROM:-0500
TZOFFSETTO:-0400
TZNAME:EDT
DTSTART:20230312T070000
END:DAYLIGHT
BEGIN:STANDARD
TZOFFSETFROM:-0400
TZOFFSETTO:-0500
TZNAME:EST
DTSTART:20231105T060000
END:STANDARD
BEGIN:DAYLIGHT
TZOFFSETFROM:-0500
TZOFFSETTO:-0400
TZNAME:EDT
DTSTART:20240310T070000
END:DAYLIGHT
BEGIN:STANDARD
TZOFFSETFROM:-0400
TZOFFSETTO:-0500
TZNAME:EST
DTSTART:20241103T060000
END:STANDARD
END:VTIMEZONE
BEGIN:VTIMEZONE
TZID:America/Los_Angeles
BEGIN:DAYLIGHT
TZOFFSETFROM:-0800
TZOFFSETTO:-0700
TZNAME:PDT
DTSTART:20220313T100000
END:DAYLIGHT
BEGIN:STANDARD
TZOFFSETFROM:-0700
TZOFFSETTO:-0800
TZNAME:PST
DTSTART:20221106T090000
END:STANDARD
BEGIN:DAYLIGHT
TZOFFSETFROM:-0800
TZOFFSETTO:-0700
TZNAME:PDT
DTSTART:20230312T100000
END:DAYLIGHT
BEGIN:STANDARD
TZOFFSETFROM:-0700
TZOFFSETTO:-0800
TZNAME:PST
DTSTART:20231105T090000
END:STANDARD
BEGIN:DAYLIGHT
TZOFFSETFROM:-0800
TZOFFSETTO:-0700
TZNAME:PDT
DTSTART:20240310T100000
END:DAYLIGHT
BEGIN:STANDARD
TZOFFSETFROM:-0700
TZOFFSETTO:-0800
TZNAME:PST
DTSTART:20241103T090000
END:STANDARD
END:VTIMEZONE
BEGIN:VEVENT
DTSTART;TZID=America/New_York:20230401T110000
DTEND;TZID=America/New_York:20230401T133000
DTSTAMP:20260421T180420
CREATED:20230324T175838Z
LAST-MODIFIED:20230327T132815Z
UID:8783-1680346800-1680355800@www.coppercanyonpress.org
SUMMARY:Craft Class and Reading with Dana Levin
DESCRIPTION:From the organizers: \n“Join us for a Virtual Craft Class & Reading with Dana Levin. Craft Class will run from 11:00AM-1:00PM EST\, followed by a reading from 1:05 PM-1:20 PM. \nSerious Play: This April Fool’s Day workshop will focus on play—the heart of any strong writing practice. We’ll start with Keats’ notion of negative capability\, discuss associative logic\, and start playing! My hope is that participants will come away refreshed and interested in generating new poems with zest. The workshop will end with a round of Japanese Renga. \nYou must register here in order to receive the Zoom link on Friday\, March 31st (the day before the craft class).”
URL:https://www.coppercanyonpress.org/event/craft-class-and-reading-with-dana-levin/
CATEGORIES:Online
END:VEVENT
BEGIN:VEVENT
DTSTART;TZID=America/Los_Angeles:20230403T193000
DTEND;TZID=America/Los_Angeles:20230403T203000
DTSTAMP:20260421T180420
CREATED:20230402T183748Z
LAST-MODIFIED:20230402T183748Z
UID:8834-1680550200-1680553800@www.coppercanyonpress.org
SUMMARY:Seattle Arts & Lectures Presents Chris Abani
DESCRIPTION:Seattle Arts & Lectures will host a reading with Chris Abani at Rainier Arts Center on Monday April 3rd at 7:30pm PST. This reading will also be streamed live online. \nTo purchase tickets\, please visit https://seattle-arts-and-lectures.my.salesforce-sites.com/ticket/#/events/a0S5G00000QmfohUAB \n  \n 
URL:https://www.coppercanyonpress.org/event/seattle-arts-lectures-presents-chris-abani/
LOCATION:Rainier Arts Center\, 3515 S. Alaska St\, Seattle\, WA\, 98118\, United States
CATEGORIES:In Person
END:VEVENT
BEGIN:VEVENT
DTSTART;TZID=America/Los_Angeles:20230406T190000
DTEND;TZID=America/Los_Angeles:20230406T200000
DTSTAMP:20260421T180420
CREATED:20230215T052758Z
LAST-MODIFIED:20230215T052758Z
UID:8660-1680807600-1680811200@www.coppercanyonpress.org
SUMMARY:Whitman College Visiting Writers Series: Jane Miller
DESCRIPTION:From the organizers: \n“The Visiting Writers Reading Series brings established and emerging writers to share work with the community. Jane Miller has written twelve books\, most recently the poetry collection Who Is Trixie the Trasher? and Other Questions\, and From the Valley of Bronze Camels: A Primer\, Some Lectures\, & A Boondoggle on Poetry. She has performed her creative work and lectured on literature and the fine arts at universities\, colleges\, libraries\, community centers\, and arts venues for over thirty years. Miller is the recipient of a Wallace Award\, a Guggenheim Fellowship\, two National Endowment for the Arts Fellowships\, the Western States Book Award\, and the Audre Lorde Award. She served as a professor for many years in the Creative Writing Program at the University of Arizona—including a stint as its director—and as a visiting poet at the University of Texas Michener Center for Writers in Austin.”
URL:https://www.coppercanyonpress.org/event/whitman-college-visiting-writers-series-jane-miller/
LOCATION:Kimball Theatre in Hunter Conservatory\, 324 Boyer Ave.\, Walla Walla\, WA\, 99362\, United States
END:VEVENT
BEGIN:VEVENT
DTSTART;TZID=America/New_York:20230412T183000
DTEND;TZID=America/New_York:20230412T193000
DTSTAMP:20260421T180420
CREATED:20230330T172517Z
LAST-MODIFIED:20230330T172517Z
UID:8815-1681324200-1681327800@www.coppercanyonpress.org
SUMMARY:Eckerd College Presents National Poetry Month Reading with Victoria Chang
DESCRIPTION:From the organizers:  \n“In collaboration with the Dalí Museum’s monthly Poetry at the Dalí Series\, Eckerd College will welcome Victoria Chang to read from her forthcoming book of poems\, With My Back to the World\, in the Dalí Museum Will Raymund Theater at 6:30 pm EST April 12. \nThis event is free to the public—please arrive early to secure your preferred seat. To stream this reading\, visit the Dalí Museum’s YouTube channel at the date and time of the event.”
URL:https://www.coppercanyonpress.org/event/eckerd-college-presents-national-poetry-month-reading-with-victoria-chang/
LOCATION:Dalí Museum’s Will Raymund Theater\, 1 Dali Blvd.\, St. Petersburg\, FL\, 33701\, United States
CATEGORIES:In Person
END:VEVENT
BEGIN:VEVENT
DTSTART;TZID=America/Los_Angeles:20230420T110000
DTEND;TZID=America/Los_Angeles:20230420T120000
DTSTAMP:20260421T180420
CREATED:20230420T171208Z
LAST-MODIFIED:20230420T171208Z
UID:8876-1681988400-1681992000@www.coppercanyonpress.org
SUMMARY:Paisley Rekdal Interviews Dean Rader
DESCRIPTION:From the organizers:  \n“On Thursday April 20th\, join HCN editor Paisley Rekdal for a livestream discussion with poet Dean Rader about his new book Before the Borderless: Dialogues with the Art of Cy Twombly from 11:00-12:00pm PDT. \nTo join the livestream\, visit: https://www.youtube.com/watch?v=Oz9iGMczPac
URL:https://www.coppercanyonpress.org/event/paisley-rekdal-interviews-dean-rader/
CATEGORIES:Online
END:VEVENT
BEGIN:VEVENT
DTSTART;TZID=America/Los_Angeles:20230423T123000
DTEND;TZID=America/Los_Angeles:20230423T132000
DTSTAMP:20260421T180420
CREATED:20230420T170157Z
LAST-MODIFIED:20230428T134732Z
UID:8873-1682253000-1682256000@www.coppercanyonpress.org
SUMMARY:Victoria Chang at The Los Angeles Festival of Books
DESCRIPTION:On Sunday April 23rd\, The Los Angeles Times Festival of Books\, Viet Thanh Nguyen\, and David L. Ulin will host “Doing the Work: Talking with Chowdhury Prize Recipient Victoria Chang.” \nThis event will take 12:30–1:20pm PST on The Poetry Stage at the University of Southern California campus. It is free to the general public.  \n 
URL:https://www.coppercanyonpress.org/event/victoria-chang-at-the-los-angeles-festival-of-books/
LOCATION:University of Southern California\, 3551 Trousdale Pkwy\, Los Angeles\, CA\, 90089\, United States
CATEGORIES:In Person
END:VEVENT
BEGIN:VEVENT
DTSTART;TZID=America/Los_Angeles:20230425T180000
DTEND;TZID=America/Los_Angeles:20230425T190000
DTSTAMP:20260421T180420
CREATED:20230413T205216Z
LAST-MODIFIED:20230413T205216Z
UID:8860-1682445600-1682449200@www.coppercanyonpress.org
SUMMARY:Before the Borderless Release Party with Dean Rader
DESCRIPTION:From the organizers: \n“Join Guggenheim award-winning author Dean Rader for a celebration of the release of his most recent book\, Before the Borderless: Dialogues with the Art of Cy Twombly\, in the Firehouse at Fort Mason Center For Arts & Culture. Before the Borderless is a groundbreaking collection of poems featuring Rader’s original poems in conversation with paintings and drawings by the American artist\, Cy Twombly—the first time the estate of a major American artist has partnered with a poet and a publisher to produce a book such as this. \nThe evening features a short reading and discussion by the author followed by a reception of wine and hors d’oeuvres and a book signing. Copies of Before the Borderless are on sale at a discount.”
URL:https://www.coppercanyonpress.org/event/before-the-borderless-release-party-with-dean-rader/
LOCATION:The Firehouse\, 2 Marina Blvd\, San Francisco\, 94123
CATEGORIES:In Person
END:VEVENT
BEGIN:VEVENT
DTSTART;TZID=America/Los_Angeles:20230426T170000
DTEND;TZID=America/Los_Angeles:20230426T180000
DTSTAMP:20260421T180420
CREATED:20230426T154303Z
LAST-MODIFIED:20230426T154303Z
UID:9037-1682528400-1682532000@www.coppercanyonpress.org
SUMMARY:Book Launch Reading with Paisley Rekdal
DESCRIPTION:From the organizers: \n“Paisley Rekdal will read from her forthcoming collection\, West: A Translation at the Dumke Auditorium at the Utah Museum of Fine Arts on April 26th at 5:00 pm PDT. \nAdmission to the event is free. The launch is in connection with UMFA’s exhibition ‘Many Wests: Artists Shape an American Idea\,’ running through June 11.”
URL:https://www.coppercanyonpress.org/event/book-launch-reading-with-paisley-rekdal/
LOCATION:Dumke Auditorium at the Utah Museum of Fine Arts\, 410 Campus Center Drive\, Salt Lake City\, UT\, 84112\, United States
END:VEVENT
END:VCALENDAR