BEGIN:VCALENDAR
VERSION:2.0
PRODID:-//Copper Canyon Press - ECPv6.15.16//NONSGML v1.0//EN
CALSCALE:GREGORIAN
METHOD:PUBLISH
X-WR-CALNAME:Copper Canyon Press
X-ORIGINAL-URL:https://www.coppercanyonpress.org
X-WR-CALDESC:Events for Copper Canyon Press
REFRESH-INTERVAL;VALUE=DURATION:PT1H
X-Robots-Tag:noindex
X-PUBLISHED-TTL:PT1H
BEGIN:VTIMEZONE
TZID:America/New_York
BEGIN:DAYLIGHT
TZOFFSETFROM:-0500
TZOFFSETTO:-0400
TZNAME:EDT
DTSTART:20220313T070000
END:DAYLIGHT
BEGIN:STANDARD
TZOFFSETFROM:-0400
TZOFFSETTO:-0500
TZNAME:EST
DTSTART:20221106T060000
END:STANDARD
BEGIN:DAYLIGHT
TZOFFSETFROM:-0500
TZOFFSETTO:-0400
TZNAME:EDT
DTSTART:20230312T070000
END:DAYLIGHT
BEGIN:STANDARD
TZOFFSETFROM:-0400
TZOFFSETTO:-0500
TZNAME:EST
DTSTART:20231105T060000
END:STANDARD
BEGIN:DAYLIGHT
TZOFFSETFROM:-0500
TZOFFSETTO:-0400
TZNAME:EDT
DTSTART:20240310T070000
END:DAYLIGHT
BEGIN:STANDARD
TZOFFSETFROM:-0400
TZOFFSETTO:-0500
TZNAME:EST
DTSTART:20241103T060000
END:STANDARD
END:VTIMEZONE
BEGIN:VEVENT
DTSTART;TZID=America/New_York:20230716T160000
DTEND;TZID=America/New_York:20230716T173000
DTSTAMP:20260423T024308
CREATED:20230711T184735Z
LAST-MODIFIED:20230711T184734Z
UID:9258-1689523200-1689528600@www.coppercanyonpress.org
SUMMARY:Hudson Valley Writer's Center presents: An Afternoon to Celebrate New Poetry with Randall Mann and others
DESCRIPTION:Hudson Valley Writer’s Center presents: An Afternoon to celebrate new poetry collections with Randall Mann\, Glenis Redmond\, Enzo Silon Surin\, and Dustin Brookshire\, & Courtney LeBlanc (via Zoom) \nFrom the organizers: Join Jennifer Franklin\, Program Director & Sophia Bannister\, Programming Assistant & Social Media Director\, as we welcome Randall Mann\,  Glenis Redmond\, Enzo Silon Surrin\, and Courtney LeBlanc to read and discuss their new poetry collections. \nNB: This reading will take place on Zoom. The link will be sent to the email that you use to register as soon as you reserve a spot. (Please check your spam folder and save the link to your calendar.) It will also be sent to you the day of the reading for your convenience. \nMore information will appear here: https://www.writerscenter.org/calendar/newpoetry/  \n 
URL:https://www.coppercanyonpress.org/event/hudson-valley-writers-center-presents-an-afternoon-to-celebrate-new-poetry-with-randall-mann-and-others/
CATEGORIES:Online
END:VEVENT
END:VCALENDAR