BEGIN:VCALENDAR
VERSION:2.0
PRODID:-//Copper Canyon Press - ECPv6.15.16//NONSGML v1.0//EN
CALSCALE:GREGORIAN
METHOD:PUBLISH
X-ORIGINAL-URL:https://www.coppercanyonpress.org
X-WR-CALDESC:Events for Copper Canyon Press
REFRESH-INTERVAL;VALUE=DURATION:PT1H
X-Robots-Tag:noindex
X-PUBLISHED-TTL:PT1H
BEGIN:VTIMEZONE
TZID:America/New_York
BEGIN:DAYLIGHT
TZOFFSETFROM:-0500
TZOFFSETTO:-0400
TZNAME:EDT
DTSTART:20230312T070000
END:DAYLIGHT
BEGIN:STANDARD
TZOFFSETFROM:-0400
TZOFFSETTO:-0500
TZNAME:EST
DTSTART:20231105T060000
END:STANDARD
BEGIN:DAYLIGHT
TZOFFSETFROM:-0500
TZOFFSETTO:-0400
TZNAME:EDT
DTSTART:20240310T070000
END:DAYLIGHT
BEGIN:STANDARD
TZOFFSETFROM:-0400
TZOFFSETTO:-0500
TZNAME:EST
DTSTART:20241103T060000
END:STANDARD
BEGIN:DAYLIGHT
TZOFFSETFROM:-0500
TZOFFSETTO:-0400
TZNAME:EDT
DTSTART:20250309T070000
END:DAYLIGHT
BEGIN:STANDARD
TZOFFSETFROM:-0400
TZOFFSETTO:-0500
TZNAME:EST
DTSTART:20251102T060000
END:STANDARD
END:VTIMEZONE
BEGIN:VTIMEZONE
TZID:America/Los_Angeles
BEGIN:DAYLIGHT
TZOFFSETFROM:-0800
TZOFFSETTO:-0700
TZNAME:PDT
DTSTART:20230312T100000
END:DAYLIGHT
BEGIN:STANDARD
TZOFFSETFROM:-0700
TZOFFSETTO:-0800
TZNAME:PST
DTSTART:20231105T090000
END:STANDARD
BEGIN:DAYLIGHT
TZOFFSETFROM:-0800
TZOFFSETTO:-0700
TZNAME:PDT
DTSTART:20240310T100000
END:DAYLIGHT
BEGIN:STANDARD
TZOFFSETFROM:-0700
TZOFFSETTO:-0800
TZNAME:PST
DTSTART:20241103T090000
END:STANDARD
BEGIN:DAYLIGHT
TZOFFSETFROM:-0800
TZOFFSETTO:-0700
TZNAME:PDT
DTSTART:20250309T100000
END:DAYLIGHT
BEGIN:STANDARD
TZOFFSETFROM:-0700
TZOFFSETTO:-0800
TZNAME:PST
DTSTART:20251102T090000
END:STANDARD
END:VTIMEZONE
BEGIN:VTIMEZONE
TZID:America/Denver
BEGIN:DAYLIGHT
TZOFFSETFROM:-0700
TZOFFSETTO:-0600
TZNAME:MDT
DTSTART:20230312T090000
END:DAYLIGHT
BEGIN:STANDARD
TZOFFSETFROM:-0600
TZOFFSETTO:-0700
TZNAME:MST
DTSTART:20231105T080000
END:STANDARD
BEGIN:DAYLIGHT
TZOFFSETFROM:-0700
TZOFFSETTO:-0600
TZNAME:MDT
DTSTART:20240310T090000
END:DAYLIGHT
BEGIN:STANDARD
TZOFFSETFROM:-0600
TZOFFSETTO:-0700
TZNAME:MST
DTSTART:20241103T080000
END:STANDARD
BEGIN:DAYLIGHT
TZOFFSETFROM:-0700
TZOFFSETTO:-0600
TZNAME:MDT
DTSTART:20250309T090000
END:DAYLIGHT
BEGIN:STANDARD
TZOFFSETFROM:-0600
TZOFFSETTO:-0700
TZNAME:MST
DTSTART:20251102T080000
END:STANDARD
END:VTIMEZONE
BEGIN:VEVENT
DTSTART;TZID=America/New_York:20240414T160000
DTEND;TZID=America/New_York:20240414T170000
DTSTAMP:20260421T103845
CREATED:20240201T161353Z
LAST-MODIFIED:20240201T161353Z
UID:9894-1713110400-1713114000@www.coppercanyonpress.org
SUMMARY:Hudson Valley Writers Center: Poetry & Conversation with Patricia Spears Jones\, Peter Covino\, & E.J. Antonio
DESCRIPTION:From the organizers: \n“Join us IN PERSON at HVWC on Sunday\, April 14\, at 4 PM ET to hear poetry and conversation with Patricia Spears Jones\, Peter Covino\, and E.J. Antonio.” \nRegister here: https://www.writerscenter.org/calendar/april14/ \n 
URL:https://www.coppercanyonpress.org/event/hudson-valley-writers-center-poetry-conversation-with-patricia-spears-jones-peter-covino-e-j-antonio/
LOCATION:Hudson Valley Writers Center\, 300 Riverside Drive\, Sleepy Hollow\, NY\, 10591\, United States
END:VEVENT
BEGIN:VEVENT
DTSTART;TZID=America/Los_Angeles:20240418T183000
DTEND;TZID=America/Los_Angeles:20240418T183000
DTSTAMP:20260421T103845
CREATED:20231109T203118Z
LAST-MODIFIED:20231109T203118Z
UID:9624-1713465000-1713465000@www.coppercanyonpress.org
SUMMARY:Portland Arts & Lectures Series Presents Aimee Nezhukumatathil and more
DESCRIPTION:Portland Arts & Lectures Series Presents Aimee Nezhukumatathil on April 18th\, 2024 at 6:30pm \nFrom the organizers: \n“We are pleased to announce the lineup of our 39th annual Portland Arts & Lectures season. \nAll lectures take place in person at the Arlene Schnitzer Concert Hall in downtown Portland\, OR. \nSubscriptions start at $110 for the five-part series.” \nRead more and subscribe for the series here: https://literary-arts.org/2023/04/pal-2023-24-season-lineup-revealed/
URL:https://www.coppercanyonpress.org/event/portland-arts-lectures-series-presents-aimee-nezhukumatathil-and-more/
LOCATION:Arlene Schnitzer Concert Hall\, 1037 SW Broadway\, Portland\, CA\, United States
END:VEVENT
BEGIN:VEVENT
DTSTART;TZID=America/Denver:20240418T190000
DTEND;TZID=America/Denver:20240418T190000
DTSTAMP:20260421T103845
CREATED:20231218T204202Z
LAST-MODIFIED:20231218T204202Z
UID:9753-1713466800-1713466800@www.coppercanyonpress.org
SUMMARY:Piper Distinguished Visiting Writers Series Presents Arthur Sze and Wang Jiaxin
DESCRIPTION:Piper Distinguished Visiting Writers Series Presents Arthur Sze and Wang Jiaxin on Thurs April 18th 2024 at 7pm MST \nFrom the organizers: \n“In honor of National Poetry Month 2024\, two distinguished poets read and talk about form\, tradition\, innovation and imitation. The conversation will be moderated by Lucas Klein\, translator and ASU Professor of Chinese.” \nRegister for the event here: https://virginia-g-piper-center-for-creative-writing.ticketleap.com/piper-distinguished-visiting-writers-series-with-arthur-sze-and/
URL:https://www.coppercanyonpress.org/event/piper-distinguished-visiting-writers-series-presents-arthur-sze-and-wang-jiaxin/
LOCATION:Piper Writer’s House\, 450 E Tyler Mall\, Tempe\, AZ\, 85281\, United States
CATEGORIES:In Person
END:VEVENT
BEGIN:VEVENT
DTSTART;TZID=America/Los_Angeles:20240428T160000
DTEND;TZID=America/Los_Angeles:20240428T180000
DTSTAMP:20260421T103845
CREATED:20240219T155309Z
LAST-MODIFIED:20240219T155309Z
UID:9943-1714320000-1714327200@www.coppercanyonpress.org
SUMMARY:The Community of Writers: Rediscovering Sylvia Plath with Victoria Chang & Matthew Zapruder
DESCRIPTION:From the organizers:  \n“When we think of Sylvia Plath\, it’s easy to see the image of the electric confessional poet who took her own life. Her tragic personal history\, including her marriage to Ted Hughes\, can easily obscure her poetry. But when we return to the work itself\, we see a poet of genius\, who mapped her struggles to find a completely original poetic voice. \n“In this Short Course\, we’ll close-read Plath’s poetry\, to learn from her singularity. We’ll begin with an overview of Plath’s poetry leading up to her creative breakthrough\, then focus the remaining four sessions on close reading poems from her posthumous\, best-known book Ariel. We’ll try to understand together where she came from\, her essential innovations\, and her effect on the poetry that came after her. Was she truly a “confessional” poet? How does she make meaning from the turmoil of her life\, and the time in which she wrote? What were her poetic innovations? How can we understand her poems as something more than mere autobiography? What aspects of her poetry continue to influence poems today? In addition to the poems from Ariel and after\, we’ll look at drafts of her poems from her archives\, to explore her writing process\, so that we can learn from her creative process.  \n“Each session will begin with an hour of discussion between Victoria Chang and Matthew Zapruder\, including background and close readings\, followed by a short break. We will then reconvene for our second hour in which we will discuss your thoughts from the chat\, answer questions\, and offer further insights. We will end each session with an optional poetry writing prompt based on Plath’s poetry. \n“Dates & Times: Online Sundays from April 28 to May 19\, 2024 with a Bonus Session on May 22. Main sessions run from 4 pm-6 pm (Pacific) with optional discussion groups to follow. \n\nSunday\, April 28\, 2024  4:00-6:00 PT / 7:00-9:00 ET\nSunday\, May 5\, 2024  4:00-6:00 PT / 7:00-9:00 ET\nSunday\, May 12\, 2024 4:00-6:00 PT / 7:00-9:00 ET\nSunday\, May 19\, 2024 4:00-6:00 PT / 7:00-9:00 ET\nWednesday\, May 22\, 2024 4:00-6:00 PT / 7:00-9:00 ET (Bonus Session)\n\n“Note: For those who are interested\, intimate Zoom discussion groups (Virtual Houses) will meet after each session and on subsequent Saturdays at 10 AM.” \nRegister here: https://communityofwriters.org/register-for-rediscovering-sylvia-path/
URL:https://www.coppercanyonpress.org/event/the-community-of-writers-rediscovering-sylvia-plath-with-victoria-chang-matthew-zapruder/
CATEGORIES:Online
END:VEVENT
END:VCALENDAR