BEGIN:VCALENDAR
VERSION:2.0
PRODID:-//Copper Canyon Press - ECPv6.15.16//NONSGML v1.0//EN
CALSCALE:GREGORIAN
METHOD:PUBLISH
X-ORIGINAL-URL:https://www.coppercanyonpress.org
X-WR-CALDESC:Events for Copper Canyon Press
REFRESH-INTERVAL;VALUE=DURATION:PT1H
X-Robots-Tag:noindex
X-PUBLISHED-TTL:PT1H
BEGIN:VTIMEZONE
TZID:America/Los_Angeles
BEGIN:DAYLIGHT
TZOFFSETFROM:-0800
TZOFFSETTO:-0700
TZNAME:PDT
DTSTART:20240310T100000
END:DAYLIGHT
BEGIN:STANDARD
TZOFFSETFROM:-0700
TZOFFSETTO:-0800
TZNAME:PST
DTSTART:20241103T090000
END:STANDARD
BEGIN:DAYLIGHT
TZOFFSETFROM:-0800
TZOFFSETTO:-0700
TZNAME:PDT
DTSTART:20250309T100000
END:DAYLIGHT
BEGIN:STANDARD
TZOFFSETFROM:-0700
TZOFFSETTO:-0800
TZNAME:PST
DTSTART:20251102T090000
END:STANDARD
BEGIN:DAYLIGHT
TZOFFSETFROM:-0800
TZOFFSETTO:-0700
TZNAME:PDT
DTSTART:20260308T100000
END:DAYLIGHT
BEGIN:STANDARD
TZOFFSETFROM:-0700
TZOFFSETTO:-0800
TZNAME:PST
DTSTART:20261101T090000
END:STANDARD
END:VTIMEZONE
BEGIN:VTIMEZONE
TZID:America/New_York
BEGIN:DAYLIGHT
TZOFFSETFROM:-0500
TZOFFSETTO:-0400
TZNAME:EDT
DTSTART:20240310T070000
END:DAYLIGHT
BEGIN:STANDARD
TZOFFSETFROM:-0400
TZOFFSETTO:-0500
TZNAME:EST
DTSTART:20241103T060000
END:STANDARD
BEGIN:DAYLIGHT
TZOFFSETFROM:-0500
TZOFFSETTO:-0400
TZNAME:EDT
DTSTART:20250309T070000
END:DAYLIGHT
BEGIN:STANDARD
TZOFFSETFROM:-0400
TZOFFSETTO:-0500
TZNAME:EST
DTSTART:20251102T060000
END:STANDARD
BEGIN:DAYLIGHT
TZOFFSETFROM:-0500
TZOFFSETTO:-0400
TZNAME:EDT
DTSTART:20260308T070000
END:DAYLIGHT
BEGIN:STANDARD
TZOFFSETFROM:-0400
TZOFFSETTO:-0500
TZNAME:EST
DTSTART:20261101T060000
END:STANDARD
END:VTIMEZONE
BEGIN:VEVENT
DTSTART;TZID=America/Los_Angeles:20250402T153000
DTEND;TZID=America/Los_Angeles:20250402T163000
DTSTAMP:20260419T052703
CREATED:20250316T234244Z
LAST-MODIFIED:20250316T234244Z
UID:10800-1743607800-1743611400@www.coppercanyonpress.org
SUMMARY:8th Annual Lee Scheingold Lecture in Poetry and Poetics With Pádraig Ó Tuama
DESCRIPTION:From the organizers: \nPoet and theologian\, Pádraig Ó Tuama’s work centers around themes of language\, power\, conflict and religion. Working fluently on the page and in public\, he is a compelling poet and skilled speaker\, teacher and group worker. He presents Poetry Unbound with On Being Studios. From 2014-2019 he was the leader of the Corrymeela Community\, Ireland’s oldest peace and reconciliation community. With undergraduate and postgraduate degrees in theology\, multiple professional qualifications in conflict mediation (specialising in groups)\, he also holds a PhD (Poetry & Theology) from the University of Glasgow. For the Autumn terms of 2024-28\, he is a visiting scholar at the centre for Cooperation and Conflict Resolution at Columbia University. \nWhen BBC journalist William Crawley introduced Pádraig on the stage to deliver a TEDx talk on Story\, Crawley said\, “He’s probably the best public speaker I know.” Profiling Ó Tuama in The New Yorker\, journalist and poet Eliza Grizwold wrote “Poetry\, for him\, is the language the heart speaks not when it reaches for some externalized divinity but when it seeks to understand itself.”
URL:https://www.coppercanyonpress.org/event/8th-annual-lee-scheingold-lecture-in-poetry-and-poetics-with-padraig-o-tuama/
LOCATION:Husky Union Building\, Room 334\, University of Washington\, 4001 E Stevens Way NE\, Seattle\, WA\, 98195\, United States
CATEGORIES:In Person
END:VEVENT
BEGIN:VEVENT
DTSTART;TZID=America/Los_Angeles:20250402T190000
DTEND;TZID=America/Los_Angeles:20250402T200000
DTSTAMP:20260419T052703
CREATED:20250314T193306Z
LAST-MODIFIED:20250314T203729Z
UID:10456-1743620400-1743624000@www.coppercanyonpress.org
SUMMARY:The Elliott Bay Book Company presents a Reading with Tishani Doshi and Kelli Russell Agodon
DESCRIPTION:From the organizers: \n \n“Award-winning poet\, writer\, and dancer Tishani Doshi and award-winning poet and editor Kelli Russell Agodon visit the store to discuss their poetry collections\, A God at the Door and Dialogues with the Rising Tides. \nPlease help us prepare for audience size by RSVPing here.” \nA God at the Door \n“We are homesick everywhere\,” writes Tishani Doshi\, “even when we’re home.” With aching empathy\, righteous anger\, and rebellious humor\, A God at the Door calls on the extraordinary minutiae of nature and humanity to redefine belonging and unveil injustice. In an era of pandemic lockdown and brutal politics\, these poems make vital space for what must come next-the return of wonder and free movement\, and a profound sense of connection to what matters most. From a microscopic cell to flightless birds\, to a sumo wrestler and the tree of life\, Doshi interrupts the news cycle to pause in grief or delight\, to restore power to language. A God at the Door invites the reader on a pilgrimage-one that leads us back to the sacred temple of ourselves. This is an exquisite\, generous collection from a poet at the peak of her powers. \nDialogues with Rising Tides \nIn Kelli Russell Agodon’s fourth collection\, each poem facilitates a humane and honest conversation with the forces that threaten to take us under. The anxieties and heartbreaks of life—including environmental collapse\, cruel politics\, and the persistent specter of suicide—are met with emotional vulnerability and darkly sparkling humor. Dialogues with Rising Tides does not answer\, This or that? It passionately exclaims\, And also! Even in the midst of great difficulty\, radiant wonders are illuminated at every turn. \nTishani Doshi is an award-winning poet\, writer\, and dancer. She has published six books of poetry and fiction. Her work has appeared in newspapers and journals such as the Guardian\, the National\, and the Hindu\, and her essays\, poems and short stories have been widely anthologized. Doshi lives in Tamil Nadu\, India\, and is currently Visiting Professor of Practice\, Literature and Creative Writing at New York University\, Abu Dhabi. \nKelli Russell Agodon (she/her) is a bi/queer poet and editor whose newest poetry book is Dialogues with Rising Tides (Copper Canyon Press) was named a Finalist in the Washington State Book Awards and shortlisted for the Eric Hoffer Book Award Grand Prize in Poetry. She is also the author of Demystifying the Manuscript: Essays & Interviews on Creating a Book of Poems. She is the cofounder of Two Sylvias Press where she works as an editor and book cover designer. She teaches at Pacific Lutheran University’s low-res MFA program\, the Rainier Writing Workshop. Kelli is currently part of a project between local land trusts and artists to help raise awareness for the preservation of land\, ecosystems\, and biodiversity called Writing the Land. She also co-hosts the poetry series”Poems You Need” with Melissa Studdard. Her latest collection\, Accidental Devotions\, is forthcoming from Copper Canyon Press in 2026.
URL:https://www.coppercanyonpress.org/event/the-elliott-bay-book-company-presents-a-reading-with-tishani-doshi-and-kelli-russell-agodon/
LOCATION:Elliott Bay Book Company\, 1521 10th Ave.\, Seattle\, WA\, 98122\, United States
CATEGORIES:In Person
END:VEVENT
BEGIN:VEVENT
DTSTART;TZID=America/Los_Angeles:20250403T190000
DTEND;TZID=America/Los_Angeles:20250403T203000
DTSTAMP:20260419T052703
CREATED:20250317T020015Z
LAST-MODIFIED:20250317T011617Z
UID:10806-1743706800-1743712200@www.coppercanyonpress.org
SUMMARY:Pádraig Ó Tuama: The Better Angels of Our Nature
DESCRIPTION:From the Organizer: \nA Thursday evening Wisdom School event with acclaimed poet and theologian Pádraig Ó Tuama\nTHURSDAY\, APRIL 3\, 2025\, 7–8:30 P.M.\, in person in the cathedral nave and livestreamed; registration required \nDue to the number of registrations\, this event will be offered in the cathedral nave rather than Bloedel Hall. A livestream will be available to registrants as announced previously.  \nWe live in fraught times when violence seems to be the common denominator in a calculus based in mistrust and misanthropic othering. An eye for an eye leaves the whole world blind… Drawing on inspiration from his work with language and religion\, conflict and peacemaking\, this truth-teller of our time will draw us into an orbit of soulful wisdom and poetic grace. \nFee: $15 (for in-person and livestream participation). \nRegister below or using this link.
URL:https://www.coppercanyonpress.org/event/padraig-o-tuama-the-better-angels-of-our-nature/
LOCATION:Cathedral Nave\, University of Washington\, 1410 NE Campus Pkwy\, Seattle\, WA\, 98195\, United States
CATEGORIES:In Person,Online
END:VEVENT
BEGIN:VEVENT
DTSTART;TZID=America/New_York:20250408T193000
DTEND;TZID=America/New_York:20250408T203000
DTSTAMP:20260419T052703
CREATED:20250319T222205Z
LAST-MODIFIED:20250319T224431Z
UID:10823-1744140600-1744144200@www.coppercanyonpress.org
SUMMARY:O.B. Hardison Poetry Series Finale with Ellen Bass
DESCRIPTION:From the organizer: \nThe 2024-25 Poetry season concludes with a finale reading by Ellen Bass. Bass’s most recent poetry books include Indigo\, Like a Beggar\, and The Human Line. She co-edited the first major anthology of women’s poetry\, No More Masks!\, and her nonfiction works include The Courage to Heal: A Guide for Women Survivors of Child Sexual Abuse and Free Your Mind: The Book for Gay\, Lesbian and Bisexual Youth. Bass\, chosen by a group of Folger Poetry supporters\, will read from the work of other poets cited as a literary influence\, as well as from her own work. A moderated conversation\, bookselling\, and signing will follow the reading. \nVirtual access to a live streaming of the reading available upon purchase. \nRegister here: https://tinyurl.com/mrxf359t
URL:https://www.coppercanyonpress.org/event/o-b-hardison-poetry-series-finale-with-ellen-bass/
LOCATION:Folger Theatre\, 201 E Capitol St SE\, Washington\, 20003\, United States
CATEGORIES:In Person
END:VEVENT
BEGIN:VEVENT
DTSTART;TZID=America/New_York:20250409T170000
DTEND;TZID=America/New_York:20250409T180000
DTSTAMP:20260419T052703
CREATED:20250319T223039Z
LAST-MODIFIED:20250319T223039Z
UID:10827-1744218000-1744221600@www.coppercanyonpress.org
SUMMARY:Ellen Bass: The Myra Berman Kurtz '66 Seminar
DESCRIPTION:From the organizer: \nThe Kurtz Seminar series was endowed by the late Myra Berman Kurtz ’66 and her husband\, Dr. Stuart Kurtz\, to present speakers at Goucher College who will inspire under- graduate students to pursue careers in a variety of fields. This year’s seminar features Goucher alumna and author Ellen Bass ’68.
URL:https://www.coppercanyonpress.org/event/ellen-bass-the-myra-berman-kurtz-66-seminar/
LOCATION:Kraushaar Auditorium\, 1021 Dulaney Valley Rd\, Towson\, MD\, 21204\, United States
END:VEVENT
BEGIN:VEVENT
DTSTART;TZID=America/New_York:20250409T170000
DTEND;TZID=America/New_York:20250409T180000
DTSTAMP:20260419T052703
CREATED:20250319T224223Z
LAST-MODIFIED:20250319T224404Z
UID:10834-1744218000-1744221600@www.coppercanyonpress.org
SUMMARY:Ellen Bass: The Myra Berman Kurtz '66 Seminar
DESCRIPTION:The Kurtz Seminar series was endowed by the late Myra Berman Kurtz ’66 and her husband\, Dr. Stuart Kurtz\, to present speakers at Goucher College who will inspire under- graduate students to pursue careers in a variety of fields. This year’s seminar features Goucher alumna and author Ellen Bass ’68. \nSee more at event site: https://events.goucher.edu/event/ellen-bass-the-myra-berman-kurtz-66-seminar
URL:https://www.coppercanyonpress.org/event/ellen-bass-the-myra-berman-kurtz-66-seminar-2/
LOCATION:Kraushaar Auditorium\, 1021 Dulaney Valley Rd\, Towson\, MD\, 21204\, United States
END:VEVENT
BEGIN:VEVENT
DTSTART;TZID=America/Los_Angeles:20250412T083000
DTEND;TZID=America/Los_Angeles:20250412T170000
DTSTAMP:20260419T052703
CREATED:20250410T210020Z
LAST-MODIFIED:20250410T210020Z
UID:10930-1744446600-1744477200@www.coppercanyonpress.org
SUMMARY:Sierra Poetry Festival (With Randall Mann)
DESCRIPTION:From the organizers: \nSierra Poetry Festival is a project of Nevada County Arts Council. We will host our 9th Annual SIERRA POETRY FESTIVAL on April 12\, 2025 at The Center for the Arts\, in Grass Valley\, CA\, attended by some of our most exciting local\, national\, and international poets and performers\, in the midst of a month-long FRINGE POETRY FESTIVAL\, taking place in venues across Nevada County and beyond. \nSierra Poetry Festival marks National Poetry Month from the rolling foothills of California’s Gold Country to the rugged High Sierra\, bringing a rich literary community together to celebrate the spoken word and reach out to new audiences in fresh ways. Through Sierra Poetry Festival we also celebrate California Arts\, Culture & Creativity Month and we draw attention to our two coveted California Cultural Districts. \nGet tickets here \n 
URL:https://www.coppercanyonpress.org/event/sierra-poetry-festival-with-randall-mann/
LOCATION:The Center for the Arts\, 314 W Main St.\, Grass Valley\, CA\, 95945\, United States
CATEGORIES:In Person
ATTACH;FMTTYPE=image/png:https://www.coppercanyonpress.org/wp-content/uploads/2025/04/BannerA.png
ORGANIZER;CN="Sierra Poetry Festival":MAILTO:POETRY@NEVADACOUNTYARTS.ORG
END:VEVENT
BEGIN:VEVENT
DTSTART;VALUE=DATE:20250425
DTEND;VALUE=DATE:20250428
DTSTAMP:20260419T052703
CREATED:20250320T012326Z
LAST-MODIFIED:20250320T012326Z
UID:10847-1745539200-1745798399@www.coppercanyonpress.org
SUMMARY:Sarah Lawrence Poetry Festival 2025
DESCRIPTION:From the organizer: \nThe Sarah Lawrence College Poetry Festival takes place in April each year and is the largest\, open\, student-run Poetry Festival in New York. Since 2003\, we have been dedicated to the celebration of contemporary poetry and the creation of community around the art form. Previously\, we have welcomed poets such as Tracy K. Smith\, Anne Carson\, Nicole Sealy\, Jos Charles\, Eduardo C. Corral\, and many others. Our festival includes readings\, panel discussions\, generative sessions\, craft talks\, and more! We hope to see you there. \nFree and open to the public\, this year our festival will run from April 25 – 27th here on campus! For more information\, please contact us at slcpoetryfest@gmail.com or follow our social media pages (@slcpoetryfest).
URL:https://www.coppercanyonpress.org/event/sarah-lawrence-poetry-festival-2025/
LOCATION:Sarah Lawrence College\, 1 Mead Way\, Bronxville\, NY\, United States
END:VEVENT
BEGIN:VEVENT
DTSTART;TZID=America/New_York:20250430T190000
DTEND;TZID=America/New_York:20250430T200000
DTSTAMP:20260419T052703
CREATED:20250320T010931Z
LAST-MODIFIED:20250320T011058Z
UID:10844-1746039600-1746043200@www.coppercanyonpress.org
SUMMARY:Sophie Cabot Black and Elise Paschen at Grolier Poetry Book Shop
DESCRIPTION:Sophie Cabot Black\, author of Geometry of the Restless Herd\, will be reading at Grolier Poetry Book Shop with Elise Paschen on April 30th at 7PM. \nRegister in person here: https://lp.constantcontactpages.com/ev/reg/5pyq967/lp/33cf158d-15e4-461f-86b6-544a6b219cd0 \nRegister virtually here: https://lp.constantcontactpages.com/ev/reg/rm8bs8p/lp/97d283fd-19b6-4b6e-a9e1-39414f37b887
URL:https://www.coppercanyonpress.org/event/sophie-cabot-black-and-elise-paschen-at-grolier-poetry-book-shop/
LOCATION:Grolier Poetry Book Shop\, 6 Plympton St.\, Cambridge\, MA\, United States
CATEGORIES:In Person,Online
END:VEVENT
END:VCALENDAR