BEGIN:VCALENDAR
VERSION:2.0
PRODID:-//Copper Canyon Press - ECPv6.15.16//NONSGML v1.0//EN
CALSCALE:GREGORIAN
METHOD:PUBLISH
X-WR-CALNAME:Copper Canyon Press
X-ORIGINAL-URL:https://www.coppercanyonpress.org
X-WR-CALDESC:Events for Copper Canyon Press
REFRESH-INTERVAL;VALUE=DURATION:PT1H
X-Robots-Tag:noindex
X-PUBLISHED-TTL:PT1H
BEGIN:VTIMEZONE
TZID:America/Los_Angeles
BEGIN:DAYLIGHT
TZOFFSETFROM:-0800
TZOFFSETTO:-0700
TZNAME:PDT
DTSTART:20240310T100000
END:DAYLIGHT
BEGIN:STANDARD
TZOFFSETFROM:-0700
TZOFFSETTO:-0800
TZNAME:PST
DTSTART:20241103T090000
END:STANDARD
BEGIN:DAYLIGHT
TZOFFSETFROM:-0800
TZOFFSETTO:-0700
TZNAME:PDT
DTSTART:20250309T100000
END:DAYLIGHT
BEGIN:STANDARD
TZOFFSETFROM:-0700
TZOFFSETTO:-0800
TZNAME:PST
DTSTART:20251102T090000
END:STANDARD
BEGIN:DAYLIGHT
TZOFFSETFROM:-0800
TZOFFSETTO:-0700
TZNAME:PDT
DTSTART:20260308T100000
END:DAYLIGHT
BEGIN:STANDARD
TZOFFSETFROM:-0700
TZOFFSETTO:-0800
TZNAME:PST
DTSTART:20261101T090000
END:STANDARD
END:VTIMEZONE
BEGIN:VEVENT
DTSTART;TZID=America/Los_Angeles:20250930T190000
DTEND;TZID=America/Los_Angeles:20250930T203000
DTSTAMP:20260425T064916
CREATED:20250929T183616Z
LAST-MODIFIED:20250929T183616Z
UID:11413-1759258800-1759264200@www.coppercanyonpress.org
SUMMARY:A Poetry Reading with Gabrielle Calvocoressi at Smith College
DESCRIPTION:In honor of her new book\, The New Economy\, Gabrielle Calvocoressi will be reading poetry on the Smith College campus Tuesday\, September 30th from 7pm-8:30pm in Weinstein Auditorium. This event us free and open to the public. A livestream also available on the BDPC YouTube page.
URL:https://www.coppercanyonpress.org/event/a-poetry-reading-with-gabrielle-calvocoressi-at-smith-college/
LOCATION:Weinstein Auditorium\, Wright Hall (Smith College)
CATEGORIES:In Person,Online
END:VEVENT
END:VCALENDAR