BEGIN:VCALENDAR
VERSION:2.0
PRODID:-//Copper Canyon Press - ECPv6.15.16//NONSGML v1.0//EN
CALSCALE:GREGORIAN
METHOD:PUBLISH
X-WR-CALNAME:Copper Canyon Press
X-ORIGINAL-URL:https://www.coppercanyonpress.org
X-WR-CALDESC:Events for Copper Canyon Press
REFRESH-INTERVAL;VALUE=DURATION:PT1H
X-Robots-Tag:noindex
X-PUBLISHED-TTL:PT1H
BEGIN:VTIMEZONE
TZID:America/Chicago
BEGIN:DAYLIGHT
TZOFFSETFROM:-0600
TZOFFSETTO:-0500
TZNAME:CDT
DTSTART:20240310T080000
END:DAYLIGHT
BEGIN:STANDARD
TZOFFSETFROM:-0500
TZOFFSETTO:-0600
TZNAME:CST
DTSTART:20241103T070000
END:STANDARD
BEGIN:DAYLIGHT
TZOFFSETFROM:-0600
TZOFFSETTO:-0500
TZNAME:CDT
DTSTART:20250309T080000
END:DAYLIGHT
BEGIN:STANDARD
TZOFFSETFROM:-0500
TZOFFSETTO:-0600
TZNAME:CST
DTSTART:20251102T070000
END:STANDARD
BEGIN:DAYLIGHT
TZOFFSETFROM:-0600
TZOFFSETTO:-0500
TZNAME:CDT
DTSTART:20260308T080000
END:DAYLIGHT
BEGIN:STANDARD
TZOFFSETFROM:-0500
TZOFFSETTO:-0600
TZNAME:CST
DTSTART:20261101T070000
END:STANDARD
END:VTIMEZONE
BEGIN:VEVENT
DTSTART;TZID=America/Chicago:20251024T173000
DTEND;TZID=America/Chicago:20251024T193000
DTSTAMP:20260425T034058
CREATED:20251019T195301Z
LAST-MODIFIED:20251019T195301Z
UID:11489-1761327000-1761334200@www.coppercanyonpress.org
SUMMARY:The 2025 Pegasus Awards Reading
DESCRIPTION:The Poetry Foundation hosts this special reading as an opportunity to hear from the recipients of the 2025 Pegasus Awards\, a set of prizes established by the Poetry Foundation. The reading\, and winners of this years prizes\, feature Rigoberto González (Ruth Lilly Poetry Prize)\, Amy Stolls (Pegasus Award for Service in Poetry)\, and Kazim Ali (Pegasus Award for Poetry Criticism for the book Black Buffalo Woman: An Introduction to the Poetry & Poetics of Lucille Clifton). \n  \nThe event will be held in person\, October 24\, 2025 from 5:30 PM – 7:30 PM at Poetry Foundation\, 61 West Superior Street\, Chicago\, IL 60654.  \nThe venue is ADA accessible with ASL interpreters. 
URL:https://www.coppercanyonpress.org/event/the-2025-pegasus-awards-reading/
LOCATION:Poetry Foundation\, 61 West Superior Street\, Chicago\, IL\, 60654\, United States
CATEGORIES:In Person
END:VEVENT
END:VCALENDAR