BEGIN:VCALENDAR
VERSION:2.0
PRODID:-//Copper Canyon Press - ECPv6.15.16//NONSGML v1.0//EN
CALSCALE:GREGORIAN
METHOD:PUBLISH
X-ORIGINAL-URL:https://www.coppercanyonpress.org
X-WR-CALDESC:Events for Copper Canyon Press
REFRESH-INTERVAL;VALUE=DURATION:PT1H
X-Robots-Tag:noindex
X-PUBLISHED-TTL:PT1H
BEGIN:VTIMEZONE
TZID:America/Los_Angeles
BEGIN:DAYLIGHT
TZOFFSETFROM:-0800
TZOFFSETTO:-0700
TZNAME:PDT
DTSTART:20190310T100000
END:DAYLIGHT
BEGIN:STANDARD
TZOFFSETFROM:-0700
TZOFFSETTO:-0800
TZNAME:PST
DTSTART:20191103T090000
END:STANDARD
BEGIN:DAYLIGHT
TZOFFSETFROM:-0800
TZOFFSETTO:-0700
TZNAME:PDT
DTSTART:20200308T100000
END:DAYLIGHT
BEGIN:STANDARD
TZOFFSETFROM:-0700
TZOFFSETTO:-0800
TZNAME:PST
DTSTART:20201101T090000
END:STANDARD
BEGIN:DAYLIGHT
TZOFFSETFROM:-0800
TZOFFSETTO:-0700
TZNAME:PDT
DTSTART:20210314T100000
END:DAYLIGHT
BEGIN:STANDARD
TZOFFSETFROM:-0700
TZOFFSETTO:-0800
TZNAME:PST
DTSTART:20211107T090000
END:STANDARD
END:VTIMEZONE
BEGIN:VTIMEZONE
TZID:America/Denver
BEGIN:DAYLIGHT
TZOFFSETFROM:-0700
TZOFFSETTO:-0600
TZNAME:MDT
DTSTART:20190310T090000
END:DAYLIGHT
BEGIN:STANDARD
TZOFFSETFROM:-0600
TZOFFSETTO:-0700
TZNAME:MST
DTSTART:20191103T080000
END:STANDARD
BEGIN:DAYLIGHT
TZOFFSETFROM:-0700
TZOFFSETTO:-0600
TZNAME:MDT
DTSTART:20200308T090000
END:DAYLIGHT
BEGIN:STANDARD
TZOFFSETFROM:-0600
TZOFFSETTO:-0700
TZNAME:MST
DTSTART:20201101T080000
END:STANDARD
BEGIN:DAYLIGHT
TZOFFSETFROM:-0700
TZOFFSETTO:-0600
TZNAME:MDT
DTSTART:20210314T090000
END:DAYLIGHT
BEGIN:STANDARD
TZOFFSETFROM:-0600
TZOFFSETTO:-0700
TZNAME:MST
DTSTART:20211107T080000
END:STANDARD
END:VTIMEZONE
BEGIN:VTIMEZONE
TZID:America/New_York
BEGIN:DAYLIGHT
TZOFFSETFROM:-0500
TZOFFSETTO:-0400
TZNAME:EDT
DTSTART:20190310T070000
END:DAYLIGHT
BEGIN:STANDARD
TZOFFSETFROM:-0400
TZOFFSETTO:-0500
TZNAME:EST
DTSTART:20191103T060000
END:STANDARD
BEGIN:DAYLIGHT
TZOFFSETFROM:-0500
TZOFFSETTO:-0400
TZNAME:EDT
DTSTART:20200308T070000
END:DAYLIGHT
BEGIN:STANDARD
TZOFFSETFROM:-0400
TZOFFSETTO:-0500
TZNAME:EST
DTSTART:20201101T060000
END:STANDARD
BEGIN:DAYLIGHT
TZOFFSETFROM:-0500
TZOFFSETTO:-0400
TZNAME:EDT
DTSTART:20210314T070000
END:DAYLIGHT
BEGIN:STANDARD
TZOFFSETFROM:-0400
TZOFFSETTO:-0500
TZNAME:EST
DTSTART:20211107T060000
END:STANDARD
END:VTIMEZONE
BEGIN:VEVENT
DTSTART;TZID=America/Los_Angeles:20201001T180000
DTEND;TZID=America/Los_Angeles:20201001T193000
DTSTAMP:20260421T091131
CREATED:20200911T182355Z
LAST-MODIFIED:20200911T182355Z
UID:5847-1601575200-1601580600@www.coppercanyonpress.org
SUMMARY:My Name Is My Own: Celebrating June Jordan & Ruth Stone | A Virtual Benefit
DESCRIPTION:Featuring Jericho Brown\, Elizabeth Gilbert\, Rio Cortez\, Monica Sok\, and Alison C. Rollins\, plus editors Jan Heller Levi\, Christoph Keller\, Bianca Stone\, and Michael Wiegers  \n \nJoin Copper Canyon Press and an all-star lineup to celebrate the legacies of two iconic feminist poets\, while raising crucial funds to support our spring season of phenomenal books. You’ll be treated to a first look at brand-new and forthcoming anthologies\, The Essential Ruth Stone and The Essential June Jordan\, and invited to help launch a Kickstarter project to lift up these extraordinary poets and their legacies. \nRuth Stone (1915–2011) and June Jordan (1936-2002)\, while distinct from each other in terms of aesthetics and identity\, share a fierce sense of feminist poetics\, a wonderful balance of candor and cleverness\, and visionary understandings of power\, violence\, and solidarity. We are thrilled to honor these poets with you. \nGuest readers will include: Pulitzer Prize-winner Jericho Brown\, with a preview of his afterword for The Essential June Jordan; international bestselling author Elizabeth Gilbert; and a host of other literary luminaries. \nRegister here: https://us02web.zoom.us/webinar/register/3515997557627/WN_bICiuBVBRtGjaJlrkgWK2A
URL:https://www.coppercanyonpress.org/event/my-name-is-my-own/
CATEGORIES:Online
END:VEVENT
BEGIN:VEVENT
DTSTART;TZID=America/Denver:20201020T170000
DTEND;TZID=America/Denver:20201020T183000
DTSTAMP:20260421T091131
CREATED:20201019T141550Z
LAST-MODIFIED:20201019T141550Z
UID:5995-1603213200-1603218600@www.coppercanyonpress.org
SUMMARY:Colorado College presents Alison C. Rollins
DESCRIPTION:From the organizers: \nJoin us for an evening with Alison Rollins\, author of “Library of Small Catastrophes” a nominee for the 2020 Hurston Wright Legacy Award.  A Cave Canem and Callaloo fellow and a 2016 recipient of the Poetry Foundation’s Ruth Lilly and Dorothy Sargent Rosenberg Fellowship\, Rollins’s poems have appeared in American Poetry Review\, New England Review\, The New York Times Magazine\, The Poetry Review\, and elsewhere. She is a Visiting Assistant Professor in Colorado College’s Department of English. Advance registration required.  \nRegister here. 
URL:https://www.coppercanyonpress.org/event/colorado-college-presents-alison-c-rollins/
END:VEVENT
BEGIN:VEVENT
DTSTART;TZID=America/New_York:20201022T200000
DTEND;TZID=America/New_York:20201022T213000
DTSTAMP:20260421T091131
CREATED:20201015T191348Z
LAST-MODIFIED:20201015T191348Z
UID:5989-1603396800-1603402200@www.coppercanyonpress.org
SUMMARY:The Adroit Journal presents Issue 35 Release Reading
DESCRIPTION:From the organizers: \nThe editors of The Adroit Journal are thrilled to welcome you to a reading celebrating the release of our thirty-fifth issue. Readers include issue contributors Traci Brimhall\, Kyle Dargan\, Randall Mann\, Jenny Molberg\, Elle Nash\, Alison C. Rollins\, Darius Simpson\, and Jenny Tseng. The reading will be hosted on Zoom by Heidi Seaborn\, executive editor of The Adroit Journal. \nRegister here.
URL:https://www.coppercanyonpress.org/event/the-adroit-journal-presents-issue-35-release-reading/
END:VEVENT
END:VCALENDAR