BEGIN:VCALENDAR
VERSION:2.0
PRODID:-//Copper Canyon Press - ECPv6.15.16//NONSGML v1.0//EN
CALSCALE:GREGORIAN
METHOD:PUBLISH
X-WR-CALNAME:Copper Canyon Press
X-ORIGINAL-URL:https://www.coppercanyonpress.org
X-WR-CALDESC:Events for Copper Canyon Press
REFRESH-INTERVAL;VALUE=DURATION:PT1H
X-Robots-Tag:noindex
X-PUBLISHED-TTL:PT1H
BEGIN:VTIMEZONE
TZID:America/Denver
BEGIN:DAYLIGHT
TZOFFSETFROM:-0700
TZOFFSETTO:-0600
TZNAME:MDT
DTSTART:20190310T090000
END:DAYLIGHT
BEGIN:STANDARD
TZOFFSETFROM:-0600
TZOFFSETTO:-0700
TZNAME:MST
DTSTART:20191103T080000
END:STANDARD
BEGIN:DAYLIGHT
TZOFFSETFROM:-0700
TZOFFSETTO:-0600
TZNAME:MDT
DTSTART:20200308T090000
END:DAYLIGHT
BEGIN:STANDARD
TZOFFSETFROM:-0600
TZOFFSETTO:-0700
TZNAME:MST
DTSTART:20201101T080000
END:STANDARD
BEGIN:DAYLIGHT
TZOFFSETFROM:-0700
TZOFFSETTO:-0600
TZNAME:MDT
DTSTART:20210314T090000
END:DAYLIGHT
BEGIN:STANDARD
TZOFFSETFROM:-0600
TZOFFSETTO:-0700
TZNAME:MST
DTSTART:20211107T080000
END:STANDARD
END:VTIMEZONE
BEGIN:VEVENT
DTSTART;TZID=America/Denver:20201020T170000
DTEND;TZID=America/Denver:20201020T183000
DTSTAMP:20260421T104023
CREATED:20201019T141550Z
LAST-MODIFIED:20201019T141550Z
UID:5995-1603213200-1603218600@www.coppercanyonpress.org
SUMMARY:Colorado College presents Alison C. Rollins
DESCRIPTION:From the organizers: \nJoin us for an evening with Alison Rollins\, author of “Library of Small Catastrophes” a nominee for the 2020 Hurston Wright Legacy Award.  A Cave Canem and Callaloo fellow and a 2016 recipient of the Poetry Foundation’s Ruth Lilly and Dorothy Sargent Rosenberg Fellowship\, Rollins’s poems have appeared in American Poetry Review\, New England Review\, The New York Times Magazine\, The Poetry Review\, and elsewhere. She is a Visiting Assistant Professor in Colorado College’s Department of English. Advance registration required.  \nRegister here. 
URL:https://www.coppercanyonpress.org/event/colorado-college-presents-alison-c-rollins/
END:VEVENT
END:VCALENDAR