BEGIN:VCALENDAR
VERSION:2.0
PRODID:-//Copper Canyon Press - ECPv6.15.16//NONSGML v1.0//EN
CALSCALE:GREGORIAN
METHOD:PUBLISH
X-WR-CALNAME:Copper Canyon Press
X-ORIGINAL-URL:https://www.coppercanyonpress.org
X-WR-CALDESC:Events for Copper Canyon Press
REFRESH-INTERVAL;VALUE=DURATION:PT1H
X-Robots-Tag:noindex
X-PUBLISHED-TTL:PT1H
BEGIN:VTIMEZONE
TZID:America/New_York
BEGIN:DAYLIGHT
TZOFFSETFROM:-0500
TZOFFSETTO:-0400
TZNAME:EDT
DTSTART:20200308T070000
END:DAYLIGHT
BEGIN:STANDARD
TZOFFSETFROM:-0400
TZOFFSETTO:-0500
TZNAME:EST
DTSTART:20201101T060000
END:STANDARD
BEGIN:DAYLIGHT
TZOFFSETFROM:-0500
TZOFFSETTO:-0400
TZNAME:EDT
DTSTART:20210314T070000
END:DAYLIGHT
BEGIN:STANDARD
TZOFFSETFROM:-0400
TZOFFSETTO:-0500
TZNAME:EST
DTSTART:20211107T060000
END:STANDARD
BEGIN:DAYLIGHT
TZOFFSETFROM:-0500
TZOFFSETTO:-0400
TZNAME:EDT
DTSTART:20220313T070000
END:DAYLIGHT
BEGIN:STANDARD
TZOFFSETFROM:-0400
TZOFFSETTO:-0500
TZNAME:EST
DTSTART:20221106T060000
END:STANDARD
END:VTIMEZONE
BEGIN:VEVENT
DTSTART;TZID=America/New_York:20210820T163000
DTEND;TZID=America/New_York:20210820T173000
DTSTAMP:20260422T182059
CREATED:20210703T024207Z
LAST-MODIFIED:20210703T024207Z
UID:7037-1629477000-1629480600@www.coppercanyonpress.org
SUMMARY:Bread Loaf Writers’ Conference presents "Debut Books of Poetry: Notes on Sounding Like Yourself" with Brenda Shaughnessy
DESCRIPTION:Middlebury Bread Loaf Writers’ Conference presents “Debut Books of Poetry: Notes on Sounding Like Yourself\,” a virtual lecture by Brenda Shaughnessy on Aug. 20 at 4:30 p.m. (EDT). \nFrom the organizers: \nYou’ve immersed in flow\, process\, form\, revision\, workshop\, submissions\, and now—what will/could all that creative and administrative energy add up to? What are the hallmarks\, conventions\, and pitfalls of the debut collection? How can a book “sound like” its author? This talk explores the elements of and issues around the debut poetry collection\, both in contemporary literary history and in current publishing practices—and is meant to inform\, inspire\, and challenge those poets working on their first manuscripts. \nFinancial aid is available for the Lecture Series; contact us for more information at blwc@middlebury.edu. \nRegister here: https://www.crowdcast.io/e/BLWC_Rekdal/register
URL:https://www.coppercanyonpress.org/event/bread-loaf-writers-conference-presents-debut-books-of-poetry-notes-on-sounding-like-yourself-with-brenda-shaughnessy/
CATEGORIES:Online
END:VEVENT
END:VCALENDAR