BEGIN:VCALENDAR
VERSION:2.0
PRODID:-//Copper Canyon Press - ECPv6.15.16//NONSGML v1.0//EN
CALSCALE:GREGORIAN
METHOD:PUBLISH
X-WR-CALNAME:Copper Canyon Press
X-ORIGINAL-URL:https://www.coppercanyonpress.org
X-WR-CALDESC:Events for Copper Canyon Press
REFRESH-INTERVAL;VALUE=DURATION:PT1H
X-Robots-Tag:noindex
X-PUBLISHED-TTL:PT1H
BEGIN:VTIMEZONE
TZID:America/Los_Angeles
BEGIN:DAYLIGHT
TZOFFSETFROM:-0800
TZOFFSETTO:-0700
TZNAME:PDT
DTSTART:20190310T100000
END:DAYLIGHT
BEGIN:STANDARD
TZOFFSETFROM:-0700
TZOFFSETTO:-0800
TZNAME:PST
DTSTART:20191103T090000
END:STANDARD
BEGIN:DAYLIGHT
TZOFFSETFROM:-0800
TZOFFSETTO:-0700
TZNAME:PDT
DTSTART:20200308T100000
END:DAYLIGHT
BEGIN:STANDARD
TZOFFSETFROM:-0700
TZOFFSETTO:-0800
TZNAME:PST
DTSTART:20201101T090000
END:STANDARD
BEGIN:DAYLIGHT
TZOFFSETFROM:-0800
TZOFFSETTO:-0700
TZNAME:PDT
DTSTART:20210314T100000
END:DAYLIGHT
BEGIN:STANDARD
TZOFFSETFROM:-0700
TZOFFSETTO:-0800
TZNAME:PST
DTSTART:20211107T090000
END:STANDARD
END:VTIMEZONE
BEGIN:VEVENT
DTSTART;TZID=America/Los_Angeles:20200402T150000
DTEND;TZID=America/Los_Angeles:20200402T160000
DTSTAMP:20260423T192041
CREATED:20200326T204527Z
LAST-MODIFIED:20200326T211126Z
UID:5203-1585839600-1585843200@www.coppercanyonpress.org
SUMMARY:Launch Party Livestream: Ellen Bass\, Monica Sok\, & Mark Bibbins
DESCRIPTION:Every week in April\, join Copper Canyon Press for a series of free livestreaming book launch readings! \nLaunch Party will introduce you to twelve brilliant new and forthcoming poetry collections—three every Thursday\, plus our Tuesday finale. The guests for April 2\, 3pm PT are Ellen Bass\, Monica Sok\, and Mark Bibbins. \nRegister at this link: https://zoom.us/webinar/register/3015852458168/WN_ZppjQY-gRGuwkx6-Fn_AEA \nWe’ll also share the livestream from our Facebook Page and on our YouTube channel\, and we’ll provide a link to the recording afterward. \nIf you’re inclined and able to purchase our poets’ books\, we encourage you to support independent booksellers during this difficult time. Our poets have suggested some of their favorites here.
URL:https://www.coppercanyonpress.org/event/launch-party-livestream-ellen-bass-monica-sok-mark-bibbins/
LOCATION:MD
CATEGORIES:Online
END:VEVENT
BEGIN:VEVENT
DTSTART;TZID=America/Los_Angeles:20200418T092500
DTEND;TZID=America/Los_Angeles:20200418T095500
DTSTAMP:20260423T192041
CREATED:20200415T151404Z
LAST-MODIFIED:20200415T151934Z
UID:5258-1587201900-1587203700@www.coppercanyonpress.org
SUMMARY:The Sierra Poetry Festival "Un-Keynote" with Ellen Bass
DESCRIPTION:Times listed are in Pacific Time. \nIn her Sierra Poetry Festival “un-keynote” address\, Ellen Bass will read from her new book\, Indigo\, and talk about poetry as a way to transmute suffering into beauty\, to find the exquisite tenderness in pain\, to make meaning in the face of our fragility. She will explore poetry as a path to be more fully rooted in our lives and in the world. The address will be streamed live online. \nRegister here: https://www.sierrapoetryfestival.org/2020-program
URL:https://www.coppercanyonpress.org/event/the-sierra-poetry-festival-un-keynote-with-ellen-bass/
LOCATION:MD
CATEGORIES:Online
ORGANIZER;CN="Sierra Poetry Festival":MAILTO:POETRY@NEVADACOUNTYARTS.ORG
END:VEVENT
BEGIN:VEVENT
DTSTART;TZID=America/Los_Angeles:20200421T180000
DTEND;TZID=America/Los_Angeles:20200421T190000
DTSTAMP:20260423T192041
CREATED:20200415T150830Z
LAST-MODIFIED:20200415T151250Z
UID:5256-1587492000-1587495600@www.coppercanyonpress.org
SUMMARY:Ellen Bass: An Online Reading with Bookshop Santa Cruz
DESCRIPTION:Times listed are in Pacific Time. \nBookshop Santa Cruz presents a live online reading with Ellen Bass\, who will read from her brand new poetry collection\, Indigo.  \nSign up to receive a link to join via the form here: https://mailchi.mp/ellenbass/bookshopsantacruz
URL:https://www.coppercanyonpress.org/event/ellen-bass-an-online-reading-with-bookshop-santa-cruz/
LOCATION:MD
ORGANIZER;CN="Bookshop Santa Cruz":MAILTO:info@bookshopsantacruz.com
END:VEVENT
END:VCALENDAR