BEGIN:VCALENDAR
VERSION:2.0
PRODID:-//Copper Canyon Press - ECPv6.15.16//NONSGML v1.0//EN
CALSCALE:GREGORIAN
METHOD:PUBLISH
X-WR-CALNAME:Copper Canyon Press
X-ORIGINAL-URL:https://www.coppercanyonpress.org
X-WR-CALDESC:Events for Copper Canyon Press
REFRESH-INTERVAL;VALUE=DURATION:PT1H
X-Robots-Tag:noindex
X-PUBLISHED-TTL:PT1H
BEGIN:VTIMEZONE
TZID:America/Los_Angeles
BEGIN:DAYLIGHT
TZOFFSETFROM:-0800
TZOFFSETTO:-0700
TZNAME:PDT
DTSTART:20190310T100000
END:DAYLIGHT
BEGIN:STANDARD
TZOFFSETFROM:-0700
TZOFFSETTO:-0800
TZNAME:PST
DTSTART:20191103T090000
END:STANDARD
BEGIN:DAYLIGHT
TZOFFSETFROM:-0800
TZOFFSETTO:-0700
TZNAME:PDT
DTSTART:20200308T100000
END:DAYLIGHT
BEGIN:STANDARD
TZOFFSETFROM:-0700
TZOFFSETTO:-0800
TZNAME:PST
DTSTART:20201101T090000
END:STANDARD
BEGIN:DAYLIGHT
TZOFFSETFROM:-0800
TZOFFSETTO:-0700
TZNAME:PDT
DTSTART:20210314T100000
END:DAYLIGHT
BEGIN:STANDARD
TZOFFSETFROM:-0700
TZOFFSETTO:-0800
TZNAME:PST
DTSTART:20211107T090000
END:STANDARD
END:VTIMEZONE
BEGIN:VTIMEZONE
TZID:America/Chicago
BEGIN:DAYLIGHT
TZOFFSETFROM:-0600
TZOFFSETTO:-0500
TZNAME:CDT
DTSTART:20190310T080000
END:DAYLIGHT
BEGIN:STANDARD
TZOFFSETFROM:-0500
TZOFFSETTO:-0600
TZNAME:CST
DTSTART:20191103T070000
END:STANDARD
BEGIN:DAYLIGHT
TZOFFSETFROM:-0600
TZOFFSETTO:-0500
TZNAME:CDT
DTSTART:20200308T080000
END:DAYLIGHT
BEGIN:STANDARD
TZOFFSETFROM:-0500
TZOFFSETTO:-0600
TZNAME:CST
DTSTART:20201101T070000
END:STANDARD
BEGIN:DAYLIGHT
TZOFFSETFROM:-0600
TZOFFSETTO:-0500
TZNAME:CDT
DTSTART:20210314T080000
END:DAYLIGHT
BEGIN:STANDARD
TZOFFSETFROM:-0500
TZOFFSETTO:-0600
TZNAME:CST
DTSTART:20211107T070000
END:STANDARD
END:VTIMEZONE
BEGIN:VEVENT
DTSTART;TZID=America/Los_Angeles:20200807T090000
DTEND;TZID=America/Los_Angeles:20200807T100000
DTSTAMP:20260423T091053
CREATED:20200618T225531Z
LAST-MODIFIED:20200618T230340Z
UID:5548-1596790800-1596794400@www.coppercanyonpress.org
SUMMARY:Living Room Craft Talk with Ellen Bass V
DESCRIPTION:From Ellen Bass: \n“If you want to learn more about the strategies that you can employ to write poems that are more vivid\, arresting\, meaningful and complex\, please join Ellen Bass for this craft talk series on Fridays: July 10\, 17\, 24\, 31\, August 7 & 14 at 9 AM PT / 12 PM ET. \nEllen will be presenting practical teachings that you’ll be able to put to use at whatever stage of development you’re at—whether you’re just beginning or are an experienced and published poet. Though these talks are focused on poetry\, prose writers are welcome too. If you write memoir or fiction\, you will find that this precise attention to language will enrich your work as well. \nThis week’s topic will be Syntax: Natural and Not \nEach talk will be an hour to hour and a half long and will include a discussion of exemplary poems that illustrate these aspects of the craft\, as well as practical guidance for how you might bring these elements into your own poems. The talk will be followed by a half an hour for questions.” \nRegister here: https://www.ellenbass.com/events/living-room-craft-talks/
URL:https://www.coppercanyonpress.org/event/living-room-craft-talk-with-ellen-bass-v/
LOCATION:MD
CATEGORIES:Online
END:VEVENT
BEGIN:VEVENT
DTSTART;TZID=America/Los_Angeles:20200814T090000
DTEND;TZID=America/Los_Angeles:20200814T100000
DTSTAMP:20260423T091053
CREATED:20200618T225716Z
LAST-MODIFIED:20200618T230352Z
UID:5549-1597395600-1597399200@www.coppercanyonpress.org
SUMMARY:Living Room Craft Talk with Ellen Bass VI
DESCRIPTION:From Ellen Bass: \n“If you want to learn more about the strategies that you can employ to write poems that are more vivid\, arresting\, meaningful and complex\, please join Ellen Bass for this craft talk series on Fridays: July 10\, 17\, 24\, 31\, August 7 & 14 at 9 AM PT / 12 PM ET. \nEllen will be presenting practical teachings that you’ll be able to put to use at whatever stage of development you’re at—whether you’re just beginning or are an experienced and published poet. Though these talks are focused on poetry\, prose writers are welcome too. If you write memoir or fiction\, you will find that this precise attention to language will enrich your work as well. \nThis week’s topic will be Discovery: The Heart of the Matter. \nEach talk will be an hour to hour and a half long and will include a discussion of exemplary poems that illustrate these aspects of the craft\, as well as practical guidance for how you might bring these elements into your own poems. The talk will be followed by a half an hour for questions.” \nRegister here: https://www.ellenbass.com/events/living-room-craft-talks/
URL:https://www.coppercanyonpress.org/event/living-room-craft-talk-with-ellen-bass-vi/
LOCATION:MD
CATEGORIES:Online
END:VEVENT
BEGIN:VEVENT
DTSTART;TZID=America/Chicago:20200826T190000
DTEND;TZID=America/Chicago:20200826T210000
DTSTAMP:20260423T091053
CREATED:20200824T160207Z
LAST-MODIFIED:20200824T160419Z
UID:5776-1598468400-1598475600@www.coppercanyonpress.org
SUMMARY:Wednesday Night Poetry presents Ellen Bass\, Traci Brimhall\, Lauren Camp\, and musical guests Bethlehem and Sad Patrick
DESCRIPTION:Wednesday Night Poetry is the country’s longest running open mic reading series. During the pandemic\, readings stream live on Facebook. Tune in Wednesday\, August 26 at 7:00pm CT for a reading featuring Ellen Bass\, Traci Brimhall\, Lauren Camp\, with musical guests Bethlehem and Sad Patrick. \nWatch on Facebook: https://www.facebook.com/events/2053981048117043/
URL:https://www.coppercanyonpress.org/event/wednesday-night-poetry-presents-ellen-bass-traci-brimhall-lauren-camp-and-musical-guests-bethlehem-and-sad-patrick/
LOCATION:MD
CATEGORIES:Online
END:VEVENT
END:VCALENDAR