BEGIN:VCALENDAR
VERSION:2.0
PRODID:-//Copper Canyon Press - ECPv6.15.16//NONSGML v1.0//EN
CALSCALE:GREGORIAN
METHOD:PUBLISH
X-WR-CALNAME:Copper Canyon Press
X-ORIGINAL-URL:https://www.coppercanyonpress.org
X-WR-CALDESC:Events for Copper Canyon Press
REFRESH-INTERVAL;VALUE=DURATION:PT1H
X-Robots-Tag:noindex
X-PUBLISHED-TTL:PT1H
BEGIN:VTIMEZONE
TZID:America/Los_Angeles
BEGIN:DAYLIGHT
TZOFFSETFROM:-0800
TZOFFSETTO:-0700
TZNAME:PDT
DTSTART:20200308T100000
END:DAYLIGHT
BEGIN:STANDARD
TZOFFSETFROM:-0700
TZOFFSETTO:-0800
TZNAME:PST
DTSTART:20201101T090000
END:STANDARD
BEGIN:DAYLIGHT
TZOFFSETFROM:-0800
TZOFFSETTO:-0700
TZNAME:PDT
DTSTART:20210314T100000
END:DAYLIGHT
BEGIN:STANDARD
TZOFFSETFROM:-0700
TZOFFSETTO:-0800
TZNAME:PST
DTSTART:20211107T090000
END:STANDARD
BEGIN:DAYLIGHT
TZOFFSETFROM:-0800
TZOFFSETTO:-0700
TZNAME:PDT
DTSTART:20220313T100000
END:DAYLIGHT
BEGIN:STANDARD
TZOFFSETFROM:-0700
TZOFFSETTO:-0800
TZNAME:PST
DTSTART:20221106T090000
END:STANDARD
END:VTIMEZONE
BEGIN:VTIMEZONE
TZID:America/Chicago
BEGIN:DAYLIGHT
TZOFFSETFROM:-0600
TZOFFSETTO:-0500
TZNAME:CDT
DTSTART:20200308T080000
END:DAYLIGHT
BEGIN:STANDARD
TZOFFSETFROM:-0500
TZOFFSETTO:-0600
TZNAME:CST
DTSTART:20201101T070000
END:STANDARD
BEGIN:DAYLIGHT
TZOFFSETFROM:-0600
TZOFFSETTO:-0500
TZNAME:CDT
DTSTART:20210314T080000
END:DAYLIGHT
BEGIN:STANDARD
TZOFFSETFROM:-0500
TZOFFSETTO:-0600
TZNAME:CST
DTSTART:20211107T070000
END:STANDARD
BEGIN:DAYLIGHT
TZOFFSETFROM:-0600
TZOFFSETTO:-0500
TZNAME:CDT
DTSTART:20220313T080000
END:DAYLIGHT
BEGIN:STANDARD
TZOFFSETFROM:-0500
TZOFFSETTO:-0600
TZNAME:CST
DTSTART:20221106T070000
END:STANDARD
END:VTIMEZONE
BEGIN:VEVENT
DTSTART;TZID=America/Los_Angeles:20210104T180000
DTEND;TZID=America/Los_Angeles:20210104T190000
DTSTAMP:20260422T203219
CREATED:20201216T182403Z
LAST-MODIFIED:20201216T182403Z
UID:6195-1609783200-1609786800@www.coppercanyonpress.org
SUMMARY:Elliott Bay Book Company presents Ellen Bass and Derek Sheffield
DESCRIPTION:From the organization: \n“Derek Sheffield recently joined us for an exuberant post-election reading of the Terrain.org anthology Dear America\, and returns to our virtual stage tonight to launch a new collection of poetry\, Not For Luck (Wheelbarrow Books/Michigan State University Press). Reading with him tonight is the esteemed poet Ellen Bass\, whom we had hoped to host last spring\, when her most recent collection\, Indigo (Copper Canyon Press) was published.” \nRegister here: https://www.eventbrite.com/e/derek-sheffield-not-for-luck-and-ellen-bass-indigo-poetry-reading-tickets-130841696035 
URL:https://www.coppercanyonpress.org/event/elliott-bay-book-company-presents-ellen-bass-and-derek-sheffield/
LOCATION:MD
CATEGORIES:Online
END:VEVENT
BEGIN:VEVENT
DTSTART;TZID=America/Los_Angeles:20210123T143000
DTEND;TZID=America/Los_Angeles:20210123T163000
DTSTAMP:20260422T203219
CREATED:20201216T183352Z
LAST-MODIFIED:20201216T183417Z
UID:6196-1611412200-1611419400@www.coppercanyonpress.org
SUMMARY:The Santa Cruz County Community Writers Series presents Ellen Bass
DESCRIPTION:From the organizers: \n\n\nEllen Bass’s most recent poetry book is Indigo (Copper Canyon Press\, 2020). Her poems appear frequently in The New Yorker\, American Poetry Review\, and other journals. Among her awards are Fellowships from the NEA\, the California Arts Council\, three Pushcart Prizes\, and The Lambda Literary Award. In 1973\, she coedited the first major anthology of women’s poetry\, No More Masks!\, and her nonfiction includes the groundbreaking The Courage to Heal. A Chancellor of the Academy of American Poets\, Bass founded poetry workshops at Salinas Valley State Prison and the Santa Cruz jails\, and teaches in the MFA writing program at Pacific University. \n\nOPEN MIC\nThe virtual doors will open at 2pm PT. You can sign up to read your own original work for up to five minutes then or by email: communitywritersscco@gmail.com. \n\nAccess information: We’ll be meeting virtually via Zoom. You may join us via computer\, laptop\, or smartphone.\nEmail us to get on the email reminder list and receive zoom link and password: communitywritersscco@gmail.com
URL:https://www.coppercanyonpress.org/event/the-santa-cruz-county-community-writers-series-presents-ellen-bass/
LOCATION:MD
CATEGORIES:Online
END:VEVENT
BEGIN:VEVENT
DTSTART;TZID=America/Chicago:20210126T190000
DTEND;TZID=America/Chicago:20210126T200000
DTSTAMP:20260422T203219
CREATED:20210120T163112Z
LAST-MODIFIED:20210120T163112Z
UID:6269-1611687600-1611691200@www.coppercanyonpress.org
SUMMARY:The Adroit Journal Issue 36 Release Reading featuring Ellen Bass
DESCRIPTION:From the organizers: \n“The editors of The Adroit Journal are excited to welcome you to a reading celebrating the release of our thirty-sixth issue. Readers include issue contributors Ellen Bass\, Ethan Chatagnier\, Martha Collins\, Ghinwa Jawhari\, Aurielle Marie\, Nkosi Nkululeko\, and Lydia Wei. The reading will be hosted on Zoom by Heidi Seaborn\, executive editor of The Adroit Journal.” \nRegister here: https://www.eventbrite.com/e/the-adroit-journal-issue-36-release-reading-tickets-137030336425
URL:https://www.coppercanyonpress.org/event/the-adroit-journal-issue-36-release-reading-featuring-ellen-bass/
LOCATION:MD
CATEGORIES:Online
END:VEVENT
END:VCALENDAR