BEGIN:VCALENDAR
VERSION:2.0
PRODID:-//Copper Canyon Press - ECPv6.15.16//NONSGML v1.0//EN
CALSCALE:GREGORIAN
METHOD:PUBLISH
X-ORIGINAL-URL:https://www.coppercanyonpress.org
X-WR-CALDESC:Events for Copper Canyon Press
REFRESH-INTERVAL;VALUE=DURATION:PT1H
X-Robots-Tag:noindex
X-PUBLISHED-TTL:PT1H
BEGIN:VTIMEZONE
TZID:America/New_York
BEGIN:DAYLIGHT
TZOFFSETFROM:-0500
TZOFFSETTO:-0400
TZNAME:EDT
DTSTART:20200308T070000
END:DAYLIGHT
BEGIN:STANDARD
TZOFFSETFROM:-0400
TZOFFSETTO:-0500
TZNAME:EST
DTSTART:20201101T060000
END:STANDARD
BEGIN:DAYLIGHT
TZOFFSETFROM:-0500
TZOFFSETTO:-0400
TZNAME:EDT
DTSTART:20210314T070000
END:DAYLIGHT
BEGIN:STANDARD
TZOFFSETFROM:-0400
TZOFFSETTO:-0500
TZNAME:EST
DTSTART:20211107T060000
END:STANDARD
BEGIN:DAYLIGHT
TZOFFSETFROM:-0500
TZOFFSETTO:-0400
TZNAME:EDT
DTSTART:20220313T070000
END:DAYLIGHT
BEGIN:STANDARD
TZOFFSETFROM:-0400
TZOFFSETTO:-0500
TZNAME:EST
DTSTART:20221106T060000
END:STANDARD
END:VTIMEZONE
BEGIN:VTIMEZONE
TZID:America/Los_Angeles
BEGIN:DAYLIGHT
TZOFFSETFROM:-0800
TZOFFSETTO:-0700
TZNAME:PDT
DTSTART:20200308T100000
END:DAYLIGHT
BEGIN:STANDARD
TZOFFSETFROM:-0700
TZOFFSETTO:-0800
TZNAME:PST
DTSTART:20201101T090000
END:STANDARD
BEGIN:DAYLIGHT
TZOFFSETFROM:-0800
TZOFFSETTO:-0700
TZNAME:PDT
DTSTART:20210314T100000
END:DAYLIGHT
BEGIN:STANDARD
TZOFFSETFROM:-0700
TZOFFSETTO:-0800
TZNAME:PST
DTSTART:20211107T090000
END:STANDARD
BEGIN:DAYLIGHT
TZOFFSETFROM:-0800
TZOFFSETTO:-0700
TZNAME:PDT
DTSTART:20220313T100000
END:DAYLIGHT
BEGIN:STANDARD
TZOFFSETFROM:-0700
TZOFFSETTO:-0800
TZNAME:PST
DTSTART:20221106T090000
END:STANDARD
END:VTIMEZONE
BEGIN:VEVENT
DTSTART;TZID=America/New_York:20210510T190000
DTEND;TZID=America/New_York:20210511T190000
DTSTAMP:20260422T151516
CREATED:20210510T202815Z
LAST-MODIFIED:20210510T202815Z
UID:6818-1620673200-1620759600@www.coppercanyonpress.org
SUMMARY:Bureau of General Services - Queer Division presents 2021 Publishing Triangle Awards Finalists Readings feat. Ellen Bass\, Natalie Diaz\, and Mark Bibbins
DESCRIPTION:Bureau of General Services – Queer Division presents 2021 Publishing Triangle Awards Finalists Readings\, May 10 & May 11 at 7 PM – 9 PM EDT\, feat. Ellen Bass\, Natalie Diaz\, and Mark Bibbins \nFrom the organizers: \nThe Bureau is thrilled to host two nights of online readings by Publishing Triangle Awards finalists! \nOn Monday\, May 10\, and Tuesday\, May 11\, the Publishing Triangle will hold its seventh Finalists Reading (in two parts)\, featuring 17 nominees for the Publishing Triangle awards. This sterling batch of LGBT authors will read excerpts from their books\, which represent the best in LGBT writing published in 2020\, on the nights before our awards are announced. \nReadings begin at 7 PM EDT on both Monday\, May 10\, and Tuesday\, May 11. \nRegister here: https://www.eventbrite.com/e/2021-publishing-triangle-awards-finalists-readings-tickets-151232862563?aff=ebdssbeac
URL:https://www.coppercanyonpress.org/event/bureau-of-general-services-queer-division-presents-2021-publishing-triangle-awards-finalists-readings-feat-ellen-bass-natalie-diaz-and-mark-bibbins/
LOCATION:MD
CATEGORIES:Online
END:VEVENT
BEGIN:VEVENT
DTSTART;TZID=America/Los_Angeles:20210516T130000
DTEND;TZID=America/Los_Angeles:20210516T144500
DTSTAMP:20260422T151516
CREATED:20210414T171224Z
LAST-MODIFIED:20210414T171224Z
UID:6692-1621170000-1621176300@www.coppercanyonpress.org
SUMMARY:The S.H.E. Fund presents From Tribe and Fire feat. Ellen Bass
DESCRIPTION:The S.H.E. Fund presents\, May 16 at 1 PM PDT\, From Tribe and Fire feat. Ellen Bass \nFrom the organizers: \nJoin us for an inspirational event to uplift women’s voices and support the students of the Safe House Education (S.H.E.) Fund. This virtual event will feature poets Ellen Bass\, Naomi Shihab Nye\, Jane Hirshfield\, Marie Howe\, Danusha Laméris; musicians Jami Sieber\, Agu\, and Muthoni Drummer Queen; and the S.H.E. students themselves. Read more about the poets and musicians below. \nRegister here: https://www.flipcause.com/secure/event_step2/MTEwNDM5/106009
URL:https://www.coppercanyonpress.org/event/the-s-h-e-fund-presents-from-tribe-and-fire-feat-ellen-bass/
LOCATION:MD
CATEGORIES:Online
END:VEVENT
BEGIN:VEVENT
DTSTART;TZID=America/Los_Angeles:20210526T160000
DTEND;TZID=America/Los_Angeles:20210526T160000
DTSTAMP:20260422T151516
CREATED:20210520T230712Z
LAST-MODIFIED:20210520T230712Z
UID:6868-1622044800-1622044800@www.coppercanyonpress.org
SUMMARY:Red Hen Press presents NEH Reading and Conversation Series: Jason Schneiderman and Ellen Bass
DESCRIPTION:Red Hen Press presents\, May 26 at 4 PM PDT\, NEH Reading and Conversation Series: Jason Schneiderman and Ellen Bass \nFrom the organizers: \nContinuing our poetry lecture and conversation series are Jason Schneiderman and Ellen Bass\, moderated by Douglas Manuel\, on the queer voice in poetry\, and the topic of subverting the form\, and subverting the language in Formalist poetry. \nWatch here: https://www.facebook.com/events/874790966407292?acontext=%7B%22event_action_history%22%3A[%7B%22surface%22%3A%22page%22%7D]%7D
URL:https://www.coppercanyonpress.org/event/red-hen-press-presents-neh-reading-and-conversation-series-jason-schneiderman-and-ellen-bass/
LOCATION:MD
CATEGORIES:Online
END:VEVENT
END:VCALENDAR