BEGIN:VCALENDAR
VERSION:2.0
PRODID:-//Copper Canyon Press - ECPv6.15.16//NONSGML v1.0//EN
CALSCALE:GREGORIAN
METHOD:PUBLISH
X-ORIGINAL-URL:https://www.coppercanyonpress.org
X-WR-CALDESC:Events for Copper Canyon Press
REFRESH-INTERVAL;VALUE=DURATION:PT1H
X-Robots-Tag:noindex
X-PUBLISHED-TTL:PT1H
BEGIN:VTIMEZONE
TZID:Europe/Dublin
BEGIN:DAYLIGHT
TZOFFSETFROM:+0000
TZOFFSETTO:+0100
TZNAME:IST
DTSTART:20200329T010000
END:DAYLIGHT
BEGIN:STANDARD
TZOFFSETFROM:+0100
TZOFFSETTO:+0000
TZNAME:GMT
DTSTART:20201025T010000
END:STANDARD
BEGIN:DAYLIGHT
TZOFFSETFROM:+0000
TZOFFSETTO:+0100
TZNAME:IST
DTSTART:20210328T010000
END:DAYLIGHT
BEGIN:STANDARD
TZOFFSETFROM:+0100
TZOFFSETTO:+0000
TZNAME:GMT
DTSTART:20211031T010000
END:STANDARD
BEGIN:DAYLIGHT
TZOFFSETFROM:+0000
TZOFFSETTO:+0100
TZNAME:IST
DTSTART:20220327T010000
END:DAYLIGHT
BEGIN:STANDARD
TZOFFSETFROM:+0100
TZOFFSETTO:+0000
TZNAME:GMT
DTSTART:20221030T010000
END:STANDARD
END:VTIMEZONE
BEGIN:VEVENT
DTSTART;TZID=Europe/Dublin:20211111T200000
DTEND;TZID=Europe/Dublin:20211111T220000
DTSTAMP:20260421T163812
CREATED:20210730T193728Z
LAST-MODIFIED:20210730T193728Z
UID:7114-1636660800-1636668000@www.coppercanyonpress.org
SUMMARY:The Well Review presents “I\,” a poetry workshop session with tutor Ellen Bass
DESCRIPTION:In Cycle 3: The First Person\, a 2021 Poetry Cycle offered by The Well Review\, Ellen Bass will be a poetry workshop tutor during Session 2: “I” on November 11 from 8 to 10 p.m. (Irish Standard Time) via Zoom. \nFrom the organizers: \nCycle 3: The First Person (November) \n€300.00 \n\nSession One: The First Person and Reality\, Guest Speaker: Dr. Anil Seth \nSession Two: “I” Poetry Workshop\, Tutor: Ellen Bass \nSession Three: “Are we here yet?” Poetry Workshop Tutor: Sarah Byrne \nSession Four: Reflections and Group Reading \nAll sessions will take place live on Zoom Thursdays 8pm-10pm (Irish Standard Time). \nCycle Three: 4th\, 11th\, 18th\, 25th November 2021 \nAll cycles also include one 1:1 poetry surgery appointment with Sarah over Zoom \n\n\nOur new poetry cycles bring together professional poets\, scientists and practitioners and connect them with writers who are at any stage of their creative development. \nThe introductory and reflection sessions are led by Sarah Byrne and will include close readings\, writing exercises and craft conversations. Materials will be provided to all participants ahead of sessions. \nEach cycle (Sleep\, Childhood\, The First Person) will have two guests\, usually during the middle weeks. \nSleep: Dr. Robert Stickgold (Lecture & Q&A) and Mary-Jane Holmes (Interactive Poetry Workshop) \nChildhood: Eoghan Dalton (Lecture & Q&A) and Matthew Dickman (Interactive Poetry Workshop) \nThe First Person: Dr. Anil Seth (Lecture & Q&A) and Ellen Bass (Interactive Poetry Workshop) \nAll sessions will happen on Zoom. Places are limited to eight participants per cycle. You are welcome to register for more than one cycle. In addition to the four Zoom meetings\, you will also receive a 1:1 editorial session with Sarah Byrne during the course. \nCOURSE REGISTRATION & BREAKDOWN OF SESSIONS:  \nwww.thewellreview.com/well-review-poetry-cycles-2021-1 \nIf you have any questions\, please do not hesitate to contact us: info@thewellreview.com \n  \nEllen Bass’ poetry books include Indigo (Copper Canyon Press\, 2020)\, Like a Beggar (Copper Canyon\, 2014)\, The Human Line (Copper Canyon\, 2007)\, and Mules of Love (BOA\, 2002). She co-edited with Florence Howe the first major anthology of women’s poetry\, No More Masks! (Doubleday\, 1973). Her poems have frequently appeared in The New Yorker\, American Poetry Review\, and many other journals. Among her honours are Fellowships from The Guggenheim Foundation\, The National Endowment for the Arts and the California Arts Council\, The Lambda Literary Award\, and three Pushcart Prizes. Ellen is also co-author of The Courage to Heal: A Guide for Women Survivors of Child Sexual Abuse (Harper Collins\, 1988) and Free Your Mind: The Book for Gay\, Lesbian and Bisexual Youth and Their Allies (Harper Collins\, 1996). Ellen founded poetry workshops at Salinas Valley State Prison and at the Santa Cruz County jails\, and she teaches in the MFA program in writing at Pacific University. She is currently serving as a Chancellor of the Academy of American Poets. Ellen’s work was published in Issue One of The Well Review (2017). \nRegister here: https://www.thewellreview.com/well-review-poetry-cycles-2021-1/donate-35-m84yg-a6hgd
URL:https://www.coppercanyonpress.org/event/the-well-review-presents-i-a-poetry-workshop-session-with-tutor-ellen-bass/
LOCATION:MD
CATEGORIES:Online
END:VEVENT
END:VCALENDAR