BEGIN:VCALENDAR
VERSION:2.0
PRODID:-//Copper Canyon Press - ECPv6.15.16//NONSGML v1.0//EN
CALSCALE:GREGORIAN
METHOD:PUBLISH
X-ORIGINAL-URL:https://www.coppercanyonpress.org
X-WR-CALDESC:Events for Copper Canyon Press
REFRESH-INTERVAL;VALUE=DURATION:PT1H
X-Robots-Tag:noindex
X-PUBLISHED-TTL:PT1H
BEGIN:VTIMEZONE
TZID:America/Denver
BEGIN:DAYLIGHT
TZOFFSETFROM:-0700
TZOFFSETTO:-0600
TZNAME:MDT
DTSTART:20200308T090000
END:DAYLIGHT
BEGIN:STANDARD
TZOFFSETFROM:-0600
TZOFFSETTO:-0700
TZNAME:MST
DTSTART:20201101T080000
END:STANDARD
BEGIN:DAYLIGHT
TZOFFSETFROM:-0700
TZOFFSETTO:-0600
TZNAME:MDT
DTSTART:20210314T090000
END:DAYLIGHT
BEGIN:STANDARD
TZOFFSETFROM:-0600
TZOFFSETTO:-0700
TZNAME:MST
DTSTART:20211107T080000
END:STANDARD
BEGIN:DAYLIGHT
TZOFFSETFROM:-0700
TZOFFSETTO:-0600
TZNAME:MDT
DTSTART:20220313T090000
END:DAYLIGHT
BEGIN:STANDARD
TZOFFSETFROM:-0600
TZOFFSETTO:-0700
TZNAME:MST
DTSTART:20221106T080000
END:STANDARD
END:VTIMEZONE
BEGIN:VEVENT
DTSTART;TZID=America/Denver:20210309T180000
DTEND;TZID=America/Denver:20210309T180000
DTSTAMP:20260423T004403
CREATED:20210225T023308Z
LAST-MODIFIED:20210225T023307Z
UID:6475-1615312800-1615312800@www.coppercanyonpress.org
SUMMARY:Shyft presents Stubborn Praise: An Evening Celebrating Here and Now with Ellen Bass
DESCRIPTION:Shyft presents Stubborn Praise: An Evening Celebrating Here and Now\, March 9th at 6 PM MT\, with Ellen Bass \n  \nFrom the organizers: \nJoin us for a special edition of Stubborn Praise! Invite yourself to an evening of poetry that wholly meets the moment\, its losses and fears\, and helps us also to see small kindnesses\, stubborn blessings\, and renegade beauty. After the readings will be conversation harvested from questions and comments in Zoom chat. \nRegister here: https://us02web.zoom.us/webinar/register/WN_InhO9UERRQyv3HLmITTChw?timezone_id=America%2FDenver \n 
URL:https://www.coppercanyonpress.org/event/shyft-presents-stubborn-praise-an-evening-celebrating-here-and-now-with-ellen-bass/
LOCATION:MD
CATEGORIES:Online
END:VEVENT
END:VCALENDAR