BEGIN:VCALENDAR
VERSION:2.0
PRODID:-//Copper Canyon Press - ECPv6.15.16//NONSGML v1.0//EN
CALSCALE:GREGORIAN
METHOD:PUBLISH
X-ORIGINAL-URL:https://www.coppercanyonpress.org
X-WR-CALDESC:Events for Copper Canyon Press
REFRESH-INTERVAL;VALUE=DURATION:PT1H
X-Robots-Tag:noindex
X-PUBLISHED-TTL:PT1H
BEGIN:VTIMEZONE
TZID:America/Los_Angeles
BEGIN:DAYLIGHT
TZOFFSETFROM:-0800
TZOFFSETTO:-0700
TZNAME:PDT
DTSTART:20200308T100000
END:DAYLIGHT
BEGIN:STANDARD
TZOFFSETFROM:-0700
TZOFFSETTO:-0800
TZNAME:PST
DTSTART:20201101T090000
END:STANDARD
BEGIN:DAYLIGHT
TZOFFSETFROM:-0800
TZOFFSETTO:-0700
TZNAME:PDT
DTSTART:20210314T100000
END:DAYLIGHT
BEGIN:STANDARD
TZOFFSETFROM:-0700
TZOFFSETTO:-0800
TZNAME:PST
DTSTART:20211107T090000
END:STANDARD
BEGIN:DAYLIGHT
TZOFFSETFROM:-0800
TZOFFSETTO:-0700
TZNAME:PDT
DTSTART:20220313T100000
END:DAYLIGHT
BEGIN:STANDARD
TZOFFSETFROM:-0700
TZOFFSETTO:-0800
TZNAME:PST
DTSTART:20221106T090000
END:STANDARD
END:VTIMEZONE
BEGIN:VEVENT
DTSTART;TZID=America/Los_Angeles:20210526T160000
DTEND;TZID=America/Los_Angeles:20210526T160000
DTSTAMP:20260422T114113
CREATED:20210520T230712Z
LAST-MODIFIED:20210520T230712Z
UID:6868-1622044800-1622044800@www.coppercanyonpress.org
SUMMARY:Red Hen Press presents NEH Reading and Conversation Series: Jason Schneiderman and Ellen Bass
DESCRIPTION:Red Hen Press presents\, May 26 at 4 PM PDT\, NEH Reading and Conversation Series: Jason Schneiderman and Ellen Bass \nFrom the organizers: \nContinuing our poetry lecture and conversation series are Jason Schneiderman and Ellen Bass\, moderated by Douglas Manuel\, on the queer voice in poetry\, and the topic of subverting the form\, and subverting the language in Formalist poetry. \nWatch here: https://www.facebook.com/events/874790966407292?acontext=%7B%22event_action_history%22%3A[%7B%22surface%22%3A%22page%22%7D]%7D
URL:https://www.coppercanyonpress.org/event/red-hen-press-presents-neh-reading-and-conversation-series-jason-schneiderman-and-ellen-bass/
LOCATION:MD
CATEGORIES:Online
END:VEVENT
END:VCALENDAR