BEGIN:VCALENDAR
VERSION:2.0
PRODID:-//Copper Canyon Press - ECPv6.15.16//NONSGML v1.0//EN
CALSCALE:GREGORIAN
METHOD:PUBLISH
X-WR-CALNAME:Copper Canyon Press
X-ORIGINAL-URL:https://www.coppercanyonpress.org
X-WR-CALDESC:Events for Copper Canyon Press
REFRESH-INTERVAL;VALUE=DURATION:PT1H
X-Robots-Tag:noindex
X-PUBLISHED-TTL:PT1H
BEGIN:VTIMEZONE
TZID:America/Los_Angeles
BEGIN:DAYLIGHT
TZOFFSETFROM:-0800
TZOFFSETTO:-0700
TZNAME:PDT
DTSTART:20200308T100000
END:DAYLIGHT
BEGIN:STANDARD
TZOFFSETFROM:-0700
TZOFFSETTO:-0800
TZNAME:PST
DTSTART:20201101T090000
END:STANDARD
BEGIN:DAYLIGHT
TZOFFSETFROM:-0800
TZOFFSETTO:-0700
TZNAME:PDT
DTSTART:20210314T100000
END:DAYLIGHT
BEGIN:STANDARD
TZOFFSETFROM:-0700
TZOFFSETTO:-0800
TZNAME:PST
DTSTART:20211107T090000
END:STANDARD
BEGIN:DAYLIGHT
TZOFFSETFROM:-0800
TZOFFSETTO:-0700
TZNAME:PDT
DTSTART:20220313T100000
END:DAYLIGHT
BEGIN:STANDARD
TZOFFSETFROM:-0700
TZOFFSETTO:-0800
TZNAME:PST
DTSTART:20221106T090000
END:STANDARD
END:VTIMEZONE
BEGIN:VEVENT
DTSTART;TZID=America/Los_Angeles:20210607T140000
DTEND;TZID=America/Los_Angeles:20210611T183000
DTSTAMP:20260422T044613
CREATED:20210420T152412Z
LAST-MODIFIED:20210420T152412Z
UID:6714-1623074400-1623436200@www.coppercanyonpress.org
SUMMARY:Ellen Bass presents Truth & Beauty: An Online Writing Workshop
DESCRIPTION:Ellen Bass presents\, June 7-11\, Truth & Beauty: An Online Writing Workshop \nFrom the organizers: \nIf you want to encounter more truth in your poems\, to express it in the most beautiful way possible\, to craft poems that reflect the inextricable marriage of truth and beauty\, love and death\, the luminous and the ordinary\, please join us for this special workshop. \nWe will elude and distract the censors that silence or limit us. We’ll approach our experience from new angles to find the poem within the story. We’ll question the stories we think are true and experience the power of not-knowing and discovery. \nWe will write poems\, share our writing\, and hear what our work touches in others. We’ll also read model poems by contemporary poets and discuss aspects of the craft. But mainly this will be a writing retreat—time to explore and create in a supportive community. Though the focus is on poetry\, prose writers who want to enrich their language will find it a fertile environment. \nRegister here: https://www.ellenbass.com/product/truth-and-beauty-2021-online/
URL:https://www.coppercanyonpress.org/event/ellen-bass-presents-truth-beauty-an-online-writing-workshop/
LOCATION:MD
CATEGORIES:Online
END:VEVENT
END:VCALENDAR