BEGIN:VCALENDAR
VERSION:2.0
PRODID:-//Copper Canyon Press - ECPv6.15.16//NONSGML v1.0//EN
CALSCALE:GREGORIAN
METHOD:PUBLISH
X-WR-CALNAME:Copper Canyon Press
X-ORIGINAL-URL:https://www.coppercanyonpress.org
X-WR-CALDESC:Events for Copper Canyon Press
REFRESH-INTERVAL;VALUE=DURATION:PT1H
X-Robots-Tag:noindex
X-PUBLISHED-TTL:PT1H
BEGIN:VTIMEZONE
TZID:Europe/Dublin
BEGIN:DAYLIGHT
TZOFFSETFROM:+0000
TZOFFSETTO:+0100
TZNAME:IST
DTSTART:20200329T010000
END:DAYLIGHT
BEGIN:STANDARD
TZOFFSETFROM:+0100
TZOFFSETTO:+0000
TZNAME:GMT
DTSTART:20201025T010000
END:STANDARD
BEGIN:DAYLIGHT
TZOFFSETFROM:+0000
TZOFFSETTO:+0100
TZNAME:IST
DTSTART:20210328T010000
END:DAYLIGHT
BEGIN:STANDARD
TZOFFSETFROM:+0100
TZOFFSETTO:+0000
TZNAME:GMT
DTSTART:20211031T010000
END:STANDARD
BEGIN:DAYLIGHT
TZOFFSETFROM:+0000
TZOFFSETTO:+0100
TZNAME:IST
DTSTART:20220327T010000
END:DAYLIGHT
BEGIN:STANDARD
TZOFFSETFROM:+0100
TZOFFSETTO:+0000
TZNAME:GMT
DTSTART:20221030T010000
END:STANDARD
END:VTIMEZONE
BEGIN:VEVENT
DTSTART;TZID=Europe/Dublin:20210715T200000
DTEND;TZID=Europe/Dublin:20210715T210000
DTSTAMP:20260422T020054
CREATED:20210703T025727Z
LAST-MODIFIED:20210703T025727Z
UID:7039-1626379200-1626382800@www.coppercanyonpress.org
SUMMARY:West Cork Literary Festival presents Experiments in Empathy: Ellen Bass & Tom Moore
DESCRIPTION:West Cork Literary Festival presents Experiments in Empathy: Ellen Bass & Tom Moore\, on July 15 at 8 p.m. (GMT+1) (12 p.m. PDT). \nFrom the organizers: \nBut sometimes it’s too much to ask a person to inhabit the strange region of a foreign heart\n–‘Experiment in Empathy’ by Ellen Bass\, from Indigo (2020) \nLater that afternoon\, lonely and bored\, you thought you’d found the sweetness in humankind\n—‘Lab Rat’ by Tom Moore\, from Brother Adam (2020) \nPoetry has long been the bedfellow of beauty\, but how do the author and reader enter the world of the rat\, the tumour\, the criminal? In a society that has kept acutely separate this past year\, how does poetry narrow the gap between what we know and what we don’t? What does death feel like to the oyster\, desire to the celibate\, teeth to the apple? \nJoin us for this exploration of empathy\, nature and science with poets Ellen Bass\, Tom Moore and editor and criminologist\, Sarah Byrne. Ellen and Tom will read from their respective 2020 collections\, Indigo (Copper Canyon Press) and Brother Adam (Well Review Editions). \nRegister here: https://www.westcorkmusic.ie/events/2021/experiments-in-empathy-ellen-bass-tom-moore/
URL:https://www.coppercanyonpress.org/event/west-cork-literary-festival-presents-experiments-in-empathy-ellen-bass-tom-moore/
LOCATION:MD
CATEGORIES:Online
END:VEVENT
END:VCALENDAR