BEGIN:VCALENDAR
VERSION:2.0
PRODID:-//Copper Canyon Press - ECPv6.15.16//NONSGML v1.0//EN
CALSCALE:GREGORIAN
METHOD:PUBLISH
X-WR-CALNAME:Copper Canyon Press
X-ORIGINAL-URL:https://www.coppercanyonpress.org
X-WR-CALDESC:Events for Copper Canyon Press
REFRESH-INTERVAL;VALUE=DURATION:PT1H
X-Robots-Tag:noindex
X-PUBLISHED-TTL:PT1H
BEGIN:VTIMEZONE
TZID:America/New_York
BEGIN:DAYLIGHT
TZOFFSETFROM:-0500
TZOFFSETTO:-0400
TZNAME:EDT
DTSTART:20190310T070000
END:DAYLIGHT
BEGIN:STANDARD
TZOFFSETFROM:-0400
TZOFFSETTO:-0500
TZNAME:EST
DTSTART:20191103T060000
END:STANDARD
BEGIN:DAYLIGHT
TZOFFSETFROM:-0500
TZOFFSETTO:-0400
TZNAME:EDT
DTSTART:20200308T070000
END:DAYLIGHT
BEGIN:STANDARD
TZOFFSETFROM:-0400
TZOFFSETTO:-0500
TZNAME:EST
DTSTART:20201101T060000
END:STANDARD
BEGIN:DAYLIGHT
TZOFFSETFROM:-0500
TZOFFSETTO:-0400
TZNAME:EDT
DTSTART:20210314T070000
END:DAYLIGHT
BEGIN:STANDARD
TZOFFSETFROM:-0400
TZOFFSETTO:-0500
TZNAME:EST
DTSTART:20211107T060000
END:STANDARD
END:VTIMEZONE
BEGIN:VEVENT
DTSTART;TZID=America/New_York:20200726T190000
DTEND;TZID=America/New_York:20200726T203000
DTSTAMP:20260421T160937
CREATED:20200723T150514Z
LAST-MODIFIED:20200723T150835Z
UID:5668-1595790000-1595795400@www.coppercanyonpress.org
SUMMARY:[Rescheduled] Reading with Erin Belieu\, Mark Bibbins\, and Adrian Matejka
DESCRIPTION:Join us for a virtual poetry reading on Sunday July 26 at 7pm EDT. The featured readers will be Erin Belieu\, Mark Bibbins\, and Adrian Matejka. The event is free. Please register in advance at the link. \nRegister here: https://www.eventbrite.com/e/a-reading-series-7-erin-belieu-mark-bibbins-adrian-matejka-tickets-113858158818
URL:https://www.coppercanyonpress.org/event/rescheduled-reading-with-erin-belieu-mark-bibbins-and-adrian-matejka/
CATEGORIES:Online
END:VEVENT
END:VCALENDAR