BEGIN:VCALENDAR
VERSION:2.0
PRODID:-//Copper Canyon Press - ECPv6.15.16//NONSGML v1.0//EN
CALSCALE:GREGORIAN
METHOD:PUBLISH
X-ORIGINAL-URL:https://www.coppercanyonpress.org
X-WR-CALDESC:Events for Copper Canyon Press
REFRESH-INTERVAL;VALUE=DURATION:PT1H
X-Robots-Tag:noindex
X-PUBLISHED-TTL:PT1H
BEGIN:VTIMEZONE
TZID:America/Chicago
BEGIN:DAYLIGHT
TZOFFSETFROM:-0600
TZOFFSETTO:-0500
TZNAME:CDT
DTSTART:20200308T080000
END:DAYLIGHT
BEGIN:STANDARD
TZOFFSETFROM:-0500
TZOFFSETTO:-0600
TZNAME:CST
DTSTART:20201101T070000
END:STANDARD
BEGIN:DAYLIGHT
TZOFFSETFROM:-0600
TZOFFSETTO:-0500
TZNAME:CDT
DTSTART:20210314T080000
END:DAYLIGHT
BEGIN:STANDARD
TZOFFSETFROM:-0500
TZOFFSETTO:-0600
TZNAME:CST
DTSTART:20211107T070000
END:STANDARD
BEGIN:DAYLIGHT
TZOFFSETFROM:-0600
TZOFFSETTO:-0500
TZNAME:CDT
DTSTART:20220313T080000
END:DAYLIGHT
BEGIN:STANDARD
TZOFFSETFROM:-0500
TZOFFSETTO:-0600
TZNAME:CST
DTSTART:20221106T070000
END:STANDARD
END:VTIMEZONE
BEGIN:VTIMEZONE
TZID:America/New_York
BEGIN:DAYLIGHT
TZOFFSETFROM:-0500
TZOFFSETTO:-0400
TZNAME:EDT
DTSTART:20200308T070000
END:DAYLIGHT
BEGIN:STANDARD
TZOFFSETFROM:-0400
TZOFFSETTO:-0500
TZNAME:EST
DTSTART:20201101T060000
END:STANDARD
BEGIN:DAYLIGHT
TZOFFSETFROM:-0500
TZOFFSETTO:-0400
TZNAME:EDT
DTSTART:20210314T070000
END:DAYLIGHT
BEGIN:STANDARD
TZOFFSETFROM:-0400
TZOFFSETTO:-0500
TZNAME:EST
DTSTART:20211107T060000
END:STANDARD
BEGIN:DAYLIGHT
TZOFFSETFROM:-0500
TZOFFSETTO:-0400
TZNAME:EDT
DTSTART:20220313T070000
END:DAYLIGHT
BEGIN:STANDARD
TZOFFSETFROM:-0400
TZOFFSETTO:-0500
TZNAME:EST
DTSTART:20221106T060000
END:STANDARD
END:VTIMEZONE
BEGIN:VEVENT
DTSTART;TZID=America/Chicago:20210211T190000
DTEND;TZID=America/Chicago:20210211T200000
DTSTAMP:20260424T172244
CREATED:20210114T212828Z
LAST-MODIFIED:20210114T212828Z
UID:6260-1613070000-1613073600@www.coppercanyonpress.org
SUMMARY:Unbound Book Festival presents Poetry and Prayer\, feat. Jericho Brown
DESCRIPTION:From the organizers: \n“Featuring Jericho Brown\, Molly McCullly Brown\, Alicia Jo Rabins\, with moderator Rev. Molly Housh Gordon \nIf\, as Mary Oliver declared\, attention is the beginning of devotion\, then many poems are akin to prayer. But for those poets steeped in liturgical traditions or marked by celestial yearnings\, that connection is more direct. The poets on this panel will discuss poetry’s relationship to prayer\, as well as to other religious vocalizing\, such as chants\, hymns\, koans\, and mantras. Moreover\, they will consider poetry as a religion itself\, an unorthodox source of holiness and redemption.” \nAccess link forthcoming here: http://www.unboundbookfestival.com/poetry-and-prayer
URL:https://www.coppercanyonpress.org/event/unbound-book-festival-presents-poetry-and-prayer-feat-jericho-brown/
LOCATION:CA
CATEGORIES:Online
END:VEVENT
BEGIN:VEVENT
DTSTART;TZID=America/New_York:20210216T200000
DTEND;TZID=America/New_York:20210216T210000
DTSTAMP:20260424T172244
CREATED:20210112T161552Z
LAST-MODIFIED:20210112T161552Z
UID:6250-1613505600-1613509200@www.coppercanyonpress.org
SUMMARY:NBF Presents: Secrets of the South\, feat. Jericho Brown\, Tayari Jones\, and Deesha Philyaw
DESCRIPTION:From the organizers: \n“Join National Book Award–honored authors Jericho Brown (The Tradition\, 2019 Poetry Finalist)\, Tayari Jones (An American Marriage\, 2018 Fiction Longlist)\, and Deesha Philyaw (The Secret Lives of Church Ladies\, 2020 Fiction Finalist) for a conversation on Southern literature and how Black writers are redefining stereotypes of the South\, one poem\, story\, and secret at a time. Moderated by Kiese Laymon\, author of\, most recently\, Heavy: An American Memoir.” \nStreaming here: https://www.youtube.com/channel/UCKjAJDxQwyrObh-ph3OZtng
URL:https://www.coppercanyonpress.org/event/nbf-presents-secrets-of-the-south-feat-jericho-brown-tayari-jones-and-deesha-philyaw/
LOCATION:CA
CATEGORIES:Online
END:VEVENT
BEGIN:VEVENT
DTSTART;TZID=America/New_York:20210222T160000
DTEND;TZID=America/New_York:20210222T173000
DTSTAMP:20260424T172244
CREATED:20210209T201132Z
LAST-MODIFIED:20210209T201132Z
UID:6410-1614009600-1614015000@www.coppercanyonpress.org
SUMMARY:Emory University presents Faculty Showcase feat. Jericho Brown & others
DESCRIPTION:Emory University presents Faculty Showcase feat. Jericho Brown & others \nFrom the organizers: \nJoin the Office of the Provost in celebrating Black History Month through the extraordinary research\, creativity\, and diversity of Emory’s faculty. Sponsored by the Office of Faculty Affairs\, the event features the poetry of Professor Jericho Brown and offers interactive engagement with new faculty from across the campus and disciplines\, ranging from the humanities to the social and natural sciences. \nRegister here: https://docs.google.com/forms/d/e/1FAIpQLSdwXv67qKIyLih7kDVxNTd1Mu0fgU8E38Ezel2LmsoAqB4PzA/viewform
URL:https://www.coppercanyonpress.org/event/emory-university-presents-faculty-showcase-feat-jericho-brown-others/
LOCATION:CA
CATEGORIES:Online
END:VEVENT
END:VCALENDAR