BEGIN:VCALENDAR
VERSION:2.0
PRODID:-//Copper Canyon Press - ECPv6.15.16//NONSGML v1.0//EN
CALSCALE:GREGORIAN
METHOD:PUBLISH
X-WR-CALNAME:Copper Canyon Press
X-ORIGINAL-URL:https://www.coppercanyonpress.org
X-WR-CALDESC:Events for Copper Canyon Press
REFRESH-INTERVAL;VALUE=DURATION:PT1H
X-Robots-Tag:noindex
X-PUBLISHED-TTL:PT1H
BEGIN:VTIMEZONE
TZID:America/New_York
BEGIN:DAYLIGHT
TZOFFSETFROM:-0500
TZOFFSETTO:-0400
TZNAME:EDT
DTSTART:20210314T070000
END:DAYLIGHT
BEGIN:STANDARD
TZOFFSETFROM:-0400
TZOFFSETTO:-0500
TZNAME:EST
DTSTART:20211107T060000
END:STANDARD
BEGIN:DAYLIGHT
TZOFFSETFROM:-0500
TZOFFSETTO:-0400
TZNAME:EDT
DTSTART:20220313T070000
END:DAYLIGHT
BEGIN:STANDARD
TZOFFSETFROM:-0400
TZOFFSETTO:-0500
TZNAME:EST
DTSTART:20221106T060000
END:STANDARD
BEGIN:DAYLIGHT
TZOFFSETFROM:-0500
TZOFFSETTO:-0400
TZNAME:EDT
DTSTART:20230312T070000
END:DAYLIGHT
BEGIN:STANDARD
TZOFFSETFROM:-0400
TZOFFSETTO:-0500
TZNAME:EST
DTSTART:20231105T060000
END:STANDARD
END:VTIMEZONE
BEGIN:VEVENT
DTSTART;TZID=America/New_York:20220827T190000
DTEND;TZID=America/New_York:20220827T220000
DTSTAMP:20260421T143448
CREATED:20220517T142319Z
LAST-MODIFIED:20220517T142319Z
UID:7935-1661626800-1661637600@www.coppercanyonpress.org
SUMMARY:Silo City Reading Series featuring Jericho Brown
DESCRIPTION:Silo City Reading Series featuring Jericho Brown \nFrom the organizer: \nJoin us for the season finale of the 2022 SILO CITY READING SERIES featuring poetry from Jericho Brown and JBLC Poetry Fellow TBA\, a musical performance by Florist\, and an installation by Johann Diedrick.
URL:https://www.coppercanyonpress.org/event/silo-city-reading-series-featuring-jericho-brown/
LOCATION:Silo City\, 85 Silo City Row\, Buffalo\, NY\, 14203\, United States
CATEGORIES:In Person
END:VEVENT
END:VCALENDAR