BEGIN:VCALENDAR
VERSION:2.0
PRODID:-//Copper Canyon Press - ECPv6.15.16//NONSGML v1.0//EN
CALSCALE:GREGORIAN
METHOD:PUBLISH
X-ORIGINAL-URL:https://www.coppercanyonpress.org
X-WR-CALDESC:Events for Copper Canyon Press
REFRESH-INTERVAL;VALUE=DURATION:PT1H
X-Robots-Tag:noindex
X-PUBLISHED-TTL:PT1H
BEGIN:VTIMEZONE
TZID:America/New_York
BEGIN:DAYLIGHT
TZOFFSETFROM:-0500
TZOFFSETTO:-0400
TZNAME:EDT
DTSTART:20200308T070000
END:DAYLIGHT
BEGIN:STANDARD
TZOFFSETFROM:-0400
TZOFFSETTO:-0500
TZNAME:EST
DTSTART:20201101T060000
END:STANDARD
BEGIN:DAYLIGHT
TZOFFSETFROM:-0500
TZOFFSETTO:-0400
TZNAME:EDT
DTSTART:20210314T070000
END:DAYLIGHT
BEGIN:STANDARD
TZOFFSETFROM:-0400
TZOFFSETTO:-0500
TZNAME:EST
DTSTART:20211107T060000
END:STANDARD
BEGIN:DAYLIGHT
TZOFFSETFROM:-0500
TZOFFSETTO:-0400
TZNAME:EDT
DTSTART:20220313T070000
END:DAYLIGHT
BEGIN:STANDARD
TZOFFSETFROM:-0400
TZOFFSETTO:-0500
TZNAME:EST
DTSTART:20221106T060000
END:STANDARD
END:VTIMEZONE
BEGIN:VEVENT
DTSTART;TZID=America/New_York:20210304T190000
DTEND;TZID=America/New_York:20210304T190000
DTSTAMP:20260424T062112
CREATED:20210218T201609Z
LAST-MODIFIED:20210218T202609Z
UID:6450-1614884400-1614884400@www.coppercanyonpress.org
SUMMARY:TYR presents Writing in an Age of Crisis with Jericho Brown
DESCRIPTION:TYR presents Writing in an Age of Crisis\, March 4 at 7 PM EST with Jericho Brown \nFrom the organizers: \nAs part of a new series on craft\, “TYR Talks\,” the 2020 Pulitzer Prize winner will read and talk about the craft of writing poetry—and his current work—with Meghan O’Rourke and Roger Reeves of The Yale Review. \nRegister here: https://docs.google.com/forms/d/15QtYsqGmR8JvMwkmG4lak7DyzL7zek0PiIaUxFF4_VQ/viewform?edit_requested=true&gxids=7628
URL:https://www.coppercanyonpress.org/event/tyr-presents-writing-in-an-age-of-crisis-with-jericho-brown/
LOCATION:CA
CATEGORIES:Online
END:VEVENT
END:VCALENDAR