BEGIN:VCALENDAR
VERSION:2.0
PRODID:-//Copper Canyon Press - ECPv6.15.16//NONSGML v1.0//EN
CALSCALE:GREGORIAN
METHOD:PUBLISH
X-ORIGINAL-URL:https://www.coppercanyonpress.org
X-WR-CALDESC:Events for Copper Canyon Press
REFRESH-INTERVAL;VALUE=DURATION:PT1H
X-Robots-Tag:noindex
X-PUBLISHED-TTL:PT1H
BEGIN:VTIMEZONE
TZID:America/Los_Angeles
BEGIN:DAYLIGHT
TZOFFSETFROM:-0800
TZOFFSETTO:-0700
TZNAME:PDT
DTSTART:20200308T100000
END:DAYLIGHT
BEGIN:STANDARD
TZOFFSETFROM:-0700
TZOFFSETTO:-0800
TZNAME:PST
DTSTART:20201101T090000
END:STANDARD
BEGIN:DAYLIGHT
TZOFFSETFROM:-0800
TZOFFSETTO:-0700
TZNAME:PDT
DTSTART:20210314T100000
END:DAYLIGHT
BEGIN:STANDARD
TZOFFSETFROM:-0700
TZOFFSETTO:-0800
TZNAME:PST
DTSTART:20211107T090000
END:STANDARD
BEGIN:DAYLIGHT
TZOFFSETFROM:-0800
TZOFFSETTO:-0700
TZNAME:PDT
DTSTART:20220313T100000
END:DAYLIGHT
BEGIN:STANDARD
TZOFFSETFROM:-0700
TZOFFSETTO:-0800
TZNAME:PST
DTSTART:20221106T090000
END:STANDARD
END:VTIMEZONE
BEGIN:VEVENT
DTSTART;TZID=America/Los_Angeles:20210608T080000
DTEND;TZID=America/Los_Angeles:20210608T170000
DTSTAMP:20260423T203414
CREATED:20210608T155016Z
LAST-MODIFIED:20210608T155016Z
UID:6957-1623139200-1623171600@www.coppercanyonpress.org
SUMMARY:Hennepin Avenue UMC presents An Evening with Jericho Brown
DESCRIPTION:Hennepin Avenue UMC presents\, June 19 at 6 PM – 8 PM CDT\,  An Evening with Jericho Brown \nFrom the organizers: \nThere are two ways to attend. This is a hybrid event\, with registered tickets available for in-person or virtual attendance. \nIn-person Attendance ($20) \nExperience Jericho in person\, with reserved\, socially-distanced seating for 150 in the beautiful HAUMC building. *Face masks required. Doors open at 5:30pm. For more information about Hennepin Avenue UMC’s COVID-19 in-person event protocols and procedures visit: haumc.org/covid-19 \nVirtual Attendance ($10) \nVirtual attendees will receive a Zoom link and instructions on the day of the event via email. Please be sure to check your email and spam folders regularly. \nRegister here: https://www.eventbrite.com/e/an-evening-with-jericho-brown-tickets-154294158983
URL:https://www.coppercanyonpress.org/event/hennepin-avenue-umc-presents-an-evening-with-jericho-brown/
LOCATION:Hennepin Avenue United Methodist Church\, 511 Groveland Ave\, Minneapolis\, MN\, 55403\, United States
CATEGORIES:Online
END:VEVENT
END:VCALENDAR