BEGIN:VCALENDAR
VERSION:2.0
PRODID:-//Copper Canyon Press - ECPv6.15.16//NONSGML v1.0//EN
CALSCALE:GREGORIAN
METHOD:PUBLISH
X-WR-CALNAME:Copper Canyon Press
X-ORIGINAL-URL:https://www.coppercanyonpress.org
X-WR-CALDESC:Events for Copper Canyon Press
REFRESH-INTERVAL;VALUE=DURATION:PT1H
X-Robots-Tag:noindex
X-PUBLISHED-TTL:PT1H
BEGIN:VTIMEZONE
TZID:America/New_York
BEGIN:DAYLIGHT
TZOFFSETFROM:-0500
TZOFFSETTO:-0400
TZNAME:EDT
DTSTART:20200308T070000
END:DAYLIGHT
BEGIN:STANDARD
TZOFFSETFROM:-0400
TZOFFSETTO:-0500
TZNAME:EST
DTSTART:20201101T060000
END:STANDARD
BEGIN:DAYLIGHT
TZOFFSETFROM:-0500
TZOFFSETTO:-0400
TZNAME:EDT
DTSTART:20210314T070000
END:DAYLIGHT
BEGIN:STANDARD
TZOFFSETFROM:-0400
TZOFFSETTO:-0500
TZNAME:EST
DTSTART:20211107T060000
END:STANDARD
BEGIN:DAYLIGHT
TZOFFSETFROM:-0500
TZOFFSETTO:-0400
TZNAME:EDT
DTSTART:20220313T070000
END:DAYLIGHT
BEGIN:STANDARD
TZOFFSETFROM:-0400
TZOFFSETTO:-0500
TZNAME:EST
DTSTART:20221106T060000
END:STANDARD
END:VTIMEZONE
BEGIN:VEVENT
DTSTART;TZID=America/New_York:20210609T193000
DTEND;TZID=America/New_York:20210609T210000
DTSTAMP:20260423T204714
CREATED:20210605T222950Z
LAST-MODIFIED:20210605T223040Z
UID:6937-1623267000-1623272400@www.coppercanyonpress.org
SUMMARY:One Book\, One Philadelphia presents Re-Creating a New World: One Book Finale with Jericho Brown
DESCRIPTION:One Book\, One Philadelphia presents\, June 9 at 7:30 PM – 9 PM EDT\,  Re-Creating a New World: One Book Finale with Jericho Brown \nFrom the organizers: \nJoin us to celebrate a season of discussing The Tradition. Following a reading and conversation with One Book\, One Philadelphia 2021 author\, Jericho Brown\, and Philadelphia poet Ursula Rucker\, we’ll listen to an intergenerational panel discuss what it means to re-create our world. \nPanelists include Sonia Sanchez and Yolanda Wisher\, both former Philadelphia Poet Laureates; Sheyla Street\, a Central High School student\, activist\, varsity athlete\, and co-founder of the Philly Black Students Alliance; and Kemar Jewel\, an Afro-Queer international director and choreographer. \nPanelists will discuss how knowledge of our history informs how we collectively reimagine our society\, and how we organize around the issues we see today combined with all the lessons we have inherited from the past. The conversation will address how we effectively create new traditions together for a new world. \nRegistrants will receive a Zoom event link. \nRegister here: https://www.eventbrite.com/e/re-creating-a-new-world-one-book-finale-with-jericho-brown-tickets-141923285367?aff=estw&utm-campaign=social&utm-content=attendeeshare&utm-medium=discovery&utm-source=tw&utm-term=listing
URL:https://www.coppercanyonpress.org/event/one-book-one-philadelphia-presents-re-creating-a-new-world-one-book-finale-with-jericho-brown/
LOCATION:CA
END:VEVENT
END:VCALENDAR