BEGIN:VCALENDAR
VERSION:2.0
PRODID:-//Copper Canyon Press - ECPv6.15.16//NONSGML v1.0//EN
CALSCALE:GREGORIAN
METHOD:PUBLISH
X-WR-CALNAME:Copper Canyon Press
X-ORIGINAL-URL:https://www.coppercanyonpress.org
X-WR-CALDESC:Events for Copper Canyon Press
REFRESH-INTERVAL;VALUE=DURATION:PT1H
X-Robots-Tag:noindex
X-PUBLISHED-TTL:PT1H
BEGIN:VTIMEZONE
TZID:America/New_York
BEGIN:DAYLIGHT
TZOFFSETFROM:-0500
TZOFFSETTO:-0400
TZNAME:EDT
DTSTART:20200308T070000
END:DAYLIGHT
BEGIN:STANDARD
TZOFFSETFROM:-0400
TZOFFSETTO:-0500
TZNAME:EST
DTSTART:20201101T060000
END:STANDARD
BEGIN:DAYLIGHT
TZOFFSETFROM:-0500
TZOFFSETTO:-0400
TZNAME:EDT
DTSTART:20210314T070000
END:DAYLIGHT
BEGIN:STANDARD
TZOFFSETFROM:-0400
TZOFFSETTO:-0500
TZNAME:EST
DTSTART:20211107T060000
END:STANDARD
BEGIN:DAYLIGHT
TZOFFSETFROM:-0500
TZOFFSETTO:-0400
TZNAME:EDT
DTSTART:20220313T070000
END:DAYLIGHT
BEGIN:STANDARD
TZOFFSETFROM:-0400
TZOFFSETTO:-0500
TZNAME:EST
DTSTART:20221106T060000
END:STANDARD
END:VTIMEZONE
BEGIN:VEVENT
DTSTART;TZID=America/New_York:20210821T110000
DTEND;TZID=America/New_York:20210821T120000
DTSTAMP:20260423T204150
CREATED:20210703T024507Z
LAST-MODIFIED:20210703T024507Z
UID:7038-1629543600-1629547200@www.coppercanyonpress.org
SUMMARY:Bread Loaf Writers’ Conference presents "The New Made New: Revisiting to Stephen Henderson" with Jericho Brown
DESCRIPTION:Middlebury Bread Loaf Writers’ Conference presents “The New Made New: Revisiting to Stephen Henderson\,” a virtual lecture by Jericho Brown on Aug. 21 at 11 a.m. (EDT). \nFrom the organizers: \nJoin us for “The New Made New: Revisiting to Stephen Henderson\,” with Jericho Brown. \nFinancial aid is available for the Lecture Series; contact us for more information at blwc@middlebury.edu. \nRegister here: https://www.crowdcast.io/e/BLWC_Rekdal/register
URL:https://www.coppercanyonpress.org/event/bread-loaf-writers-conference-presents-the-new-made-new-revisiting-to-stephen-henderson-with-jericho-brown/
LOCATION:CA
CATEGORIES:Online
END:VEVENT
END:VCALENDAR