BEGIN:VCALENDAR
VERSION:2.0
PRODID:-//Copper Canyon Press - ECPv6.15.16//NONSGML v1.0//EN
CALSCALE:GREGORIAN
METHOD:PUBLISH
X-WR-CALNAME:Copper Canyon Press
X-ORIGINAL-URL:https://www.coppercanyonpress.org
X-WR-CALDESC:Events for Copper Canyon Press
REFRESH-INTERVAL;VALUE=DURATION:PT1H
X-Robots-Tag:noindex
X-PUBLISHED-TTL:PT1H
BEGIN:VTIMEZONE
TZID:America/Los_Angeles
BEGIN:DAYLIGHT
TZOFFSETFROM:-0800
TZOFFSETTO:-0700
TZNAME:PDT
DTSTART:20200308T100000
END:DAYLIGHT
BEGIN:STANDARD
TZOFFSETFROM:-0700
TZOFFSETTO:-0800
TZNAME:PST
DTSTART:20201101T090000
END:STANDARD
BEGIN:DAYLIGHT
TZOFFSETFROM:-0800
TZOFFSETTO:-0700
TZNAME:PDT
DTSTART:20210314T100000
END:DAYLIGHT
BEGIN:STANDARD
TZOFFSETFROM:-0700
TZOFFSETTO:-0800
TZNAME:PST
DTSTART:20211107T090000
END:STANDARD
BEGIN:DAYLIGHT
TZOFFSETFROM:-0800
TZOFFSETTO:-0700
TZNAME:PDT
DTSTART:20220313T100000
END:DAYLIGHT
BEGIN:STANDARD
TZOFFSETFROM:-0700
TZOFFSETTO:-0800
TZNAME:PST
DTSTART:20221106T090000
END:STANDARD
END:VTIMEZONE
BEGIN:VEVENT
DTSTART;TZID=America/Los_Angeles:20210420T120000
DTEND;TZID=America/Los_Angeles:20210420T120000
DTSTAMP:20260421T025242
CREATED:20210420T145420Z
LAST-MODIFIED:20210420T145420Z
UID:6710-1618920000-1618920000@www.coppercanyonpress.org
SUMMARY:Scripps College presents @Noon: 21st-Century Indigenous Poets feat. Sherwin Bitsui
DESCRIPTION:Scripps College presents @Noon: 21st-Century Indigenous Poets\, April 20 at 12 PM PDT\, feat. Sherwin Bitsui \nFrom the organizers: \nIn celebration of National Poetry Month\, join Sherwin Bitsui\, Santee Frazier\, and this spring’s Mary Routt Chair in Creative Writing\, Joan Naviyuk Kane\, for a reading and discussion of their work. \nRegister here: https://www.eventbrite.com/e/noon-21st-century-indigenous-poets-tickets-149179474825
URL:https://www.coppercanyonpress.org/event/scripps-college-presents-noon-21st-century-indigenous-poets-feat-sherwin-bitsui/
CATEGORIES:Online
END:VEVENT
END:VCALENDAR