BEGIN:VCALENDAR
VERSION:2.0
PRODID:-//Copper Canyon Press - ECPv6.15.16//NONSGML v1.0//EN
CALSCALE:GREGORIAN
METHOD:PUBLISH
X-WR-CALNAME:Copper Canyon Press
X-ORIGINAL-URL:https://www.coppercanyonpress.org
X-WR-CALDESC:Events for Copper Canyon Press
REFRESH-INTERVAL;VALUE=DURATION:PT1H
X-Robots-Tag:noindex
X-PUBLISHED-TTL:PT1H
BEGIN:VTIMEZONE
TZID:Europe/Dublin
BEGIN:DAYLIGHT
TZOFFSETFROM:+0000
TZOFFSETTO:+0100
TZNAME:IST
DTSTART:20200329T010000
END:DAYLIGHT
BEGIN:STANDARD
TZOFFSETFROM:+0100
TZOFFSETTO:+0000
TZNAME:GMT
DTSTART:20201025T010000
END:STANDARD
BEGIN:DAYLIGHT
TZOFFSETFROM:+0000
TZOFFSETTO:+0100
TZNAME:IST
DTSTART:20210328T010000
END:DAYLIGHT
BEGIN:STANDARD
TZOFFSETFROM:+0100
TZOFFSETTO:+0000
TZNAME:GMT
DTSTART:20211031T010000
END:STANDARD
BEGIN:DAYLIGHT
TZOFFSETFROM:+0000
TZOFFSETTO:+0100
TZNAME:IST
DTSTART:20220327T010000
END:DAYLIGHT
BEGIN:STANDARD
TZOFFSETFROM:+0100
TZOFFSETTO:+0000
TZNAME:GMT
DTSTART:20221030T010000
END:STANDARD
END:VTIMEZONE
BEGIN:VEVENT
DTSTART;TZID=Europe/Dublin:20210327T110000
DTEND;TZID=Europe/Dublin:20210327T110000
DTSTAMP:20260421T192335
CREATED:20210312T165316Z
LAST-MODIFIED:20210312T165316Z
UID:6539-1616842800-1616842800@www.coppercanyonpress.org
SUMMARY:Mountains to Sea dlr Book Festival presents Two Poets with Tishani Doshi
DESCRIPTION:Mountains to Sea dlr Book Festival presents\, March 27th at 11 AM GMT\, Two Poets with Tishani Doshi \nFrom the organizers: \nWe meet two poets at the height of their powers\, former Ireland Professor of Poetry Paula Meehan for an exploration of her generous collection of selected poems As If By Magic and Tishani Doshi with her new collection A God at the Door. Paula is one of Ireland’s most distinctive poetic voices\, her uncompromising engagement with the politics of gender and class\, her love of the natural world and her grief at what threatens it\, her holistic and visionary impulses to be grateful for her place in creation are hallmarks of her work. Tishani Doshi’s work likewise bestows power on the powerless\, deploys beauty to bear trauma and enables the voices of the oppressed to be heard with piercing clarity. Tishani has been described as ‘a witty\, wise and clear-eyed novelist\, dancer and poet’  who ‘deploys both range and sharp analysis covering issues from the precarious state of the environment to the treatment of women’ in her new collection A God at the Door. \nRegister here: https://www.crowdcast.io/e/two-poets/register
URL:https://www.coppercanyonpress.org/event/mountains-to-sea-dlr-book-festival-presents-two-poets-with-tishani-doshi/
LOCATION:IL
CATEGORIES:Online
END:VEVENT
END:VCALENDAR