BEGIN:VCALENDAR
VERSION:2.0
PRODID:-//Copper Canyon Press - ECPv6.15.16//NONSGML v1.0//EN
CALSCALE:GREGORIAN
METHOD:PUBLISH
X-WR-CALNAME:Copper Canyon Press
X-ORIGINAL-URL:https://www.coppercanyonpress.org
X-WR-CALDESC:Events for Copper Canyon Press
REFRESH-INTERVAL;VALUE=DURATION:PT1H
X-Robots-Tag:noindex
X-PUBLISHED-TTL:PT1H
BEGIN:VTIMEZONE
TZID:America/New_York
BEGIN:DAYLIGHT
TZOFFSETFROM:-0500
TZOFFSETTO:-0400
TZNAME:EDT
DTSTART:20200308T070000
END:DAYLIGHT
BEGIN:STANDARD
TZOFFSETFROM:-0400
TZOFFSETTO:-0500
TZNAME:EST
DTSTART:20201101T060000
END:STANDARD
BEGIN:DAYLIGHT
TZOFFSETFROM:-0500
TZOFFSETTO:-0400
TZNAME:EDT
DTSTART:20210314T070000
END:DAYLIGHT
BEGIN:STANDARD
TZOFFSETFROM:-0400
TZOFFSETTO:-0500
TZNAME:EST
DTSTART:20211107T060000
END:STANDARD
BEGIN:DAYLIGHT
TZOFFSETFROM:-0500
TZOFFSETTO:-0400
TZNAME:EDT
DTSTART:20220313T070000
END:DAYLIGHT
BEGIN:STANDARD
TZOFFSETFROM:-0400
TZOFFSETTO:-0500
TZNAME:EST
DTSTART:20221106T060000
END:STANDARD
END:VTIMEZONE
BEGIN:VTIMEZONE
TZID:Europe/Dublin
BEGIN:DAYLIGHT
TZOFFSETFROM:+0000
TZOFFSETTO:+0100
TZNAME:IST
DTSTART:20200329T010000
END:DAYLIGHT
BEGIN:STANDARD
TZOFFSETFROM:+0100
TZOFFSETTO:+0000
TZNAME:GMT
DTSTART:20201025T010000
END:STANDARD
BEGIN:DAYLIGHT
TZOFFSETFROM:+0000
TZOFFSETTO:+0100
TZNAME:IST
DTSTART:20210328T010000
END:DAYLIGHT
BEGIN:STANDARD
TZOFFSETFROM:+0100
TZOFFSETTO:+0000
TZNAME:GMT
DTSTART:20211031T010000
END:STANDARD
BEGIN:DAYLIGHT
TZOFFSETFROM:+0000
TZOFFSETTO:+0100
TZNAME:IST
DTSTART:20220327T010000
END:DAYLIGHT
BEGIN:STANDARD
TZOFFSETFROM:+0100
TZOFFSETTO:+0000
TZNAME:GMT
DTSTART:20221030T010000
END:STANDARD
END:VTIMEZONE
BEGIN:VTIMEZONE
TZID:Europe/London
BEGIN:DAYLIGHT
TZOFFSETFROM:+0000
TZOFFSETTO:+0100
TZNAME:BST
DTSTART:20200329T010000
END:DAYLIGHT
BEGIN:STANDARD
TZOFFSETFROM:+0100
TZOFFSETTO:+0000
TZNAME:GMT
DTSTART:20201025T010000
END:STANDARD
BEGIN:DAYLIGHT
TZOFFSETFROM:+0000
TZOFFSETTO:+0100
TZNAME:BST
DTSTART:20210328T010000
END:DAYLIGHT
BEGIN:STANDARD
TZOFFSETFROM:+0100
TZOFFSETTO:+0000
TZNAME:GMT
DTSTART:20211031T010000
END:STANDARD
BEGIN:DAYLIGHT
TZOFFSETFROM:+0000
TZOFFSETTO:+0100
TZNAME:BST
DTSTART:20220327T010000
END:DAYLIGHT
BEGIN:STANDARD
TZOFFSETFROM:+0100
TZOFFSETTO:+0000
TZNAME:GMT
DTSTART:20221030T010000
END:STANDARD
END:VTIMEZONE
BEGIN:VEVENT
DTSTART;TZID=America/New_York:20210408T130000
DTEND;TZID=America/New_York:20210411T170000
DTSTAMP:20260421T163148
CREATED:20210312T171401Z
LAST-MODIFIED:20210312T171401Z
UID:6541-1617886800-1618160400@www.coppercanyonpress.org
SUMMARY:Sarah Lawrence College presents 2021 SLC Poetry Festival with Tishani Doshi and Dana Levin
DESCRIPTION:Sarah Lawrence College presents 2021 SLC Poetry Festival\, April 8 – 11\, with Tishani Doshi & Dana Levin \nFrom the organizers: \nThe co-directors of the 18th annual Sarah Lawrence College Poetry Festival are thrilled to announce that the festival will be taking place April 8–11\, 2021\, and for the first time ever\, virtually! This past year has brought a lot of changes to how we share and connect\, but we are looking forward to using all we’ve learned to come together and celebrate contemporary poetry and poets as a community. Mark your calendars for a remarkable event you won’t want to miss! \nThe Sarah Lawrence College Poetry Festival is the largest open\, student-run Poetry Festival in NY\, and since 2003\, we have been dedicated to the celebration of contemporary poetry and the creation of community around the art form. Previously\, we have welcomed poets such as Anne Carson\, Nicole Sealy\, Jos Charles\, Eduardo Corral\, and many others. Our festival includes readings\, panel discussions\, generative sessions\, craft talks\, and more! We hope to see you there. \nAccess link will appear here: https://www.sarahlawrence.edu/writing-mfa/poetry-festival.html
URL:https://www.coppercanyonpress.org/event/sarah-lawrence-college-presents-2021-slc-poetry-festival-with-tishani-doshi-and-dana-levin/
LOCATION:IL
CATEGORIES:Online
END:VEVENT
BEGIN:VEVENT
DTSTART;TZID=Europe/Dublin:20210415T120000
DTEND;TZID=Europe/Dublin:20210418T170000
DTSTAMP:20260421T163149
CREATED:20210312T212600Z
LAST-MODIFIED:20210312T212642Z
UID:6543-1618488000-1618765200@www.coppercanyonpress.org
SUMMARY:Seren Cardiff Poetry Festival presents Tishani Doshi
DESCRIPTION:Seren Cardiff Poetry Festival presents\, April 15 – 18 GMT \, Tishani Doshi \nFrom the organizers: \nIt feels like a lifetime since we hosted our 2020 festival in the Temple of Peace last February. At the time\, as Storm Denis raged outside\, none of us knew what we would face in the coming months. Now we are looking ahead to the Seren Cardiff Poetry Festival 2021 which we are delighted to announce will take place online from Thursday 15 – Sunday 18 April 2021. \nThe festival team are currently working on another fantastic programme showcasing both new and established voices and featuring some of the world’s best poets and artists. \nLike many festivals\, we have had to adapt to a new virtual world. Our 2021 programme will be entirely digital and to make it accessible for everyone\, all of our main events (excluding workshops) will be free. \nFestival Director Amy Wack says she is “Really looking forward to this poetry-packed celebration in April 2021!” We hope you are too! \nAccess link will appear here: https://cardiffpoetryfestival.com/2021/01/18/seren-cardiff-poetry-festival-returns-april-2021/
URL:https://www.coppercanyonpress.org/event/seren-cardiff-poetry-festival-presents-tishani-doshi/
LOCATION:IL
CATEGORIES:Online
END:VEVENT
BEGIN:VEVENT
DTSTART;TZID=Europe/Dublin:20210421T170000
DTEND;TZID=Europe/Dublin:20210421T170000
DTSTAMP:20260421T163149
CREATED:20210312T213515Z
LAST-MODIFIED:20210312T213646Z
UID:6546-1619024400-1619024400@www.coppercanyonpress.org
SUMMARY:Cuirt International Festival of Literature presents Conversations on Craft with Tishani Doshi
DESCRIPTION:Cuirt International Festival of Literature presents Conversations on Craft\, April 21 at 5 PM GMT\, with Tishani Doshi \nFrom the organizers: \nCúirt presents Conversations on Craft\, a series of events to exercise the formal muscles of new and emerging writers at every stage of their development. A series of webinars with live Q&As\, these events will see contemporary Irish writers take a forensic look at how some of the world’s best writers make their craft sing. These focused\, illuminating discussions on form\, structure and the creative process are not to be missed. \nRegister here: https://www.eventbrite.ie/e/conversations-on-craft-tishani-doshi-with-jess-traynor-tickets-144887455279
URL:https://www.coppercanyonpress.org/event/cuirt-international-festival-of-literature-presents-conversations-on-craft-with-tishani-doshi/
LOCATION:IL
CATEGORIES:Online
END:VEVENT
BEGIN:VEVENT
DTSTART;TZID=Europe/London:20210422T190000
DTEND;TZID=Europe/London:20210422T190000
DTSTAMP:20260421T163149
CREATED:20210312T214716Z
LAST-MODIFIED:20210312T214716Z
UID:6548-1619118000-1619118000@www.coppercanyonpress.org
SUMMARY:Bloodaxe Books presents Poetry Online with Tishani Doshi
DESCRIPTION:Bloodaxe Books presents Poetry Online\, April 22 at 7 PM\, with Tishani Doshi \nFrom the organizers: \n7pm Free launch event on YouTube Live with Dom Bury and Jenna Clake. Hosted by Neil Astley\, editor of Bloodaxe Books. \n  \nWatch here: https://www.youtube.com/channel/UCBrXaZ0wUw7JwdfrAvAbTUg
URL:https://www.coppercanyonpress.org/event/bloodaxe-books-presents-poetry-online-with-tishani-doshi/
LOCATION:IL
CATEGORIES:Online
END:VEVENT
END:VCALENDAR